BEGIN:VCALENDAR
VERSION:2.0
PRODID:-//Ling Gui International Healing Qigong School - ECPv6.15.20//NONSGML v1.0//EN
CALSCALE:GREGORIAN
METHOD:PUBLISH
X-ORIGINAL-URL:https://linggui.org
X-WR-CALDESC:Events for Ling Gui International Healing Qigong School
REFRESH-INTERVAL;VALUE=DURATION:PT1H
X-Robots-Tag:noindex
X-PUBLISHED-TTL:PT1H
BEGIN:VTIMEZONE
TZID:America/Los_Angeles
BEGIN:DAYLIGHT
TZOFFSETFROM:-0800
TZOFFSETTO:-0700
TZNAME:PDT
DTSTART:20240310T100000
END:DAYLIGHT
BEGIN:STANDARD
TZOFFSETFROM:-0700
TZOFFSETTO:-0800
TZNAME:PST
DTSTART:20241103T090000
END:STANDARD
BEGIN:DAYLIGHT
TZOFFSETFROM:-0800
TZOFFSETTO:-0700
TZNAME:PDT
DTSTART:20250309T100000
END:DAYLIGHT
BEGIN:STANDARD
TZOFFSETFROM:-0700
TZOFFSETTO:-0800
TZNAME:PST
DTSTART:20251102T090000
END:STANDARD
BEGIN:DAYLIGHT
TZOFFSETFROM:-0800
TZOFFSETTO:-0700
TZNAME:PDT
DTSTART:20260308T100000
END:DAYLIGHT
BEGIN:STANDARD
TZOFFSETFROM:-0700
TZOFFSETTO:-0800
TZNAME:PST
DTSTART:20261101T090000
END:STANDARD
END:VTIMEZONE
BEGIN:VEVENT
DTSTART;VALUE=DATE:20250913
DTEND;VALUE=DATE:20250915
DTSTAMP:20260421T102410
CREATED:20250524T032713Z
LAST-MODIFIED:20250707T204606Z
UID:8955-1757721600-1757894399@linggui.org
SUMMARY:Qigong for Immunity and Transforming the Seven Po with Dr. Liu Dong - Livestream
DESCRIPTION:Rooted in Shamanic Daoist Qigong traditions\, Bai Hu Qigong\, also known as White Tiger Qigong\, is a powerful system rooted in the ancient Shamanic Daoist Qigong traditions. This practice focuses on cultivating vital energy and promoting self-healing through specific movements\, breathwork\, and mental focus. It emphasizes the health and well-being of the Lung and Kidney systems.\n \n\nCore Focus: Lungs and Kidneys\n \n\nBai Hu Qigong works directly with the Lung and Kidney meridians\, which are essential for overall health and vitality. \n\nLungs: Governs Wei Qi (defensive energy)\, respiration\, and immunity.\nKidneys: Stores Jing (essence)\, controls the urinary and reproductive systems\, and influences bone health.\n\n\nBy harmonizing these systems\, Bai Hu Qigong can address a wide range of health concerns.\n \n\nBenefits of Bai Hu Qigong:\n \n\nProstate health\nUrinary system support\nReproductive system health\nAddressing infertility\nStress reduction\nTransform Anxiety\nTransform Depression\n\n\n\nBai Hu Qigong in the Fall Season\n \nThe Fall season is particularly suited for practicing Bai Hu Qigong. This is because the Fall season is associated with the Lung system in Traditional Chinese Medicine. Practicing White Tiger Qigong during this time helps to: \n\nStimulate Wei Qi: Strengthens the body’s defensive energy\, making you less susceptible to colds and flu.\nReinforce Immunity: Supports a healthy immune system to fight off infections.\nAwaken Qi Emission: Enhances the body’s natural ability to release stagnant energy and promote healing.\n\n\nGolden Flower Alchemical Practice: \nIn essence\, it involves cultivating inner light through meditation\, specific breathing techniques\, and visualization. By focusing inward\, practitioners aim to: \n\nIlluminate the mind\nRefine their essence\nAchieve spiritual enlightenment\nFind inner peace and harmony\n\n\nThe ‘Golden Flower’ represents the blossoming of one’s true potential and the realization of inner wisdom. Through consistent practice\, individuals can unlock their innate healing abilities and cultivate a deeper connection to themselves and the universe. \nDATES:\n\nSaturday\, September 13\, 2025 & Sunday\, September 14\, 2025 \n  \n\nTimes: \n7:00am-10:00am & 11:00am-1:00pm Pacific\n\n\nTuition: $245 \n\nEnroll below with the payment buttons or mail in a check (see below).\nAll tuition fees once paid are non-refundable\, they are transferable to another workshop/class/retreat with a $35 transfer fee.\n\n\n\nIf Paying by Check: Download the Registration Form and enclose it with a check.  \nPlease email to advise us that you are mailing a check. Thank you. \n\nEnroll Here $245 \nNational Certification Commission for Acupuncture and Oriental Medicine: 10 PDAs are approved through NCCAOM for licensed acupuncturists in the PE-CW category. Others who need CEUs may receive the certificates; however\, you will need to check with your licensing board if they will accept them. You must attend live (in real-time online) to receive the PDAs.\n\n\n\nWhen properly practiced Qigong\, it is extremely beneficial and presents minimal risk to one’s health; please consult your physician if you doubt your capabilities or have particular health concerns.This class is suited to:  Acupuncturists\, Massage Therapists\, Chiropractors\, Qigong Instructors\, Yoga Instructors\, Martial Arts Instructors\, Reiki Practitioners\,  and other professionals. No prerequisites are needed.
URL:https://linggui.org/course/qigong-for-immunity-and-transforming-the-seven-po-with-dr-liu-dong-livestream/
CATEGORIES:Online,Qigong,Seasonal Class
END:VEVENT
BEGIN:VEVENT
DTSTART;TZID=America/Los_Angeles:20250921T090000
DTEND;TZID=America/Los_Angeles:20250921T143000
DTSTAMP:20260421T102410
CREATED:20250510T002403Z
LAST-MODIFIED:20251002T203628Z
UID:8913-1758445200-1758465000@linggui.org
SUMMARY:"Digestive Taiji" The Daoist Art of Effortless Nourishment with Master Liu He - Livestream
DESCRIPTION:PURCHASE RECORDED CLASS AND HAVE ACCESS FOR 4 WEEKS!\nPURCHASE HERE $195\n  \nIn Daoist medicine\, the digestive system is revered as the Earth Element—the sacred cauldron where food alchemizes into Qi (energy) and Jing (essence). When digestion falters\, the body becomes burdened with stagnation\, dampness\, and fatigue\, while the mind and emotions grow clouded—a struggle magnified in today’s fast-paced world. \nTo restore Taiji—the dynamic balance of Yin and Yang—within digestion\, we must harmonize the Spleen (Earth\, Yin) and Stomach (Yang\, active transformation)\, allowing them to resume their natural rhythm. \n1. Cultivating Central Taiji: Spleen & Stomach Synergy \n2. Strengthening Taiji By Awakening the Digestive Fire \n3. Mantra: “My digestion flows like the Yellow River—steady\, strong\, and nourishing.” \n4. Invoking the Tiger Stellar Earth Spirits \nIn Daoist astrology\, the Tiger’s Stomach Lunar Mansion (e.g.\, Stomach\, SP) governs digestion. Aligning meals/mindfulness with these cycles deepens harmony. \n“The Stomach is the sea of nourishment; the Spleen\, the minister of transformation. When Taiji reigns\, digestion becomes effortless—a gentle stream feeding the body\, mind\, and spirit.” \nWhat you will learn: \n\n\nFORM:  qigong form for your personal practice\, this allows for self-healing and the ability to connect with qi and transmit\nTHEORY:  Chinese Medicine\, Daoist Medicine (pertaining to the season\, form\, meridians\, acupoints)\nPHILOSOPHY:  Qigong philosophy\, lifestyle practices – what is most beneficial for the season in regard to daily living\nEach class varies and may also contain:\nNutritional practices – what is most beneficial to align with the seasonal Qi\nFeng Shui/Astrology – utilizing the Qi associated with the year or season\, Master Liu He provides practices to work with the Qi at a specific time\n\nWhen enrolling\, you will receive: \n\nZoom Class Link for the real-time (live) online class\nClass recording link to view for 4 weeks\nLecture Slide presentation link to download post-class\nFront-row seat in your own home\nQi Transmission in your own home from Master Liu He\n\nCourse Dates & Times:  \nSunday\, September 21\, 2025\nTime: 9am – 12:30pm & 1-2:30pm\, Pacific (5 hours) \nTuition: $195 \nThis course is taught in English. \nIf Paying by Check: Download the Registration Form (with this link) and enclose it with a check.\nPlease email to advise us that you are mailing a check. Thank you. \nPurchase recording here $195  \nAll tuition fees\, once paid\, are non-refundable; they are transferable to another workshop/class/retreat with a $35 transfer fee. \nENROLL IN this class and  FALL CLASS SERIES for $499 ($95 tuition savings). Read more here.\nEnroll Here $499 \n  \n\nNational Certification Commission for Acupuncture and Oriental Medicine: 5 PDAs are approved through NCCAOM for licensed acupuncturists in the PE-CW category. Others who need CEUs may receive the certificates; however\, you will need to check with your licensing board if they will accept them. You must attend live (in real-time online) to receive the PDAs. \n\nCourse Participant Attestation\nI understand that the information in this course presented by the Provider and/or Instructor(s) is for educational purposes only and should only be applied with appropriate clinical judgment and used by a trained and licensed practitioner. Governmental laws and regulations vary from region to region and the contents of this course vary in permissible usage. The participant is required to check their local\, state\, and federal laws and regulations regarding the practice requirements and scope of practice issues and the use of the information of this course including\, but not limited to\, theory\, herbal medicine\, and acupuncture. I acknowledge that NCCAOM does not endorse any specific treatment regimens of any kind. Furthermore\, if I use any modalities or treatments taught in this course\, I agree to waive\, release\, indemnify\, discharge\, and covenant not to sue NCCAOM from and against any liability\, claims\, demands\, or causes of action whatsoever\, arising out of any injury\, loss\, or damage that a person may sustain related to the use of the information in this course. I understand that this Release is governed by the laws of District of Columbia\, U.S.A. and shall survive the termination or expiration of this course.\n \n\n\nWhen Qigong is properly practiced\, it is extremely beneficial and presents minimal risk to one’s health\, please consult your physician if you are in doubt of your capabilities or have special health concerns. \nThis class suited to: Acupuncturists\, Massage Therapists\, Chiropractors\, Qigong Instructors\, Yoga Instructors\, Martial Arts Instructors\, Reiki Practitioners\, and other professionals. No prerequisites are needed.
URL:https://linggui.org/course/digestive-taiji-the-daoist-art-of-effortless-nourishment-with-master-liu-he-livestream/
CATEGORIES:Astrology,Feng Shui,Online,Qigong,Seasonal Class,Yi Jing
END:VEVENT
BEGIN:VEVENT
DTSTART;TZID=America/Los_Angeles:20250924T103000
DTEND;TZID=America/Los_Angeles:20251105T001500
DTSTAMP:20260421T102410
CREATED:20250512T205123Z
LAST-MODIFIED:20250512T210240Z
UID:8922-1758709800-1762301700@linggui.org
SUMMARY:Qigong et Astrologie des Six Étoiles de la Grande Ourse du Sud avec Maître Liu He via zoom
DESCRIPTION:Cours Hebdomadaires\nDate: September 24 Oct1\,8\,15\,22\,29\,Nov 5 \nHoraires: 1h45 chaque cours \nMercredi de 19h30 à 21h15 (horaires de l’Europe) \nQigong et Astrologie des Six Étoiles de la Grande Ourse du Sud \nComment L’Ourse du Sud influence-t-elle votre vie ? \nLes « Six Étoiles de la Grande Ourse du Sud» se trouvent à l’est de la Voie lactée\, au nord-est de Jisu\, la septième constellation du Dragon de l’Est. Les trois autres constellations cardinales sont l’Oiseau Vermillon du Sud\, le Tigre Blanc de l’Ouest et la Tortue Noire du Nord. Les étoiles proches de l’écliptique sont divisées en vingt-huit groupes de constellations. \nLes « Six Étoiles de la Grande Ourse du Sud» appartiennent à la constellation du Sagittaire\, connue sous le nom de « Dou Su ». \nLe Dou Su fait partie des Vingt-Huit Demeures\, qui représentent la résidence du Soleil\, de la Lune et des étoiles. La Lune décrit une orbite autour de la Terre. Si l’on prend la Lune comme référence\, le temps qu’elle met pour revenir à la même position après une orbite complète est de 27\,33 jours\, ce qui correspond à un mois sidéral. L’ensemble d’étoiles où se trouve la Lune chaque jour est considéré comme son « hôtel »\, l’endroit où elle se repose. \nChaque étoile de la constellation de l’Ourse du Sud émet une lumière unique\, formant une constellation pleine d’énergie protectrice. L’étoile de l’Ourse du Sud\, également appelée « Étoile de l’Empereur »\, est la plus haute autorité dans le domaine céleste et est chargée de la bonne fortune\, de la longévité et de la santé. L’Ourse du Sud est aussi une constellation majeure dans l’astrologie ancienne. Les astrologues prédisent l’avenir en observant sa position et son mouvement. Ces groupes d’étoiles peuvent transmettre l’énergie positive de l’Univers vers le monde humain\, apportant ainsi des bénédictions. \nRejoignez Maître Liu He dans ce NOUVEAU THÈME DE COURS ! Embarquez pour un voyage à travers l’espace\, en marchant au sein de la Grande Ourse du Sud ! \nCe que vous apprendrez :\n\nFORME : Une routine de qigong pour votre pratique personnelle\, favorisant l’auto-guérison et la connexion avec le Qi.\nTHÉORIE : Médecine chinoise et médecine taoïste (en lien avec la saison\, la forme\, les méridiens et les points d’acupuncture).\nPHILOSOPHIE : Philosophie du qigong et pratiques de vie – ce qui est le plus bénéfique selon la saison.\n\n\nEn vous inscrivant\, vous recevrez :\n\nUn lien Zoom pour participer au cours en direct.\nUn enregistrement du cours accessible pendant 2 semaines.\nUne place au premier rang depuis chez vous.\nUne transmission de Qi à distance par Maître Liu He.\n\nPlongez dans cette expérience unique et harmonisez-vous avec les énergies célestes ! \nSix Étoiles de la Grande Ourse du Sud €275.00 EUR \n***Offre spéciale : 350 Euros : cours hebdomadaire + Yin Yang Bazi
URL:https://linggui.org/course/qigong-et-astrologie-des-six-etoiles-de-la-grande-ourse-du-sud-avec-maitre-liu-he-via-zoom/
CATEGORIES:Astrology,French,Homepage,Online,Qigong
END:VEVENT
BEGIN:VEVENT
DTSTART;TZID=America/Los_Angeles:20250928T100000
DTEND;TZID=America/Los_Angeles:20251109T120000
DTSTAMP:20260421T102410
CREATED:20250510T003355Z
LAST-MODIFIED:20250707T204504Z
UID:8915-1759053600-1762689600@linggui.org
SUMMARY:"Qi Men Dun Jia Secrets" Harnessing Metal Qi for Lung Vitality with Master Liu He - Livestream
DESCRIPTION:In the ancient art of Qi Men Dun Jia\, true power emerges when celestial timing merges with your personal energy field. The Lungs—governed by the Metal element  in Traditional Chinese Medicine—thrive when aligned with specific cosmic codes. You can fortify Lung energy\, enhance immunity\, and harmonize your Qi by activating auspicious directions\, timings\, and esoteric practices. \n1. Sacred Directions & Gates: The Metal Matrix \nThe Lungs resonate with: \n\nHeavenly Stems: Geng and Xin  (celestial Metal energies)\nQi Men Gates:\nOpen Gate  – Ignites Lung vitality and dynamic Qi flow\nRest Gate  – Deepens restoration and energetic nourishment\n\n2. Celestial Timing: Syncing with Metal’s Power \n3. Esoteric Activation: Mantras\, Mudras \n4. The Open Gate Ritual: A Portal to Lung Revitalization \n5. The Ultimate Lung Elixir: Talisman & Yi Jing Numerology \n“When Qi Men’s celestial mechanics align with your breath\, the Lungs become an unshakable fortress of Qi.” \n\nWhat you will learn: \n\n\nFORM:  qigong form for your personal practice\, this allows for self-healing and the ability to connect with qi and transmit\nTHEORY:  Chinese Medicine\, Daoist Medicine (pertaining to the season\, form\, meridians\, acupoints)\nPHILOSOPHY:  Qigong philosophy\, lifestyle practices – what is most beneficial for the season in regard to daily living\nEach class varies and may also contain:\nNutritional practices – what is most beneficial to align with the seasonal Qi\nFeng Shui/Astrology – utilizing the Qi associated with the year or season\, Master Liu He provides practices to work with the Qi at a specific time\n\nWhen enrolling\, you will receive: \n\nZoom Class Link for the real-time (live) online class\nClass recording link to view for 4 weeks\nLecture Slide presentation link to download post-class\nFront-row seat in your own home\nQi Transmission in your own home from Master Liu He\n\nCourse Dates & Times: Sundays: September 28\, Oct 5\, 12\, 19\, 26\, Nov 2\, & 9\, 2025\nTime: 10am – 12pm\, Pacific (14 hours) \nTuition: $399 \nThis course is taught in English. \nIf Paying by Check: Download the Registration Form (with this link) and enclose it with a check.\nPlease email to advise us that you are mailing a check. Thank you. \nEnroll Here $399 \nAll tuition fees\, once paid\, are non-refundable; they are transferable to another workshop/class/retreat with a $35 transfer fee. \n\n\n\n\nENROLL IN this class and “Digestive Taiji”The Daoist Art of Effortless Nourishment for $499 ($95 tuition savings). Read more here.\nEnroll Here $499 \n\n\n\n\n\n\nNational Certification Commission for Acupuncture and Oriental Medicine: 2 PDAs (for each class totaling 14) are approved through NCCAOM for licensed acupuncturists in the PE-CW category. Others who need CEUs may receive the certificates; however\, you will need to check with your licensing board if they will accept them. You must attend live (in real-time online) to receive the PDAs. \n\nCourse Participant Attestation\nI understand that the information in this course presented by the Provider and/or Instructor(s) is for educational purposes only and should only be applied with appropriate clinical judgment and used by a trained and licensed practitioner. Governmental laws and regulations vary from region to region and the contents of this course vary in permissible usage. The participant is required to check their local\, state\, and federal laws and regulations regarding the practice requirements and scope of practice issues and the use of the information of this course including\, but not limited to\, theory\, herbal medicine\, and acupuncture. I acknowledge that NCCAOM does not endorse any specific treatment regimens of any kind. Furthermore\, if I use any modalities or treatments taught in this course\, I agree to waive\, release\, indemnify\, discharge\, and covenant not to sue NCCAOM from and against any liability\, claims\, demands\, or causes of action whatsoever\, arising out of any injury\, loss\, or damage that a person may sustain related to the use of the information in this course. I understand that this Release is governed by the laws of District of Columbia\, U.S.A. and shall survive the termination or expiration of this course.\n \n\n\nWhen Qigong is properly practiced\, it is extremely beneficial and presents minimal risk to one’s health\, please consult your physician if you are in doubt of your capabilities or have special health concerns. \nThis class suited to: Acupuncturists\, Massage Therapists\, Chiropractors\, Qigong Instructors\, Yoga Instructors\, Martial Arts Instructors\, Reiki Practitioners\, and other professionals. No prerequisites are needed. \n\n\n\n\n\n\n\n 
URL:https://linggui.org/course/qi-men-dun-jia-secrets-harnessing-metal-qi-for-lung-vitality-with-master-liu-he-livestream/
CATEGORIES:Astrology,Feng Shui,Online,Qi Men Dun Jia,Qigong,Seasonal Class,Yi Jing
END:VEVENT
END:VCALENDAR