BEGIN:VCALENDAR
VERSION:2.0
PRODID:-//Ling Gui International Healing Qigong School - ECPv6.15.20//NONSGML v1.0//EN
CALSCALE:GREGORIAN
METHOD:PUBLISH
X-WR-CALNAME:Ling Gui International Healing Qigong School
X-ORIGINAL-URL:https://linggui.org
X-WR-CALDESC:Events for Ling Gui International Healing Qigong School
REFRESH-INTERVAL;VALUE=DURATION:PT1H
X-Robots-Tag:noindex
X-PUBLISHED-TTL:PT1H
BEGIN:VTIMEZONE
TZID:America/Los_Angeles
BEGIN:DAYLIGHT
TZOFFSETFROM:-0800
TZOFFSETTO:-0700
TZNAME:PDT
DTSTART:20240310T100000
END:DAYLIGHT
BEGIN:STANDARD
TZOFFSETFROM:-0700
TZOFFSETTO:-0800
TZNAME:PST
DTSTART:20241103T090000
END:STANDARD
BEGIN:DAYLIGHT
TZOFFSETFROM:-0800
TZOFFSETTO:-0700
TZNAME:PDT
DTSTART:20250309T100000
END:DAYLIGHT
BEGIN:STANDARD
TZOFFSETFROM:-0700
TZOFFSETTO:-0800
TZNAME:PST
DTSTART:20251102T090000
END:STANDARD
BEGIN:DAYLIGHT
TZOFFSETFROM:-0800
TZOFFSETTO:-0700
TZNAME:PDT
DTSTART:20260308T100000
END:DAYLIGHT
BEGIN:STANDARD
TZOFFSETFROM:-0700
TZOFFSETTO:-0800
TZNAME:PST
DTSTART:20261101T090000
END:STANDARD
END:VTIMEZONE
BEGIN:VEVENT
DTSTART;VALUE=DATE:20250412
DTEND;VALUE=DATE:20250414
DTSTAMP:20260421T191741
CREATED:20241103T012536Z
LAST-MODIFIED:20250424T183653Z
UID:8593-1744416000-1744588799@linggui.org
SUMMARY:Daoist Five Thunder Power with Master Liu He - Livestream
DESCRIPTION:RECORDING AVAILABLE FOR PURCHASE – Access for Four Weeks \nPurchase Recording Here $299 \nDaoist Five Thunder Power belongs to ancient Daoist practices developed in the 13-14th centuries. \nThis practice applies to self-healing and to others for physical\, emotional\, mental health\,  and karma. It is also used for protection and clearing negative and evil influences. \nThe FIVE THUNDERS foundation is found in Wood and supports the liver system.  There is also Fire Thunder\, Earth Thunder\, Metal Thunder\, and Water Thunder. \nThis course uses mudras\, mantras\, and mind (intention) to teach the powerful Five Thunder methods. \nThunder method 1: healing physical/emotional/mental health and removing evil Qi \nThunder method 2: releasing bad luck and negative karma \nThunder method 3: harmonizing relationships with family and others \nThunder method 4: request Celestial support/assistance \nThunder method 5: attracting beneficial work and wealth \nAdditionally\, you will learn to draw a FIVE THUNDER TALISMAN \nWhat you will learn: \n\n\nFORM:  qigong form for your practice; this allows for self-healing and the ability to connect with qi and transmit\nTHEORY:  Chinese Medicine\, Daoist Medicine (about the season\, form\, meridians\, acupoints)\nPHILOSOPHY:  Qigong philosophy\, lifestyle practices – what is most beneficial for the season regarding daily living\nEach class varies and may also contain:\nNutritional practices – what is most helpful to align with the seasonal Qi\nFeng Shui/Astrology – utilizing the Qi associated with the year or season\, Master Liu He provides practices to work with the Qi at a specific time\n\nWhen enrolling\, you will receive:  \n\nZoom Class Link for the real-time (live) online class\nClass recording link to view for four weeks\nLecture Slide presentation link to download post-class\nFront-row seat in your own home\nQi Transmission in your own home from Master Liu He\n\n\nCourse Dates and Times: \nApril 12/13\, 2025\nHours: 9:30 to 1 pm and 1:30 to 3:30 pm Pacific (11 hours) \nTuition:  \n$299 for the 11-Hour Course \nThis course is taught in English. \n\nEnroll below with the payment buttons or mail in a check (see below).\nAll tuition fees once paid are non-refundable\, they are transferable to another workshop/class/retreat with a $35 transfer fee.\n\nIf Paying by Check: Download Registration Form and enclose with check.  Please email to advise us that you are mailing a check. Thank you.  \nENROLL HERE $299 \n\n\n  \n  \n\n\nNational Certification Commission for Acupuncture and Oriental Medicine: 11 PDAs are approved through NCCAOM for licensed acupuncturists in the PE-CW category. Others who need CEUs may receive the certificates; however\, you will need to check with your licensing board if they will accept them. You must attend live (in real-time online) to receive the PDAs. \nWhen properly practiced Qigong\, it is extremely beneficial and presents minimal risk to one’s health; please consult your physician if you doubt your capabilities or have particular health concerns. \nThis class is suited to:  Acupuncturists\, Massage Therapists\, Chiropractors\, Qigong Instructors\, Yoga Instructors\, Martial Arts Instructors\, Reiki Practitioners\,  and other professionals. No prerequisites are needed. \n\n\n 
URL:https://linggui.org/course/daoist-five-thunder-power-with-master-liu-he-livestream/
CATEGORIES:Astrology,Feng Shui,Online,Qigong,Recording Only,Yi Jing
END:VEVENT
BEGIN:VEVENT
DTSTART;TZID=America/Los_Angeles:20250419T093000
DTEND;TZID=America/Los_Angeles:20250419T150000
DTSTAMP:20260421T191741
CREATED:20241103T012814Z
LAST-MODIFIED:20250424T184018Z
UID:8590-1745055000-1745074800@linggui.org
SUMMARY:Qi Men Six Palm Divination with Master Liu He - Livestream
DESCRIPTION:RECORDING AVAILABLE FOR PURCHASE – Access for four weeks\nPurchase Recording Here $199 \nA 5\,000-year-old Chinese metaphysical practice\, Qi Men Dun Jia is an ancient system once used by Emperors and imperial astrology advisers. Its key strength is analyzing the energy of the current space and time. \nQi Men Dun Jia includes a variety of ways to perform divination. In this course\, you will learn a method using your palm to connect with universal energies to determine your divination. The palm will be the object that opens the communication. \nUsing the palm is a unique divination method and is easily accessible. By incorporating essential elements such as yin yang\, five elements\, ba gua\, six phases\, and nine stars\, you will learn to access the depths of metaphysical wisdom. \n  \n  \nWhat you will learn: \n\n\nFORM:  qigong form for your practice; this allows for self-healing and the ability to connect with qi and transmit\nTHEORY:  Chinese Medicine\, Daoist Medicine (about the season\, form\, meridians\, acupoints)\nPHILOSOPHY:  Qigong philosophy\, lifestyle practices – what is most beneficial for the season regarding daily living\nEach class varies and may also contain:\nNutritional practices – what is most helpful to align with the seasonal Qi\nFeng Shui/Astrology – utilizing the Qi associated with the year or season\, Master Liu He provides practices to work with the Qi at a specific time\n\nWhen enrolling\, you will receive:  \n\nZoom Class Link for the real-time (live) online class\nClass recording link to view for four weeks\nLecture Slide presentation link to download post-class\nFront-row seat in your own home\nQi Transmission in your own home from Master Liu He\n\n\nSaturday\, April 19\, 2025 (5 hours)\nHours: 9:30am-1pm and 1:30pm to 3pm Pacific \nTuition:  \n$199 for the 5-Hour Course \nThis course is taught in English.  \n\nEnroll below with the payment buttons or mail in a check (see below).\nAll tuition fees once paid are non-refundable\, they are transferable to another workshop/class/retreat with a $35 transfer fee.\n\nIf Paying by Check: Download Registration Form and enclose with check.  Please email to advise us that you are mailing a check. Thank you.  \n\n\n  \n  \n\n\nNational Certification Commission for Acupuncture and Oriental Medicine: 5 PDAs are approved through NCCAOM for licensed acupuncturists in the PE-CW category. Others who need CEUs may receive the certificates; however\, you will need to check with your licensing board if they will accept them. You must attend live (in real-time online) to receive the PDAs. \nWhen properly practiced Qigong\, it is extremely beneficial and presents minimal risk to one’s health; please consult your physician if you doubt your capabilities or have particular health concerns. \nThis class is suited to:  Acupuncturists\, Massage Therapists\, Chiropractors\, Qigong Instructors\, Yoga Instructors\, Martial Arts Instructors\, Reiki Practitioners\,  and other professionals. No prerequisites are needed.
URL:https://linggui.org/course/qi-men-six-palm-divination-with-master-liu-he-livestream/
CATEGORIES:Astrology,Feng Shui,Online,Qigong,Recording Only,Yi Jing
END:VEVENT
END:VCALENDAR