BEGIN:VCALENDAR
VERSION:2.0
PRODID:-//Ling Gui International Healing Qigong School - ECPv6.15.20//NONSGML v1.0//EN
CALSCALE:GREGORIAN
METHOD:PUBLISH
X-WR-CALNAME:Ling Gui International Healing Qigong School
X-ORIGINAL-URL:https://linggui.org
X-WR-CALDESC:Events for Ling Gui International Healing Qigong School
REFRESH-INTERVAL;VALUE=DURATION:PT1H
X-Robots-Tag:noindex
X-PUBLISHED-TTL:PT1H
BEGIN:VTIMEZONE
TZID:America/Los_Angeles
BEGIN:DAYLIGHT
TZOFFSETFROM:-0800
TZOFFSETTO:-0700
TZNAME:PDT
DTSTART:20240310T100000
END:DAYLIGHT
BEGIN:STANDARD
TZOFFSETFROM:-0700
TZOFFSETTO:-0800
TZNAME:PST
DTSTART:20241103T090000
END:STANDARD
BEGIN:DAYLIGHT
TZOFFSETFROM:-0800
TZOFFSETTO:-0700
TZNAME:PDT
DTSTART:20250309T100000
END:DAYLIGHT
BEGIN:STANDARD
TZOFFSETFROM:-0700
TZOFFSETTO:-0800
TZNAME:PST
DTSTART:20251102T090000
END:STANDARD
BEGIN:DAYLIGHT
TZOFFSETFROM:-0800
TZOFFSETTO:-0700
TZNAME:PDT
DTSTART:20260308T100000
END:DAYLIGHT
BEGIN:STANDARD
TZOFFSETFROM:-0700
TZOFFSETTO:-0800
TZNAME:PST
DTSTART:20261101T090000
END:STANDARD
END:VTIMEZONE
BEGIN:VEVENT
DTSTART;TZID=America/Los_Angeles:20250921T090000
DTEND;TZID=America/Los_Angeles:20250921T143000
DTSTAMP:20260421T185710
CREATED:20250510T002403Z
LAST-MODIFIED:20251002T203628Z
UID:8913-1758445200-1758465000@linggui.org
SUMMARY:"Digestive Taiji" The Daoist Art of Effortless Nourishment with Master Liu He - Livestream
DESCRIPTION:PURCHASE RECORDED CLASS AND HAVE ACCESS FOR 4 WEEKS!\nPURCHASE HERE $195\n  \nIn Daoist medicine\, the digestive system is revered as the Earth Element—the sacred cauldron where food alchemizes into Qi (energy) and Jing (essence). When digestion falters\, the body becomes burdened with stagnation\, dampness\, and fatigue\, while the mind and emotions grow clouded—a struggle magnified in today’s fast-paced world. \nTo restore Taiji—the dynamic balance of Yin and Yang—within digestion\, we must harmonize the Spleen (Earth\, Yin) and Stomach (Yang\, active transformation)\, allowing them to resume their natural rhythm. \n1. Cultivating Central Taiji: Spleen & Stomach Synergy \n2. Strengthening Taiji By Awakening the Digestive Fire \n3. Mantra: “My digestion flows like the Yellow River—steady\, strong\, and nourishing.” \n4. Invoking the Tiger Stellar Earth Spirits \nIn Daoist astrology\, the Tiger’s Stomach Lunar Mansion (e.g.\, Stomach\, SP) governs digestion. Aligning meals/mindfulness with these cycles deepens harmony. \n“The Stomach is the sea of nourishment; the Spleen\, the minister of transformation. When Taiji reigns\, digestion becomes effortless—a gentle stream feeding the body\, mind\, and spirit.” \nWhat you will learn: \n\n\nFORM:  qigong form for your personal practice\, this allows for self-healing and the ability to connect with qi and transmit\nTHEORY:  Chinese Medicine\, Daoist Medicine (pertaining to the season\, form\, meridians\, acupoints)\nPHILOSOPHY:  Qigong philosophy\, lifestyle practices – what is most beneficial for the season in regard to daily living\nEach class varies and may also contain:\nNutritional practices – what is most beneficial to align with the seasonal Qi\nFeng Shui/Astrology – utilizing the Qi associated with the year or season\, Master Liu He provides practices to work with the Qi at a specific time\n\nWhen enrolling\, you will receive: \n\nZoom Class Link for the real-time (live) online class\nClass recording link to view for 4 weeks\nLecture Slide presentation link to download post-class\nFront-row seat in your own home\nQi Transmission in your own home from Master Liu He\n\nCourse Dates & Times:  \nSunday\, September 21\, 2025\nTime: 9am – 12:30pm & 1-2:30pm\, Pacific (5 hours) \nTuition: $195 \nThis course is taught in English. \nIf Paying by Check: Download the Registration Form (with this link) and enclose it with a check.\nPlease email to advise us that you are mailing a check. Thank you. \nPurchase recording here $195  \nAll tuition fees\, once paid\, are non-refundable; they are transferable to another workshop/class/retreat with a $35 transfer fee. \nENROLL IN this class and  FALL CLASS SERIES for $499 ($95 tuition savings). Read more here.\nEnroll Here $499 \n  \n\nNational Certification Commission for Acupuncture and Oriental Medicine: 5 PDAs are approved through NCCAOM for licensed acupuncturists in the PE-CW category. Others who need CEUs may receive the certificates; however\, you will need to check with your licensing board if they will accept them. You must attend live (in real-time online) to receive the PDAs. \n\nCourse Participant Attestation\nI understand that the information in this course presented by the Provider and/or Instructor(s) is for educational purposes only and should only be applied with appropriate clinical judgment and used by a trained and licensed practitioner. Governmental laws and regulations vary from region to region and the contents of this course vary in permissible usage. The participant is required to check their local\, state\, and federal laws and regulations regarding the practice requirements and scope of practice issues and the use of the information of this course including\, but not limited to\, theory\, herbal medicine\, and acupuncture. I acknowledge that NCCAOM does not endorse any specific treatment regimens of any kind. Furthermore\, if I use any modalities or treatments taught in this course\, I agree to waive\, release\, indemnify\, discharge\, and covenant not to sue NCCAOM from and against any liability\, claims\, demands\, or causes of action whatsoever\, arising out of any injury\, loss\, or damage that a person may sustain related to the use of the information in this course. I understand that this Release is governed by the laws of District of Columbia\, U.S.A. and shall survive the termination or expiration of this course.\n \n\n\nWhen Qigong is properly practiced\, it is extremely beneficial and presents minimal risk to one’s health\, please consult your physician if you are in doubt of your capabilities or have special health concerns. \nThis class suited to: Acupuncturists\, Massage Therapists\, Chiropractors\, Qigong Instructors\, Yoga Instructors\, Martial Arts Instructors\, Reiki Practitioners\, and other professionals. No prerequisites are needed.
URL:https://linggui.org/course/digestive-taiji-the-daoist-art-of-effortless-nourishment-with-master-liu-he-livestream/
CATEGORIES:Astrology,Feng Shui,Online,Qigong,Seasonal Class,Yi Jing
END:VEVENT
END:VCALENDAR