BEGIN:VCALENDAR
VERSION:2.0
PRODID:-//Ling Gui International Healing Qigong School - ECPv6.15.20//NONSGML v1.0//EN
CALSCALE:GREGORIAN
METHOD:PUBLISH
X-ORIGINAL-URL:https://linggui.org
X-WR-CALDESC:Events for Ling Gui International Healing Qigong School
REFRESH-INTERVAL;VALUE=DURATION:PT1H
X-Robots-Tag:noindex
X-PUBLISHED-TTL:PT1H
BEGIN:VTIMEZONE
TZID:America/Los_Angeles
BEGIN:DAYLIGHT
TZOFFSETFROM:-0800
TZOFFSETTO:-0700
TZNAME:PDT
DTSTART:20250309T100000
END:DAYLIGHT
BEGIN:STANDARD
TZOFFSETFROM:-0700
TZOFFSETTO:-0800
TZNAME:PST
DTSTART:20251102T090000
END:STANDARD
BEGIN:DAYLIGHT
TZOFFSETFROM:-0800
TZOFFSETTO:-0700
TZNAME:PDT
DTSTART:20260308T100000
END:DAYLIGHT
BEGIN:STANDARD
TZOFFSETFROM:-0700
TZOFFSETTO:-0800
TZNAME:PST
DTSTART:20261101T090000
END:STANDARD
BEGIN:DAYLIGHT
TZOFFSETFROM:-0800
TZOFFSETTO:-0700
TZNAME:PDT
DTSTART:20270314T100000
END:DAYLIGHT
BEGIN:STANDARD
TZOFFSETFROM:-0700
TZOFFSETTO:-0800
TZNAME:PST
DTSTART:20271107T090000
END:STANDARD
END:VTIMEZONE
BEGIN:VEVENT
DTSTART;TZID=America/Los_Angeles:20260221T090000
DTEND;TZID=America/Los_Angeles:20260221T130000
DTSTAMP:20260421T082437
CREATED:20251103T202752Z
LAST-MODIFIED:20260226T012527Z
UID:9134-1771664400-1771678800@linggui.org
SUMMARY:Navigate Your BaZi in 2026 & 2027: Fire Horse and Red Goat Years with Master Liu He - Livestream
DESCRIPTION:PURCHASE THE CLASS RECORDING HERE!\nPay Here for the Class Recording $230 \nThe years 2026 (Year of the Fire Horse) and 2027 (Year of the Wood Goat) will usher in powerful\, transformative energies that influence everyone’s destiny. \nJoin Master Liu He to explore how these upcoming astrological cycles will specifically affect your BaZi (Four Pillars of Destiny). \nLearn how to harness new opportunities\, navigate challenges\, and align yourself with the most favorable energies for the next two years! \nWhat you will learn: \n\n\nFORM:  qigong form for your personal practice\, this allows for self-healing and the ability to connect with qi and transmit\nTHEORY:  Chinese Medicine\, Daoist Medicine (pertaining to the season\, form\, meridians\, acupoints)\nPHILOSOPHY:  Qigong philosophy\, lifestyle practices – what is most beneficial for the season in regard to daily living\nEach class varies and may also contain:\nNutritional practices – what is most beneficial to align with the seasonal Qi\nFeng Shui/Astrology – utilizing the Qi associated with the year or season\, Master Liu He provides practices to work with the Qi at a specific time\n\nWhen enrolling\, you will receive: \n\nZoom Class Link for the real-time (live) online class\nClass recording link to view for 4 weeks\nLecture Slide presentation link to download post-class\nFront-row seat in your own home\nQi Transmission in your own home from Master Liu He\n\nCourse Date & Time: Saturday February 21\, 2026\n9:00am-1:00 pm Pacific (4 Hours)  \nTuition: $195 \nThis course is taught in English. \nIf Paying by Check: Download the Registration Form (with this link) and enclose it with a check.\nPlease email to advise us that you are mailing a check. Thank you. \nAll tuition fees\, once paid\, are non-refundable; they are transferable to another workshop/class/retreat with a $35 transfer fee. \nEnroll for BaZi Class $195 \n\n\n\n\nENROLL IN this class and Class Series – Eastern Mansions for Spring: Azure Dragon Regulation for Liver Vitality for $499 ($95 tuition savings). Read more here. \nEnroll in BaZi & Class Series $499 \n\n\n  \nNational Certification Commission for Acupuncture and Oriental Medicine: 4 PDAs are approved through NCCAOM for licensed acupuncturists in the PE-CW category. Others who need CEUs may receive the certificates; however\, you will need to check with your licensing board if they will accept them. You must attend live (in real-time online) to receive the PDAs. \nWhen Qigong is properly practiced\, it is extremely beneficial and presents minimal risk to one’s health\, please consult your physician if you are in doubt of your capabilities or have special health concerns. \nThis class suited to: Acupuncturists\, Massage Therapists\, Chiropractors\, Qigong Instructors\, Yoga Instructors\, Martial Arts Instructors\, Reiki Practitioners\, and other professionals. No prerequisites are needed.
URL:https://linggui.org/course/navigate-your-bazi-in-2026-2027fire-horse-and-red-goat-years-with-master-liu-he-livestream/
CATEGORIES:Astrology,Feng Shui,Qi Men Dun Jia,Qigong,Recording Only,Seasonal Class
END:VEVENT
BEGIN:VEVENT
DTSTART;VALUE=DATE:20260228
DTEND;VALUE=DATE:20260301
DTSTAMP:20260421T082437
CREATED:20260223T222312Z
LAST-MODIFIED:20260226T195439Z
UID:9357-1772236800-1772323199@linggui.org
SUMMARY:Planet Conjunction Meditation with Master Liu He - RECORDED Class
DESCRIPTION: Planet Conjunction – Purchase Recorded Class (2/28/2025) Here – TUITION $18\n\n\n\n\n\n\n\n\nOn February 28\, 2026\, a notable astrological event involves a rare planet conjunction\, this astronomical phenomena carries significant symbolism: \n1. Daoist Symbolism: the Planets Aligning was often imbued symbolizing harmony between heaven and earth\, and the balance of yin and yang. \n2. Divination and Prophecy: Ancient people conducted divination by observing astronomical occurences. The appearance of the Planets Aligning was often interpreted as an impending significant event\, such as war\, natural disasters\, or other social changes. Relevant records and prophecies were frequently used to guide decision-making. \n3. Spirituality and mysticism\, the Planets Aligning has its unique legends: \na. Cosmic Energy: Some spiritual beliefs hold that the appearance of the Planets Aligning brings powerful cosmic energy\, capable of influencing human consciousness and spiritual growth. During this time\, people believe they can connect more deeply with cosmic energy through meditation or spiritual practice. \nb. Spiritual Revelation: In some legends\, the Planets Aligning is seen as a sign of spiritual revelation\, symbolizing the arrival of higher wisdom or the transmission of cosmic information. Daoist believe that at this moment\, they can receive guidance and insights from the spirit world. \n4. Political Influence: Ancient Chinese emperors and rulers often linked astronomical events to the rise and fall of nations. The Planets Aligning was seen as a good omen\, signifying that the country would prosper and flourish. It could also be interpreted as a manifestation of heavenly will\, suggesting the emergence of new leaders or changes in governance. \nThe Planets Aligning in ancient China was not only an astronomical event but also a symbol rich in cultural and spiritual significance\, influencing people’s lives and beliefs. \nJoin Master Liu He in the RECORDED Planet Conjunction Meditation class on this SPECIAL DAY – RECORDED CLASS (FROM 2/28/2025) AVAILABLE TO PURCHASE \nWhen enrolling\, you will receive (items are below):  \n\nClass recording link to view for 4 weeks\nLecture Slide presentation link to download post-class\nFront-row seat in your own home\nQi Transmission in your own home from Master Liu He\n\nPurchase Recorded Class (2/28/2025) Here – TUITION $18 \nOnce paid\, you will receive an confirmation email with the zoom\, slide\, & handout links (in English & French).  \nAll tuition fees once paid are non-refundable. \nWhen properly practiced\, Qigong is highly beneficial and presents minimal risk to one’s health; please consult your physician if you doubt your capabilities or have unique health concerns. \nClass content is for educational and general purposes only. The suggestions and information are to be used as you like. If you need medical advice\, please contact a qualified physician or healthcare provider regarding any health and/or medical questions about your health condition.
URL:https://linggui.org/course/9357/
CATEGORIES:Astrology,Feng Shui,Online,Qigong,Recording Only,Seasonal Class
END:VEVENT
END:VCALENDAR