BEGIN:VCALENDAR
VERSION:2.0
PRODID:-//Ling Gui International Healing Qigong School - ECPv6.15.20//NONSGML v1.0//EN
CALSCALE:GREGORIAN
METHOD:PUBLISH
X-WR-CALNAME:Ling Gui International Healing Qigong School
X-ORIGINAL-URL:https://linggui.org
X-WR-CALDESC:Events for Ling Gui International Healing Qigong School
REFRESH-INTERVAL;VALUE=DURATION:PT1H
X-Robots-Tag:noindex
X-PUBLISHED-TTL:PT1H
BEGIN:VTIMEZONE
TZID:America/Los_Angeles
BEGIN:DAYLIGHT
TZOFFSETFROM:-0800
TZOFFSETTO:-0700
TZNAME:PDT
DTSTART:20240310T100000
END:DAYLIGHT
BEGIN:STANDARD
TZOFFSETFROM:-0700
TZOFFSETTO:-0800
TZNAME:PST
DTSTART:20241103T090000
END:STANDARD
BEGIN:DAYLIGHT
TZOFFSETFROM:-0800
TZOFFSETTO:-0700
TZNAME:PDT
DTSTART:20250309T100000
END:DAYLIGHT
BEGIN:STANDARD
TZOFFSETFROM:-0700
TZOFFSETTO:-0800
TZNAME:PST
DTSTART:20251102T090000
END:STANDARD
BEGIN:DAYLIGHT
TZOFFSETFROM:-0800
TZOFFSETTO:-0700
TZNAME:PDT
DTSTART:20260308T100000
END:DAYLIGHT
BEGIN:STANDARD
TZOFFSETFROM:-0700
TZOFFSETTO:-0800
TZNAME:PST
DTSTART:20261101T090000
END:STANDARD
END:VTIMEZONE
BEGIN:VEVENT
DTSTART;TZID=America/Los_Angeles:20250803T090000
DTEND;TZID=America/Los_Angeles:20250803T110000
DTSTAMP:20260421T183750
CREATED:20250515T210326Z
LAST-MODIFIED:20250904T192640Z
UID:8930-1754211600-1754218800@linggui.org
SUMMARY:Embracing the Celestial Mandate: A Journey with Master Liu He - Livestream
DESCRIPTION:PURCHASE RECORDING $39 FOR 6 WEEKS- CLICK HERE\n\nIn the grand scheme of the cosmos\, there exists a celestial mandate\, a divine blueprint that guides the universe’s rhythm. It’s an ethereal symphony\, a cosmic dance that weaves together the threads of existence. Aligning with this celestial mandate is like tuning into the universe’s heartbeat. \nIt’s about syncing our rhythms with the cosmic pulse\, about finding our place in the grand cosmic orchestra. It’s not about control\, but about surrender\, about letting the celestial energies guide us. When we align with the celestial mandate\, we become part of something bigger. We become co-creators in the cosmic dance\, moving in harmony with the universe’s rhythm. \nIt’s a journey of discovery\, of understanding\, and of connection. \nSo\, let’s align with the celestial mandate. Let’s tune into the cosmic rhythm\, let’s dance to the universe’s beat. Because when we align with the celestial mandate\, we align with the very essence of existence itself.\n \n                      August 3\, 2025 Lunar Month 6 Day 10    \nThis powerful day is blessed with auspicious celestial energies\, including: \n                      Heavenly Virtue (Tian De)\n                      Lunar Virtue (Yue De)\n                     Hourly Virtue (Shi De)\n                     Heavenly Horse (Tian Ma)\n                     Universal Protection (Pu Hu) \nThe high vibrational energy of this day will support you in shifting your luck\, elevating your frequency\, and aligning with 5 dimensional consciousness. \nMaster Liu He’s 2-hour immersive course to: \n\nDeepen your connection with celestial forces.\nAmplify manifestations.\nHarness this rare cosmic alignment for transformation.\n\n\nWhat you will learn: \n\n\nFORM:  qigong form for your personal practice\, this allows for self-healing and the ability to connect with qi and transmit\nTHEORY:  Chinese Medicine\, Daoist Medicine (pertaining to the season\, form\, meridians\, acupoints)\nPHILOSOPHY:  Qigong philosophy\, lifestyle practices – what is most beneficial for the season in regard to daily living\nEach class varies and may also contain:\nNutritional practices – what is most beneficial to align with the seasonal Qi\nFeng Shui/Astrology – utilizing the Qi associated with the year or season\, Master Liu He provides practices to work with the Qi at a specific time\n\nWhen enrolling\, you will receive: \n\nZoom Class Link for the real-time (live) online class\nClass recording link to view for 4 weeks\nLecture Slide presentation link to download post-class\nFront-row seat in your own home\nQi Transmission in your own home from Master Liu He\n\nCourse Date & Time:  \nSunday\, August 3\, 2025\nTime: 9am – 11am\, Pacific (2 hours) \nTuition: $39 \nThis course is taught in English. \nENROLL in the Celestial Class Series and receive this course as a BONUS class!Unable to attend those courses on the date? All classes recorded for your viewing. Read more here. \nIf Paying by Check: Download the Registration Form (with this link) and enclose it with a check.\nPlease email to advise us that you are mailing a check. Thank you. \n  \nAll tuition fees\, once paid\, are non-refundable; they are transferable to another workshop/class/retreat with a $35 transfer fee. \n\n\nNational Certification Commission for Acupuncture and Oriental Medicine: 2 PDAs are approved through NCCAOM for licensed acupuncturists in the PE-CW category. Others who need CEUs may receive the certificates; however\, you will need to check with your licensing board if they will accept them.  \n\n\n\nWhen Qigong is properly practiced\, it is extremely beneficial and presents minimal risk to one’s health\, please consult your physician if you are in doubt of your capabilities or have special health concerns. \nThis class suited to: Acupuncturists\, Massage Therapists\, Chiropractors\, Qigong Instructors\, Yoga Instructors\, Martial Arts Instructors\, Reiki Practitioners\, and other professionals. No prerequisites are needed. \n\n\n\n 
URL:https://linggui.org/course/aligning-with-the-celestial-mandate-with-master-liu-he-livestream/
CATEGORIES:Astrology,Feng Shui,Online,Qigong,Recording Only,Yi Jing
END:VEVENT
END:VCALENDAR