BEGIN:VCALENDAR
VERSION:2.0
PRODID:-//Ling Gui International Healing Qigong School - ECPv6.15.20//NONSGML v1.0//EN
CALSCALE:GREGORIAN
METHOD:PUBLISH
X-ORIGINAL-URL:https://linggui.org
X-WR-CALDESC:Events for Ling Gui International Healing Qigong School
REFRESH-INTERVAL;VALUE=DURATION:PT1H
X-Robots-Tag:noindex
X-PUBLISHED-TTL:PT1H
BEGIN:VTIMEZONE
TZID:America/Los_Angeles
BEGIN:DAYLIGHT
TZOFFSETFROM:-0800
TZOFFSETTO:-0700
TZNAME:PDT
DTSTART:20240310T100000
END:DAYLIGHT
BEGIN:STANDARD
TZOFFSETFROM:-0700
TZOFFSETTO:-0800
TZNAME:PST
DTSTART:20241103T090000
END:STANDARD
BEGIN:DAYLIGHT
TZOFFSETFROM:-0800
TZOFFSETTO:-0700
TZNAME:PDT
DTSTART:20250309T100000
END:DAYLIGHT
BEGIN:STANDARD
TZOFFSETFROM:-0700
TZOFFSETTO:-0800
TZNAME:PST
DTSTART:20251102T090000
END:STANDARD
BEGIN:DAYLIGHT
TZOFFSETFROM:-0800
TZOFFSETTO:-0700
TZNAME:PDT
DTSTART:20260308T100000
END:DAYLIGHT
BEGIN:STANDARD
TZOFFSETFROM:-0700
TZOFFSETTO:-0800
TZNAME:PST
DTSTART:20261101T090000
END:STANDARD
END:VTIMEZONE
BEGIN:VEVENT
DTSTART;VALUE=DATE:20250212
DTEND;VALUE=DATE:20250214
DTSTAMP:20260422T054749
CREATED:20250210T231247Z
LAST-MODIFIED:20250210T231535Z
UID:8750-1739318400-1739491199@linggui.org
SUMMARY:Full Moon Lantern Festival Recorded Class with Master Liu He - FREE
DESCRIPTION:Happy Lantern Festival\nWishing your family\, friends\, and your communities a New Year Blessed with Good Fortune!\n\nFebruary 12\, 2025\, Lantern Festival – wake at 7am…. \nIt is a very Powerful Moon to promote feelings of being fulfilled. This is the first full moon of the Snake Year. It is an important day in Asian culture as we light lanterns to honor those who have passed on. We send them these lights in the Spring so they can find they can be reborn. Lantern Festival Day has very strong Qi. To help your ancestors and friends who have passed. \nIn honor of this Moon\, Master Liu He recorded a 17 minute video for you to practice along with on this special day. \n  \nRecording Link and Passcode (if the link doesn’t work for you\, please copy and paste the web address in your browser) \n  \nhttps://us02web.zoom.us/rec/share/v2qfxZtkKpokUe797ti2bzb70D-QYJElfxdxQhj9YrIK6njM_9TZIrbXTzJ15O_Z.ioXqqqZ9a1kLIOD- \nPasscode: Lantern@15 \n  \nHello everyone\, in this video I would like to share a meditation for the Lantern Festival. I pre-recorded this video for you to use on the morning of that day and implement the practices to help you throughout the year. This is the first full moon of the Snake Year. It is an important day in Asian culture as we light lanterns to honor those who have passed on. We send them these lights in the Spring so they can find they can rebirth. \n  \nLantern Festival Day has very strong Qi. To help your ancestors and friends who have passed. \nVery important to charge the Yang Qi on this day. Lifting the Spring and start good with this powerful Yang Qi. This helps control the bugs and sickness. The Illness Star in Feng Shui resides in the Center this year and can affect the heart\, emotions\, and possible flu. This Lantern Festival Qi helps support the removal of the bugs and viruses. Powerful Qi to help with protection. \n\nWake up before 7am and go outside before 9am. Walk East\, Southeast\, South\, Southwest\, and West. Take a nice walk and then come home. \nGood day to charge Water. Purchase a few bottles of water and place in the Southeast section of your home. \nEat something round. \nAfter 7pm\, practice this meditation. \nTurn on some type of light in your Southwest section of your home all night long. \n\n  \nMoon Mudra place in front of your Heart \nFulfilled with the beautiful moon. \nCreate a Qi field around you starting with the Conception Channel (NOT Central Channel). \nMANTRA – Yuan Man\n \n  \nThank you – Happy Lantern Festival and Happy New Year of the Snake\, Wishing you good luck and prosperity.
URL:https://linggui.org/course/full-moon-lantern-festival-recorded-class-with-master-liu-he-free/
CATEGORIES:Astrology,Feng Shui,Free,Qigong,Recording Only,Seasonal Class
END:VEVENT
END:VCALENDAR