BEGIN:VCALENDAR
VERSION:2.0
PRODID:-//Ling Gui International Healing Qigong School - ECPv6.15.20//NONSGML v1.0//EN
CALSCALE:GREGORIAN
METHOD:PUBLISH
X-ORIGINAL-URL:https://linggui.org
X-WR-CALDESC:Events for Ling Gui International Healing Qigong School
REFRESH-INTERVAL;VALUE=DURATION:PT1H
X-Robots-Tag:noindex
X-PUBLISHED-TTL:PT1H
BEGIN:VTIMEZONE
TZID:America/Los_Angeles
BEGIN:DAYLIGHT
TZOFFSETFROM:-0800
TZOFFSETTO:-0700
TZNAME:PDT
DTSTART:20250309T100000
END:DAYLIGHT
BEGIN:STANDARD
TZOFFSETFROM:-0700
TZOFFSETTO:-0800
TZNAME:PST
DTSTART:20251102T090000
END:STANDARD
BEGIN:DAYLIGHT
TZOFFSETFROM:-0800
TZOFFSETTO:-0700
TZNAME:PDT
DTSTART:20260308T100000
END:DAYLIGHT
BEGIN:STANDARD
TZOFFSETFROM:-0700
TZOFFSETTO:-0800
TZNAME:PST
DTSTART:20261101T090000
END:STANDARD
BEGIN:DAYLIGHT
TZOFFSETFROM:-0800
TZOFFSETTO:-0700
TZNAME:PDT
DTSTART:20270314T100000
END:DAYLIGHT
BEGIN:STANDARD
TZOFFSETFROM:-0700
TZOFFSETTO:-0800
TZNAME:PST
DTSTART:20271107T090000
END:STANDARD
END:VTIMEZONE
BEGIN:VEVENT
DTSTART;VALUE=DATE:20260620
DTEND;VALUE=DATE:20260622
DTSTAMP:20260420T001200
CREATED:20260226T185848Z
LAST-MODIFIED:20260413T195647Z
UID:9347-1781913600-1782086399@linggui.org
SUMMARY:Red Phoenix Awaits: Navigating the Fire Horse Summer of 2026 through the Southern Mansion with Master Liu He - Livestream
DESCRIPTION:Look Upward—the Red Phoenix Awaits: Navigating the Fire Horse Summer of 2026 through the Southern Mansion \nIn the Fire Horse year of 2026\, summer amplifies the element of fire—both in the natural world and within the human heart. When fire becomes excessive\, it can agitate emotions\, cloud judgment\, and disturb inner balance. Yet Qimen Dunjia offers a way to restore harmony through alignment with the Southern Red Phoenix Mansion. \nIn Qimen\, the South governs the Door of Scenery\, associated with vision\, illumination\, beauty\, and clear perception. In this year\, however\, the Door of Scenery may feel blocked or distant\, leaving many with a sense of stagnation—unable to see forward or imagine what lies ahead. \nTo work with this Qi\, Look upward—the Red Phoenix awaits. On the weekend of the summer solstice\, when the Yang energy reaches its peak\, consciously attuning to the energy of the Southern Mansion allows one to rise above confusion\, gain a higher vantage point\, and rediscover the brilliance of their path—shining once more like a sky filled with stars. \nWhat you will learn:  \n\nQigong form to align and embody the Southern Mansion Qi\nLecture on the Mansions/Stars in the Southern Mansion/Red Phoenix and how to work with the Qi\n\nWhen enrolling\, you will receive: \n\nZoom Class Link for the real-time (live) online class\nClass recording link to view for 4 weeks\nLecture Slide presentation link to download post-class\nFront-row seat in your own home\nQi Transmission in your own home from Master Liu He\n\nDATES:\nJune 20\, 2026 TIMES: 9-12:30 and 1-2:30 pm Pacific (5 hours)\nJune 21\, 2026 TIMES: 10am-1pm and 1:30-2:30 pm Pacific (4 hours)\nJuly 19\, 2026 REVIEW SESSION: 8:00-9:00am Pacific (1 hour) \nBONUS CLASS: SUMMER SOLSTICE MEDITATION – JUNE 21\, 2026 7:30-8:30AM PACIFIC – ZOOM?\n \n  \nTUITION: $275 \nEnroll & Pay Online Here – $275 \nIf Paying by Check: Download the Registration Form (with this link) and enclose it with a check.\nPlease email to advise us that you are mailing a check. Thank you. \nAll tuition fees\, once paid\, are non-refundable; they are transferable to another workshop/class/retreat with a $35 transfer fee.  \n\n\n\nNational Certification Board for Acupuncture and Herbal Medicine: 10 PDAs  are pending through NCBAHM (formerly NCCAOM) for licensed acupuncturists in the PE-CW category for each class. Others who need CEUs may receive the certificates; however\, you will need to check with your licensing board if they will accept them. You must attend live (in real-time online) to receive the PDAs. \n\nWhen Qigong is properly practiced\, it is extremely beneficial and presents minimal risk to one’s health\, please consult your physician if you are in doubt of your capabilities or have special health concerns. \nThis class suited to: Acupuncturists\, Massage Therapists\, Chiropractors\, Qigong Instructors\, Yoga Instructors\, Martial Arts Instructors\, Reiki Practitioners\, and other professionals. No prerequisites are needed. \n\n\n\n\n  \n 
URL:https://linggui.org/course/red-phoenix-awaits-navigating-the-fire-horse-summer-of-2026-through-the-southern-mansion-with-master-liu-he-livestream/
CATEGORIES:Astrology,Feng Shui,Online,Qi Men Dun Jia,Qigong,Seasonal Class
END:VEVENT
END:VCALENDAR