BEGIN:VCALENDAR
VERSION:2.0
PRODID:-//Ling Gui International Healing Qigong School - ECPv6.15.20//NONSGML v1.0//EN
CALSCALE:GREGORIAN
METHOD:PUBLISH
X-WR-CALNAME:Ling Gui International Healing Qigong School
X-ORIGINAL-URL:https://linggui.org
X-WR-CALDESC:Events for Ling Gui International Healing Qigong School
REFRESH-INTERVAL;VALUE=DURATION:PT1H
X-Robots-Tag:noindex
X-PUBLISHED-TTL:PT1H
BEGIN:VTIMEZONE
TZID:America/Los_Angeles
BEGIN:DAYLIGHT
TZOFFSETFROM:-0800
TZOFFSETTO:-0700
TZNAME:PDT
DTSTART:20220313T100000
END:DAYLIGHT
BEGIN:STANDARD
TZOFFSETFROM:-0700
TZOFFSETTO:-0800
TZNAME:PST
DTSTART:20221106T090000
END:STANDARD
BEGIN:DAYLIGHT
TZOFFSETFROM:-0800
TZOFFSETTO:-0700
TZNAME:PDT
DTSTART:20230312T100000
END:DAYLIGHT
BEGIN:STANDARD
TZOFFSETFROM:-0700
TZOFFSETTO:-0800
TZNAME:PST
DTSTART:20231105T090000
END:STANDARD
BEGIN:DAYLIGHT
TZOFFSETFROM:-0800
TZOFFSETTO:-0700
TZNAME:PDT
DTSTART:20240310T100000
END:DAYLIGHT
BEGIN:STANDARD
TZOFFSETFROM:-0700
TZOFFSETTO:-0800
TZNAME:PST
DTSTART:20241103T090000
END:STANDARD
END:VTIMEZONE
BEGIN:VEVENT
DTSTART;VALUE=DATE:20230805
DTEND;VALUE=DATE:20230924
DTSTAMP:20260422T090845
CREATED:20230309T015703Z
LAST-MODIFIED:20230815T173938Z
UID:7577-1691193600-1695513599@linggui.org
SUMMARY:Quantum Channel Qigong & Talisman Drawing with Master Liu He Livestream
DESCRIPTION:Join Master Liu He for this 15-hour online retreat! She will be featuring a new form: Quantum Channel Qigong. \nWhen awakening the three powerful Quantum channels (the Moon channel\, the Sun channel\, and the Earth pole channel)\, you are able to change the energy field from a low to high frequency. This allows you to eliminate negative Qi and radiation. The Moon channel supports our memory and emotions of the past.  The Sun channel supports present thinking\, future\, action\, and planning. \nThe TaiJi pole channel combines the Moon and Sun channels to give birth and transform the three animals: The Turtle (symbol of longevity\, creativity\, and stability) transforms into the Snake (supernatural power) and the Snake transforms into the Dragon (auspiciousness\, justice\, prosperity\, and strength). \nIn this retreat\, you will also learn to create/draw a talisman for your home. Drawing on Nine Flying Star Feng Shui and Yi Jing principles\, Master Liu He will lecture on the use of talismans for harmonizing with the energies of the year! \nWhat you will learn: \n\n\nFORM:  qigong form for your personal practice\, this allows for self-healing and the ability to connect with qi and transmit\nTHEORY:  Chinese Medicine\, Daoist Medicine (pertaining to the season\, form\, meridians\, acupoints)\nPHILOSOPHY:  Qigong philosophy\, lifestyle practices – what is most beneficial for the season in regard to daily living\nEach class varies and may also contain:\nNutritional practices – what is most beneficial to align with the seasonal Qi\nFeng Shui/Astrology – utilizing the Qi associated with the year or season\, Master Liu He provides practices to work with the Qi at a specific time\n\nWhat you will receive:  \n\nE-Handout for the form prior to the class\nZoom Class Link for the real-time (live) online class\nClass recording link to view for 2 weeks\nLecture Slide presentation link to download post-class\nQi Transmission in your own home from Master Liu He\n\n\nCourse Dates 15 hours: \nSaturday\, August 5\, 2023 (5 hours)\nSunday\, August 6\, 2023 (5 hours)\nSaturday\, September 23\, 2023 (5 hours)\n\n9:00am – 12:30pm & 1:00pm-2:30pm Pacific Time\n\n\nNational Certification Commission for Acupuncture and Oriental Medicine: 15 PDAs are approved through NCCAOM for diplomats in PE-CW. You will need to attend live online to receive the PDAs. \n\nRECORDING PURCHASE  Quantum Channel Class Recording (10 Hours) and September 23\, 2023: Talisman Qigong & Drawing Class (live attendance or recording only). Use the button below to purchase. \n\n\n\n$399 Enroll Here foRecording\n\n\n\nAll tuition fees once paid are non-refundable\, they are transferable to another workshop/class/retreat.\n\n\nPlease email to advise us that you are mailing a check. Thank you. \n\nIf Paying by Check: Download Registration Form and enclose with check. \n\n\nWhereas when Qigong is properly practiced\, it is extremely beneficial and presents minimal risk to one’s health\, please consult your physician if you are in doubt of your capabilities or have special health concerns. \nThis class suited to: Acupuncturists\, Massage Therapists\, Chiropractors\, Qigong Instructors\, Yoga Instructors\, Martial Arts Instructors\, Reiki Practitioners\, and other professionals. No prerequisites are needed.
URL:https://linggui.org/course/quantum-channel-qigong-talisman-writing-with-master-liu-he-livestream/
CATEGORIES:Online,Qigong
END:VEVENT
BEGIN:VEVENT
DTSTART;VALUE=DATE:20230916
DTEND;VALUE=DATE:20230918
DTSTAMP:20260422T090845
CREATED:20230726T034127Z
LAST-MODIFIED:20230726T034549Z
UID:7755-1694822400-1694995199@linggui.org
SUMMARY:Women's Internal Alchemy with Dr. Liu Dong - Livestream
DESCRIPTION:Join Dr. Liu Dong for this internal journey! This 10-hour course will focus on Women’s Internal Alchemy and the material will be presented via lecture and Qigong practice.\n\nThe material will cover:\nLecture: Gynecology Treatments (Menopause\, and Infertility) \nPractice: Ma Wang Dui Animals\, a form that focuses on the transformation of blood stasis by facilitating blood circulation\, smoothing Liver Qi\, and transforming emotions. Lectures will focus on the teaching of the pictures sewn onto the robe and Chinese/Taoist medical theory of blood stasis\, diagnostic patterns\, and how these forms can influence the blood. \nDates: \nSaturday\, September 16 & Sunday\, September 17\, 2023\n\nTimes: \n7:00am-10:00am & 11:00am-1:00pm Pacific\nNational Certification Commission for Acupuncture and Oriental Medicine: 10 PDAs approved through NCCAOM for diplomats in the PE-CW category. You will need to attend live (in real-time online) to receive the PDA’s. \nWhen enrolling\, you will receive: \n\n\nRecorded links of each session\, available to view for 3 weeks (you are required to attend the class to receive the recording links). \nE- handouts prior to class.\nFront-row seat in your own home.\n\nTuition: $230 enroll options below (tuition is non-refundable however it is transferable): \nPay Online $230 \n\nCheck: Please advise us via email\, if you are mailing a check. \nIf Paying by Check: Download Registration Form and enclose with check. \nWhereas when Qigong is properly practiced\, it is extremely beneficial and presents minimal risk to one’s health\, please consult your physician if you are in doubt of your capabilities or have special health concerns. \nThis class is suited to:  Acupuncturists\, Massage Therapists\, Chiropractors\, Qigong Instructors\, Yoga Instructors\, Martial Arts Instructors\, Reiki Practitioners\,  and other professionals. No prerequisites are needed.
URL:https://linggui.org/course/womens-internal-alchemy-with-dr-liu-dong-livestream/
CATEGORIES:Online,Qigong
END:VEVENT
END:VCALENDAR