BEGIN:VCALENDAR
VERSION:2.0
PRODID:-//Ling Gui International Healing Qigong School - ECPv6.15.20//NONSGML v1.0//EN
CALSCALE:GREGORIAN
METHOD:PUBLISH
X-WR-CALNAME:Ling Gui International Healing Qigong School
X-ORIGINAL-URL:https://linggui.org
X-WR-CALDESC:Events for Ling Gui International Healing Qigong School
REFRESH-INTERVAL;VALUE=DURATION:PT1H
X-Robots-Tag:noindex
X-PUBLISHED-TTL:PT1H
BEGIN:VTIMEZONE
TZID:America/Los_Angeles
BEGIN:DAYLIGHT
TZOFFSETFROM:-0800
TZOFFSETTO:-0700
TZNAME:PDT
DTSTART:20220313T100000
END:DAYLIGHT
BEGIN:STANDARD
TZOFFSETFROM:-0700
TZOFFSETTO:-0800
TZNAME:PST
DTSTART:20221106T090000
END:STANDARD
BEGIN:DAYLIGHT
TZOFFSETFROM:-0800
TZOFFSETTO:-0700
TZNAME:PDT
DTSTART:20230312T100000
END:DAYLIGHT
BEGIN:STANDARD
TZOFFSETFROM:-0700
TZOFFSETTO:-0800
TZNAME:PST
DTSTART:20231105T090000
END:STANDARD
BEGIN:DAYLIGHT
TZOFFSETFROM:-0800
TZOFFSETTO:-0700
TZNAME:PDT
DTSTART:20240310T100000
END:DAYLIGHT
BEGIN:STANDARD
TZOFFSETFROM:-0700
TZOFFSETTO:-0800
TZNAME:PST
DTSTART:20241103T090000
END:STANDARD
END:VTIMEZONE
BEGIN:VEVENT
DTSTART;VALUE=DATE:20230125
DTEND;VALUE=DATE:20230316
DTSTAMP:20260421T103305
CREATED:20221114T203215Z
LAST-MODIFIED:20221128T001613Z
UID:7248-1674604800-1678924799@linggui.org
SUMMARY:Cours hebdomadaire pour démarrer une nouvelle année 2023 avec une nouvelle pensée Via Zoom\, en français
DESCRIPTION:“Le Classique de la Purification de la Moelle”\nAuto-massage & Qigong Thérapeutique Taoïste\nHoraires: Mercredi de 19h30 à 21h00 (horaires de l’Europe) \n\nPendant les cours hebdomadaires aura lieu le nouvel an chinois\, Maître Liu He vous donnera également des conseils pour vivre une année du Lapin d’Eau harmonieuse.\n\nLes personnes atteintes du syndrome de post-COVID 19 souffrent de brouillard cérébral\, ne peuvent pas se concentrer\, sont déprimées ou ont des maux de tête. Quand elle a enseigné cette méthode au mois d’octobre\, cette année\, les élèves de Maître Liu He ont constaté beaucoup de changements du point de vue de la clarification de leurs pensées.\n\n“Le Classique de la Purification de la Moelle”; est une pratique et une philosophie développée au 6ème siècle après JC. Bodhidharma est venu au temple de Shaolin après de nombreuses difficultés et dangers. Après avoir promu les enseignements du bouddhisme\, il a ensuite intégré la culture métaphysique chinoise dans ses conférences. À partir de ces entretiens\, un livre a été édité\, plein de mystères universels\, du vrai sens de la vie et de la préservation de la santé (de la longévité). Le Qigong de La Purification de la Moelle est une excellente pratique pour promouvoir la santé\, la vitalité\, pour développer la force interne et atteindre la clarté mentale. Il permet à l’énergie vitale (au Qi) de circuler à cinq niveaux différents : la peau\, la chair\, les méridiens\, les organes et la moelle osseuse.\n\nDans ce cours\, vous apprendrez à:\nAtteindre un niveau profond de connexion entre le Corps et l’Esprit. \nEnlever tout le Qi trouble\, toxique et maléfique. \nRenforcer le Qi de vos Reins\, le Qi de vos Poumons et ouvrir tous les \npoints Shu sur les canaux de la Vessie. \nAméliorer la mémoire\, ainsi qu’à prévenir et réparer les problèmes de mémoire. \nEn plus\, vous allez recevoir:\nUn livre électronique réalisé par Maître Liu He\, Vous pouvez donc vous concentrer sur l’écoute et pratiquer davantage. \nUne version enregistrée de chaque cours accessible pendant une semaine. Vous pourrez ainsi revoir le cours quand vous le souhaitez; si vous manquez un cours il n’y aura pas de problème. \n\nUn cours supplémentaire gratuit (valeur de 99 €) sur La lecture du visage: 1er Avril\, 2023 via zoom en Français Horaires: 16h00 – 20h00\n\nPrix : 265 Euros
URL:https://linggui.org/course/cours-hebdomadaire-pour-demarrer-une-nouvelle-annee-2023-avec-une-nouvelle-pensee-via-zoom-en-francais/
CATEGORIES:Daoist Nutrition,Feng Shui,French,Online,Qigong
END:VEVENT
BEGIN:VEVENT
DTSTART;TZID=America/Los_Angeles:20230128T093000
DTEND;TZID=America/Los_Angeles:20230129T143000
DTSTAMP:20260421T103305
CREATED:20220909T144831Z
LAST-MODIFIED:20221128T001547Z
UID:7116-1674898200-1675002600@linggui.org
SUMMARY:One Thousand Eyes Buddha & Mien Shiang (Face Reading) with Master Liu He-LiveStream
DESCRIPTION:Special offering! 16-hour course\nOne Thousand Eye  & Mien Shiang \n\nNEW YEAR NEW VISION\, NEW FACE! The year 2023\, is an exceptional year with the end and transit of a new two decade cycle. What you set into place at this time\, will carry you through the next 21 years.\n\n\nOne Thousand Eyes Buddha is a very old form that was originally part of a secret Buddhist practice\, used only by monks. The medical Qigong form is based on Three Secrets – Body Secrets\, Language Secrets\, and Mind/Concentration Secrets – secrets because you can only discover the meaning through practice. Working with the Three Secrets allows you to open your 84\,000 pores – your Buddha eyes – to awareness of the universe\, just as you would open your eyes to see the world around you.\n\n\nWhen enrolling\, you will receive\n\n\nRecorded links of the sessions\, available to view for 4 weeks\nE- handouts for the form prior to class\nQi transmission in your own home from Master Liu He\nLecture slide presentation post class\nOption to purchase the recording for an additional 30 days at $39\n\n\n11 Hours:\nJanuary 28\, 2023 Saturday:  9:30am-1:30pm and 2:30-4:00pm Pacific\nJanuary 29\, 2023 Sunday: 9:30am-1:30pm and 2:30-4:00pm Pacific\n  \n\n\nFebruary 11\, 2023\nTimes: 5 hours – 9:30 am – 2:30 pm-Pacific\n\nMien Shiang – Face Reading for Health\nMien Shiang is a  practice nearly 5\,000 years old. The term means face (mien) reading (shiang). It is one of five integral branches of Daoist Medicine. This art form complements other metaphysical studies such as the Bazi (Destiny Reading) and Feng Shui (Study of the Land).\nFace reading uses several maps and most often uses a 100 year face map. Each position represents a single year in your life in order to identify areas of disharmony in the body as well as traumatic physical and emotional events that have impacted a healthy energy flow. At the same time\, it can be considered a way to predict your future.\n\n\nWhen enrolling\, you will receive\n\n\nRecorded links of the sessions\, available to view for 4 weeks\nE- handouts prior to class\nQi transmission in your own home from Master Liu He\nLecture slide presentation post class\nOption to purchase the recording for an additional 30 days\n\nNational Certification Commission for Acupuncture and Oriental Medicine: 16 PDAs are pending through NCCAOM for diplomats in PE-CW. You will need to attend live online to receive the PDAs.  \nEnroll online below or mail in a check (details listed below).\nTuition:  EARLY REGISTRATION $340 before January 15\, after $365 \n  \n$340 Early Registration- Enroll Here \n$365 After January 15 Enroll Here \n\n\n\nIf Paying by Check: Download Registration Form and enclose with check. \nPlease email to advise us that you are mailing a check. Thank you.  \n\n\n\nWhereas when Qigong is properly practiced\, it is extremely beneficial and presents minimal risk to one’s health\, please consult your physician if you are in doubt of your capabilities or have special health concerns. \n\n\nThis class suited to: Acupuncturists\, Massage Therapists\, Chiropractors\, Qigong Instructors\, Yoga Instructors\, Martial Arts Instructors\, Reiki Practitioners\, and other professionals. No prerequisites are needed.
URL:https://linggui.org/course/one-thousand-eyes-buddha-mien-shiang-face-reading-with-master-liu-he-livestream/
CATEGORIES:Feng Shui,Online,Qigong
END:VEVENT
BEGIN:VEVENT
DTSTART;TZID=America/Los_Angeles:20230128T093000
DTEND;TZID=America/Los_Angeles:20230129T160000
DTSTAMP:20260421T103305
CREATED:20220909T134042Z
LAST-MODIFIED:20230208T205404Z
UID:7119-1674898200-1675008000@linggui.org
SUMMARY:One Thousand Eyes Buddha Qigong with Master Liu He Livestream
DESCRIPTION:PURCHASE THE RECORDING TO VIEW FOR 4-WEEKS BELOW! \n$269 – Purchase Here\n\nOnce payment is received\, we will send you the links\, handouts\, and slide presentation. \n\nNEW YEAR NEW VISION\, NEW FACE! The year 2023\, is an exceptional year with the end and transit of a new two decade cycle. What you set into place at this time\, will carry you through the next 21 years.\n\nOne Thousand Eyes Buddha is a very old form that was originally part of a secret Buddhist practice\, used only by monks. The medical Qigong form is based on Three Secrets – Body Secrets\, Language Secrets\, and Mind/Concentration Secrets – secrets because you can only discover the meaning through practice. Working with the Three Secrets allows you to open your 84\,000 pores – your Buddha eyes – to awareness of the universe\, just as you would open your eyes to see the world around you.\n\n\nWhen enrolling\, you will receive\n\n\nRecorded links of the sessions\, available to view for 4 weeks\nE- handouts for the form prior to class\nQi transmission in your own home from Master Liu He\nLecture slide presentation post class\nOption to purchase the recording link for an additional 30 days for $39\n\n\n\n\n11 Hour Course:\nSaturday:  9:30am-1:30pm and 2:30-4:00pm Pacific\nSunday: 9:30am-1:30pm and 2:30-4:00pm Pacific\n\nNational Certification Commission for Acupuncture and Oriental Medicine: 11 PDAs in PE-CW are pending through NCCAOM for diplomats. You will need to attend live to receive the PDAs. \n\n  \nIf Paying by Check: Download Registration Form and enclose with check. \nPlease advise us via email\, if you are mailing a check. \nWhereas when Qigong is properly practiced\, it is extremely beneficial and presents minimal risk to one’s health\, please consult your physician if you are in doubt of your capabilities or have special health concerns.\nThis class suited to:  Acupuncturists\, Massage Therapists\, Chiropractors\, Qigong Instructors\, Yoga Instructors\, Martial Arts Instructors\, Reiki Practitioners\,  and other professionals. No prerequisites are needed.
URL:https://linggui.org/course/one-thousand-eyes-buddha-qigong-with-master-liu-he-livestream/
CATEGORIES:Online,Qigong
END:VEVENT
END:VCALENDAR