BEGIN:VCALENDAR
VERSION:2.0
PRODID:-//Ling Gui International Healing Qigong School - ECPv6.15.20//NONSGML v1.0//EN
CALSCALE:GREGORIAN
METHOD:PUBLISH
X-ORIGINAL-URL:https://linggui.org
X-WR-CALDESC:Events for Ling Gui International Healing Qigong School
REFRESH-INTERVAL;VALUE=DURATION:PT1H
X-Robots-Tag:noindex
X-PUBLISHED-TTL:PT1H
BEGIN:VTIMEZONE
TZID:America/Los_Angeles
BEGIN:DAYLIGHT
TZOFFSETFROM:-0800
TZOFFSETTO:-0700
TZNAME:PDT
DTSTART:20210314T100000
END:DAYLIGHT
BEGIN:STANDARD
TZOFFSETFROM:-0700
TZOFFSETTO:-0800
TZNAME:PST
DTSTART:20211107T090000
END:STANDARD
BEGIN:DAYLIGHT
TZOFFSETFROM:-0800
TZOFFSETTO:-0700
TZNAME:PDT
DTSTART:20220313T100000
END:DAYLIGHT
BEGIN:STANDARD
TZOFFSETFROM:-0700
TZOFFSETTO:-0800
TZNAME:PST
DTSTART:20221106T090000
END:STANDARD
BEGIN:DAYLIGHT
TZOFFSETFROM:-0800
TZOFFSETTO:-0700
TZNAME:PDT
DTSTART:20230312T100000
END:DAYLIGHT
BEGIN:STANDARD
TZOFFSETFROM:-0700
TZOFFSETTO:-0800
TZNAME:PST
DTSTART:20231105T090000
END:STANDARD
END:VTIMEZONE
BEGIN:VEVENT
DTSTART;TZID=America/Los_Angeles:20221221T071500
DTEND;TZID=America/Los_Angeles:20221221T083000
DTSTAMP:20260421T141621
CREATED:20221207T022038Z
LAST-MODIFIED:20221208T214859Z
UID:7335-1671606900-1671611400@linggui.org
SUMMARY:FREE - Great Yin Winter Solstice Meditation with Master Liu He - Livestream
DESCRIPTION:Join Master Liu He for a Great Yin Winter Solstice Meditation\nto uplift your spirit and liberate your fears by transforming them into Yin Power!\n  \nThis will be a 75 minute CLASS from 7:15am-8:30am Pacific Time via Qi Zoom (in English). \nNo recording available\, live stream participation only. \nNo need to register\, click on the link below or log on at the time indicated. Please adjust to your time zone. \n  \nJoin Zoom Meeting\nhttps://us02web.zoom.us/j/85399948575?pwd=MWEzNW1EcUNIZkpqR3VvcHB4cktZZz09 \nMeeting ID: 853 9994 8575\nPasscode: GreatYin \n  \n  \n  \n  \n  \n 
URL:https://linggui.org/course/free-great-yin-winter-solstice-meditation-with-master-liu-he-livestream/
CATEGORIES:Free,Online,Qigong,Seasonal Class
END:VEVENT
END:VCALENDAR