BEGIN:VCALENDAR
VERSION:2.0
PRODID:-//Ling Gui International Healing Qigong School - ECPv6.15.20//NONSGML v1.0//EN
CALSCALE:GREGORIAN
METHOD:PUBLISH
X-WR-CALNAME:Ling Gui International Healing Qigong School
X-ORIGINAL-URL:https://linggui.org
X-WR-CALDESC:Events for Ling Gui International Healing Qigong School
REFRESH-INTERVAL;VALUE=DURATION:PT1H
X-Robots-Tag:noindex
X-PUBLISHED-TTL:PT1H
BEGIN:VTIMEZONE
TZID:America/Los_Angeles
BEGIN:DAYLIGHT
TZOFFSETFROM:-0800
TZOFFSETTO:-0700
TZNAME:PDT
DTSTART:20210314T100000
END:DAYLIGHT
BEGIN:STANDARD
TZOFFSETFROM:-0700
TZOFFSETTO:-0800
TZNAME:PST
DTSTART:20211107T090000
END:STANDARD
BEGIN:DAYLIGHT
TZOFFSETFROM:-0800
TZOFFSETTO:-0700
TZNAME:PDT
DTSTART:20220313T100000
END:DAYLIGHT
BEGIN:STANDARD
TZOFFSETFROM:-0700
TZOFFSETTO:-0800
TZNAME:PST
DTSTART:20221106T090000
END:STANDARD
BEGIN:DAYLIGHT
TZOFFSETFROM:-0800
TZOFFSETTO:-0700
TZNAME:PDT
DTSTART:20230312T100000
END:DAYLIGHT
BEGIN:STANDARD
TZOFFSETFROM:-0700
TZOFFSETTO:-0800
TZNAME:PST
DTSTART:20231105T090000
END:STANDARD
END:VTIMEZONE
BEGIN:VEVENT
DTSTART;TZID=America/Los_Angeles:20220928T160000
DTEND;TZID=America/Los_Angeles:20221116T193000
DTSTAMP:20260421T162701
CREATED:20220312T232629Z
LAST-MODIFIED:20230925T192858Z
UID:6730-1664380800-1668627000@linggui.org
SUMMARY:Nouveau!!! Le Carré Super Magique Soigner  selon le Temps et l’Espace
DESCRIPTION:Cours Hebdomadaires via Zoom en Français\nDates: 28 Septembre ; 5\, 12\, 19\, 26 Octobre ; 2\, 9\, 16 Novembre 2022\nHoraires: Mercredi de 19h30 à 21h00 (horaires de l’Europe)\n\nTraitement par le Qi du Super Carré Magique (Luo Shu)\nCe carré magique est un modèle numérique de l’Univers. Il est utilisé dans le Feng Shui\, Le Qi Gong\, la médecine chinoise et l’astrologie. Le diagramme montre une façon d’interpréter l’harmonisation entre les humains et l’univers. Il combine le temps\, l’espace\, les directions\, les huit trigrammes et le cycle du flux de Qi. Le carré utilise les nombres de 1 à 9. La somme de chaque ligne\, colonne et diagonale est 15 qui est un nombre Super Magique. L’année du Tigre d’Eau 2022\, représente le diagramme original. Rejoignez Maître Liu He dans sa discussion sur le Qi du Carré Magique et les changements de votre vie en 2022. Le Tigre d’Eau de 2022 offre l’opportunité de soigner les blessures profondes du corps physique\, émotionnel et mental. Acupressure selon le Carré Magique pour la tête de l’abdomen. \nEn plus\, vous allez recevoir:\n·      Un livre électronique réalisé par Maître Liu He\nVous pouvez donc vous concentrer sur l’écoute et pratiquer davantage.\n·      Une version enregistrée de chaque cours accessible pendant une semaine. Vous pourrez ainsi revoir le cours quand vous le souhaitez; si vous manquez un cours il n’y aura pas de problème.\n·      Un cours supplémentaire gratuit (valeur de 89 €) sur Le Vie Infinie: Les cycles de naissance et de mort.\n        1 Octobre\, 2022 via zoom en Français Horaires: de 16h00 – 19h30 (horaires de l’Europe)\nPrix : 250 Euros
URL:https://linggui.org/course/nouveau-le-carre-super-magique-soigner-selon-le-temps-et-lespace-2/
CATEGORIES:French,Homepage,News,Online,Qigong
END:VEVENT
END:VCALENDAR