BEGIN:VCALENDAR
VERSION:2.0
PRODID:-//Ling Gui International Healing Qigong School - ECPv6.15.20//NONSGML v1.0//EN
CALSCALE:GREGORIAN
METHOD:PUBLISH
X-WR-CALNAME:Ling Gui International Healing Qigong School
X-ORIGINAL-URL:https://linggui.org
X-WR-CALDESC:Events for Ling Gui International Healing Qigong School
REFRESH-INTERVAL;VALUE=DURATION:PT1H
X-Robots-Tag:noindex
X-PUBLISHED-TTL:PT1H
BEGIN:VTIMEZONE
TZID:America/Los_Angeles
BEGIN:DAYLIGHT
TZOFFSETFROM:-0800
TZOFFSETTO:-0700
TZNAME:PDT
DTSTART:20210314T100000
END:DAYLIGHT
BEGIN:STANDARD
TZOFFSETFROM:-0700
TZOFFSETTO:-0800
TZNAME:PST
DTSTART:20211107T090000
END:STANDARD
BEGIN:DAYLIGHT
TZOFFSETFROM:-0800
TZOFFSETTO:-0700
TZNAME:PDT
DTSTART:20220313T100000
END:DAYLIGHT
BEGIN:STANDARD
TZOFFSETFROM:-0700
TZOFFSETTO:-0800
TZNAME:PST
DTSTART:20221106T090000
END:STANDARD
BEGIN:DAYLIGHT
TZOFFSETFROM:-0800
TZOFFSETTO:-0700
TZNAME:PDT
DTSTART:20230312T100000
END:DAYLIGHT
BEGIN:STANDARD
TZOFFSETFROM:-0700
TZOFFSETTO:-0800
TZNAME:PST
DTSTART:20231105T090000
END:STANDARD
END:VTIMEZONE
BEGIN:VEVENT
DTSTART;TZID=America/Los_Angeles:20220918T100000
DTEND;TZID=America/Los_Angeles:20221113T120000
DTSTAMP:20260421T181634
CREATED:20220509T213536Z
LAST-MODIFIED:20220929T192648Z
UID:6733-1663495200-1668340800@linggui.org
SUMMARY:Tai Yi Noble Star Medical Qigong with Master Liu He - Livestream
DESCRIPTION:Registration Full! Contact us to be placed on a wait list. \nTai Yi Noble Star Medical Qigong is for repairing and strengthening the Tai Yin organs and meridians (Lungs and Spleen). Viruses and any colds/flu weaken the Lungs and the Spleen. You may experience loss of smell and taste when ill. This form will support the healthy function of the two organs to regulate the digestive and immune systems. This form also addresses symptoms associated with chronic fatigue and fibromyalgia.\nConnect with the Tai Yi Star and receive guidance to opportunities!\n8-Class Series\, Dates: September 18\, 25 October 2\, 16\, 23\, 30\, November 6\, 13 (16 hours)\nTime: 10am-12:00pm Pacific (Livestream via Zoom)\nTuition: $299 before September 5\, after $349\nNational Certification Commission for Acupuncture and Oriental Medicine: 16 PDAs are pending approval through NCCAOM for diplomats. You will need to attend live to receive the PDAs. \n\nWhen enrolling\, you will receive \n\n\nRecorded links of the each session\, available to view for 1 week.\nE- handouts for the  form prior to class.\nQi transmission in your own home from Master Liu He.\nFront row seat in your own home.\nSlide presentation link post class.\n\nTuition: Early Registration by September 5\, 2022:  $299\nafter September 5\, 2022: $349\n$299 Early Reg by September 5\n$349 Tuition after September 5\nIf Paying by Check: Download Registration Form and enclose with check. Please advise us via email\, if you are mailing a check.\nWhereas when Qigong is properly practiced\, it is extremely beneficial and presents minimal risk to one’s health\, please consult your physician if you are in doubt of your capabilities or have special health concerns.\nThis class suited to:  Acupuncturists\, Massage Therapists\, Chiropractors\, Qigong Instructors\, Yoga Instructors\, Martial Arts Instructors\, Reiki Practitioners\,  and other professionals. No prerequisites needed.
URL:https://linggui.org/course/tai-yi-noble-star-medical-qigong-with-master-liu-he-livestream/
CATEGORIES:Homepage,News,Online,Qigong
END:VEVENT
END:VCALENDAR