BEGIN:VCALENDAR
VERSION:2.0
PRODID:-//Ling Gui International Healing Qigong School - ECPv6.15.20//NONSGML v1.0//EN
CALSCALE:GREGORIAN
METHOD:PUBLISH
X-WR-CALNAME:Ling Gui International Healing Qigong School
X-ORIGINAL-URL:https://linggui.org
X-WR-CALDESC:Events for Ling Gui International Healing Qigong School
REFRESH-INTERVAL;VALUE=DURATION:PT1H
X-Robots-Tag:noindex
X-PUBLISHED-TTL:PT1H
BEGIN:VTIMEZONE
TZID:America/Los_Angeles
BEGIN:DAYLIGHT
TZOFFSETFROM:-0800
TZOFFSETTO:-0700
TZNAME:PDT
DTSTART:20210314T100000
END:DAYLIGHT
BEGIN:STANDARD
TZOFFSETFROM:-0700
TZOFFSETTO:-0800
TZNAME:PST
DTSTART:20211107T090000
END:STANDARD
BEGIN:DAYLIGHT
TZOFFSETFROM:-0800
TZOFFSETTO:-0700
TZNAME:PDT
DTSTART:20220313T100000
END:DAYLIGHT
BEGIN:STANDARD
TZOFFSETFROM:-0700
TZOFFSETTO:-0800
TZNAME:PST
DTSTART:20221106T090000
END:STANDARD
BEGIN:DAYLIGHT
TZOFFSETFROM:-0800
TZOFFSETTO:-0700
TZNAME:PDT
DTSTART:20230312T100000
END:DAYLIGHT
BEGIN:STANDARD
TZOFFSETFROM:-0700
TZOFFSETTO:-0800
TZNAME:PST
DTSTART:20231105T090000
END:STANDARD
END:VTIMEZONE
BEGIN:VEVENT
DTSTART;TZID=America/Los_Angeles:20220806T090000
DTEND;TZID=America/Los_Angeles:20220808T130000
DTSTAMP:20260421T214330
CREATED:20220128T202917Z
LAST-MODIFIED:20220929T192804Z
UID:6727-1659776400-1659963600@linggui.org
SUMMARY:Zhu You Shu 3-day Medical Qigong Course with Master Liu He Livestream
DESCRIPTION:Registration Full! \n3-Day Medical Qigong Course : Zhu You Shu\nEmbrace over 5000 years of powerful healing modalities! (This course covers techniques different from the February retreat)\n \n13 hour course + 4 hour bonus class \nComments from students on the Zhu You course in February 2022!\nI just want to say WOW. The Zhu You form is incredible\, I mean I love all of Master Liu’s classes but this is a different level. It feels very powerful. I love it. And I always feel so uplifted after a retreat. And this one in particular\, I was under a lot of stress and pressure from my company to get vaccinated and I was very resistant and I could feel this resistance in my body and weighing heavy on me. During the retreat after listening to Master Liu talk about the water\, adaptation\, flexibility\, it suddenly disappeared. Sandrine E.\, France. \nI feel so clear and at peace after doing the practices of Zhu You. The bone setting part cleared up a stiff knee and hip that I had aggravated by trying to do some tornado kicks and not being able to do them correctly. It was so great to have the stiffness and pain gone\, and I am pretty sure it was from that wonderful stretch we held with both hands pushing away and bending to the side. Virginia N\, Washington \nZhu You Shu is often forgotten in Chinese medicine.  Born in ancient times\, the  mysterious methods were founded in the traditional medicine of the homeland.\nZhu You’s treatment is an important part of  Chinese medicine. You will find reference to Zhu You’s 13 subjects/methods of treatment in the ancient text\, “Huang Di Nei Jing”.\nDue to historical reasons\, Zhu You’s treatments have always been secretly circulated in Taoism and mastered or applied by a very small number of people. Chinese medicine can be sorted into 13 sections including original applications:  praying/intention\, blessing\, soul retrieval\, music\, geomantic omen\, shamanic practices\, blood letting\, food therapy\, morality and culture\, season\, Chinese traditional medicine\, and observing\, listening\, asking\, and feeling. \nIn this 3-day exclusive course\, Master Liu He will guide you through the following 6 Modalities\, in order to connect with your higher self in order to receive the best reward. \n The Magic Healing\nThe Great Law of Eliminating Evil\nHypnosis\nMethod of Taking Medicine in the Universe\nShadowless Gold Needle Method\nTalisman and Mantras \nWhen enrolling\, you will receive\n\nAdmittance to a FREE 4 hours BONUS class October 15\nRecorded links of the sessions\, available to view for 3 weeks\nQi transmission in your own home from Master Liu He\nLecture slide presentation post class\n\nNational Certification Commission for Acupuncture and Oriental Medicine: 13 PDAs are pending through NCCAOM for diplomats in acupuncture and oriental medicine. You will need to attend live to receive the PDAs. \nDates/Times (Live Stream):\nAugust 6-8\, 2022\nSaturday 9:00am-1:30pm PT \nSunday 9:00am-1:30pm PT \nMonday 9:00am-1:00pm PT \nTuition: $399+ 4 hour free bonus class early registration by July 30\, 2022.\n$469  + 4 hour free bonus class after. \nAll tuition fees once paid are non-refundable\, transferable to another workshop/class/retreat for $80 fee.\nEnroll online below or mail in a check(details listed below)\nEarly Registration $399 Enroll Here\n$469 Full Registration Enroll Here\nIf Paying by Check: Download Registration Form and enclose with check. \nThis class suited to:  Acupuncturists\, Massage Therapists\, Chiropractors\, Qigong Instructors\, Yoga Instructors\, Martial Arts Instructors\, Reiki Practitioners\,  and other professionals. No prerequisites needed.\nWhereas when Qigong is properly practiced\, it is extremely beneficial and presents minimal risk to one’s health\, please consult your physician if you are in doubt of your capabilities or have special health concerns.
URL:https://linggui.org/course/zhu-you-shu-3-day-medical-qigong-course-with-master-liu-he-livestream-2/
CATEGORIES:Astrology,Homepage,News,Online,Qigong,Yi Jing
END:VEVENT
END:VCALENDAR