BEGIN:VCALENDAR
VERSION:2.0
PRODID:-//Ling Gui International Healing Qigong School - ECPv6.15.20//NONSGML v1.0//EN
CALSCALE:GREGORIAN
METHOD:PUBLISH
X-ORIGINAL-URL:https://linggui.org
X-WR-CALDESC:Events for Ling Gui International Healing Qigong School
REFRESH-INTERVAL;VALUE=DURATION:PT1H
X-Robots-Tag:noindex
X-PUBLISHED-TTL:PT1H
BEGIN:VTIMEZONE
TZID:America/Los_Angeles
BEGIN:DAYLIGHT
TZOFFSETFROM:-0800
TZOFFSETTO:-0700
TZNAME:PDT
DTSTART:20210314T100000
END:DAYLIGHT
BEGIN:STANDARD
TZOFFSETFROM:-0700
TZOFFSETTO:-0800
TZNAME:PST
DTSTART:20211107T090000
END:STANDARD
BEGIN:DAYLIGHT
TZOFFSETFROM:-0800
TZOFFSETTO:-0700
TZNAME:PDT
DTSTART:20220313T100000
END:DAYLIGHT
BEGIN:STANDARD
TZOFFSETFROM:-0700
TZOFFSETTO:-0800
TZNAME:PST
DTSTART:20221106T090000
END:STANDARD
BEGIN:DAYLIGHT
TZOFFSETFROM:-0800
TZOFFSETTO:-0700
TZNAME:PDT
DTSTART:20230312T100000
END:DAYLIGHT
BEGIN:STANDARD
TZOFFSETFROM:-0700
TZOFFSETTO:-0800
TZNAME:PST
DTSTART:20231105T090000
END:STANDARD
END:VTIMEZONE
BEGIN:VEVENT
DTSTART;VALUE=DATE:20220720
DTEND;VALUE=DATE:20220725
DTSTAMP:20260421T233530
CREATED:20220128T204916Z
LAST-MODIFIED:20220128T204916Z
UID:6726-1658275200-1658707199@linggui.org
SUMMARY:Full Program Enrollment for Both Summer Retreats In-Person with Dr. Liu Dong & Master Liu He
DESCRIPTION:REGISTRATION CLOSES THURSDAY\, JULY 7\, 2022\nEnroll in the both Summer Retreats and receive 10% tuition reduction.\nWe are back to an IN PERSON Retreat for our July sessions!\nWe are planning to gather together in-person this summer at the Alton L. Collins Retreat Center! We look forward to this new place to gather!\nThe facilities provide a lodge type feel with many outdoor spaces\, a large lobby\, library\, and more!\nMagnificent western red cedars grace the grounds. The natural forest setting as been preserved. Trails take you through the woods and along the streams that meander around the grounds. Our holistic chef makes sure your meals nourish your mind and body so you are able to focus on retreat.\nThe Alton L. Collins Retreat Center is dedicated to offering a safe\, quality environment for growth and reflection for service in the world.  The center is nestled in a Pacific northwestern forest surrounded by majestic\, moss-covered cedar\, spruce\, fir\, hemlock and bigleaf maple.  The natural environment supports ferns\, trillium\, and salmonberry bushes covering the forest floor.\nDr. Liu Dong  will be offering  a journey into the deep teachings found within the Ma Wang Dui tombs. The funeral robe depicts an ancient Medical Qigong form.\nMa Wang Dui Animals focuses on transformation of blood stasis by facilitating blood circulation\, smoothing Liver Qi\, and transforming emotions. Lectures will focus on the teaching of the pictures sewn onto the robe and Chinese/Taoist medical theory of blood stasis\, diagnostic patterns\, and how these forms can influence the blood.\nChan Meditation will also be presented. Chan Meditation is a personal internal journey\, utilizing breath and visualization to renew your perspective!\nMaster Liu He will be offering: Magic Square Taiji Fan is a practice for working with wind. People tend to experience too much anger creating internal wind\, some express while others hold inside. If you express your anger too much\, this wind will chase your Qi out resulting in exhaustion. If you keep the anger inside\, the internal wind can disturb your mental and physical health. With this practice you will learn how to use the fan as a weapon to lead the wind into a positive direction to enhance your health.\nYou will also learn Nourishing Yin Meditation to supplement the yin energies!\nLocation:\nAlton L. Collins Retreat Center\n32867 SE Highway 211\nEagle Creek Oregon\, 97022\n30 hours retreat – Dates/Times\nWednesday\, July 20\, 2022:  9:00am-12pm & 3-6pm \nThursday\, July 21\, 2022: 9:00am-12pm & 3-6pm\nFriday\, July 22\, 2022: 9:00am-12pm & 3-6:30pm\nSaturday\, July 23\, 2022: 9:00am-1:00pm & 3-6pm\nSunday\, July 24\, 2022: 8:30am-1:00pm\nTuition for the 30 hour retreat:\nEarly Registration $765 paid by June 20\, 2022 or $837 paid after June 20\,\nChoose one of the following required additional fees (these charges will need to be paid with check or add 3% credit card fee):\nA) On-site lodging (Single Room\, 5-nights) and all meals (ARRIVE Tuesday\, July 19 after 4pm first meal dinner) – $845\nB) On-site lodging (Double Room 5-nights) and all meals (ARRIVE Tuesday\, July 19 after 4pm first meal dinner) – $673\nC) Day Use Fee with 5 Lunches –  $145\nD) Day Use Fee with 5 Lunches & 4 Dinners – $235\nOnce tuition payment received\, you will be contacted via email to determine availability of your choice. Limited rooms available. Each room has a private bathroom and balcony/deck! \nEnroll online with buttons below or mail in a check(details listed below).\nEarly Registration $765 Enroll Here\n$837 Full Registration Enroll Here\nIf Paying by Check: Download Registration Form and enclose with check.\nAll tuition fees once paid are non-refundable\, transferable to another workshop/class/retreat for $80 fee. Covid cancellation policies will be posted at a later time. \nCovid protocols will be posted as we get closer to the retreat date. We are committed to your health and well-being and will abide by current protocols. More information to come.\nNational Certification Commission for Acupuncture and Oriental Medicine: 10 PDAs in OM and 5 PDAs for PE are pending through NCCAOM for diplomats in acupuncture and oriental medicine for Dr. Liu Dong’s portion. \nThese classes are suited for:   Acupuncturists\, Massage Therapists\, Chiropractors\, Qigong Instructors\, Yoga Instructors\, Martial Arts Instructors\, Reiki Practitioners\,  and other professionals. No prerequisites needed.\nWhereas when Qigong is properly practiced\, it is extremely beneficial and presents minimal risk to one’s health\, please consult your physician if you are in doubt of your capabilities or have special health concerns.
URL:https://linggui.org/course/full-program-enrollment-for-both-summer-retreats-in-person-with-dr-liu-dong-master-liu-he-2/
LOCATION:Alton L. Collins Retreat Center\, 32867 SE Highway 211\, Eagle Creek\, OR\, 97022\, United States
CATEGORIES:Homepage,In-Person,News,Qigong
END:VEVENT
BEGIN:VEVENT
DTSTART;VALUE=DATE:20220722
DTEND;VALUE=DATE:20220725
DTSTAMP:20260421T233530
CREATED:20220128T201718Z
LAST-MODIFIED:20220929T192828Z
UID:6725-1658448000-1658707199@linggui.org
SUMMARY:Magic Square TaiJi Fan with Master Liu He - IN PERSON
DESCRIPTION:REGISTRATION CLOSES THURSDAY\, JULY 7\, 2022\nWe are back to an IN-PERSON Retreat for our July sessions!\nWe are planning to gather together in person this summer at the Alton L. Collins Retreat Center! We look forward to this new place to gather!\nThe facilities provide a lodge-type feel with many outdoor spaces\, a large lobby\, library\, and more!\nMagnificent western red cedars grace the grounds. The natural forest setting has been preserved. Trails take you through the woods and along the streams that meander around the grounds. Our holistic chef makes sure your meals nourish your mind and body so you are able to focus on retreat.\nThe Alton L. Collins Retreat Center is dedicated to offering a safe\, quality environment for growth and reflection for service in the world.  The center is nestled in a Pacific northwestern forest surrounded by majestic\, moss-covered cedar\, spruce\, fir\, hemlock\, and big leaf maple.  The natural environment supports ferns\, trillium\, and salmonberry bushes covering the forest floor.\nJoin Master Liu He for this 15-hour Retreat featuring beautiful forms!\nMagic Square Taiji Fan is a practice for working with wind. People tend to experience too much anger creating internal wind\, some express while others hold inside. If you express your anger too much\, this wind will chase your Qi out resulting in exhaustion. If you keep the anger inside\, the internal wind can disturb your mental and physical health. With this practice\, you will learn how to use the fan as a weapon to lead the wind in a positive direction to enhance your health.\nYou will also learn Nourishing Yin Meditation to supplement the yin energies! \n**Yi Jing (I Ching) #57 Xun-Compliance “\nAncient Wisdom of the Chinese Classic\nShe will share her wisdom and explain each line of this hexagram (double Wind trigram) and introduce you to using the Yi Jing (I-Ching) changing philosophy to help you in life with acceptance\, adapting\, and embracing uncertainty.\nThis is a 15-hour retreat.\nDates: \nFriday\, July 22\, 2022: 3-6:30pm\nSaturday\, July 23\, 2022: 9am-1:00pm & 3-6pm\nSunday\, July 24\, 2022: 8:30am-1:00pm\nFriday\, July 29\, 2022:  7:00am-7:30am Pacific Qi-Zoom Review Class – you will receive the recording to view for one month \nWhen enrolling\, you will receive\n\nFan will be provided to you\nLecture slide presentation post class\nFree Review class via Qi-Zoom on Friday\, July 29 7:00am-7:30am\nRecording link of the review class to view for 4 weeks. \nRecorded links of the sessions\, available to view for 3 weeks\n\nLocation:\nAlton L. Collins Retreat Center\n32867 SE Highway 211\nEagle Creek Oregon\, 97022\nTuition for the 15-hour retreat:\nEarly Registration $425 paid by June 22\, 2022\, or $455 paid after June 22\,\nChoose one of the following required additional fees (these charges will need to be paid with a check or add 3% credit card fee):\nA) On-site lodging (Single Room\, 2-nights) and all meals (ARRIVE Friday\, July 22 after 1:30pm-first meal dinner) – $360\nB) On-site lodging (Double Room 2-nights) and all meals (ARRIVE Friday\, July 22 after 1:30pm-first meal dinner) – $291\nC) Day Use Fee with 2 Lunches –  $50\nD) Day Use Fee with 2 Lunches & 2 Dinners – $110\nOnce tuition payment is received\, you will be contacted via email to determine the availability of your choices. Limited rooms are available. Each room has a private bathroom and balcony/deck! \nENROLL IN BOTH RETREATS AND RECEIVE 10% off tuition. Contact us for more information. \nAll tuition fees once paid are non-refundable\, transferable to another workshop/class/retreat for an $80 fee. Covid cancellation policies will be posted at a later time. \nCovid protocols will be posted as we get closer to the retreat date. We are committed to your health and well-being and will abide by current protocols. More information to come.\nEarly Registration $425 Enroll Here\nFull Registration $455 Enroll Here\nIf Paying by Check: Download Registration Form and enclose with check.\nInterested in both Retreats? Enroll in both retreats and receive 10% off tuition! Click Here for more information…\nFans will be available for use and purchase at the retreat or bring your own.\nWhereas when Qigong is properly practiced\, it is extremely beneficial and presents minimal risk to one’s health\, please consult your physician if you are in doubt of your capabilities or have special health concerns.
URL:https://linggui.org/course/magic-square-taiji-fan-with-master-liu-he-in-person-2/
LOCATION:Alton L. Collins Retreat Center\, 32867 SE Highway 211\, Eagle Creek\, OR\, 97022\, United States
CATEGORIES:Homepage,In-Person,News,Qigong,Yi Jing
END:VEVENT
END:VCALENDAR