BEGIN:VCALENDAR
VERSION:2.0
PRODID:-//Ling Gui International Healing Qigong School - ECPv6.15.20//NONSGML v1.0//EN
CALSCALE:GREGORIAN
METHOD:PUBLISH
X-ORIGINAL-URL:https://linggui.org
X-WR-CALDESC:Events for Ling Gui International Healing Qigong School
REFRESH-INTERVAL;VALUE=DURATION:PT1H
X-Robots-Tag:noindex
X-PUBLISHED-TTL:PT1H
BEGIN:VTIMEZONE
TZID:America/Los_Angeles
BEGIN:DAYLIGHT
TZOFFSETFROM:-0800
TZOFFSETTO:-0700
TZNAME:PDT
DTSTART:20210314T100000
END:DAYLIGHT
BEGIN:STANDARD
TZOFFSETFROM:-0700
TZOFFSETTO:-0800
TZNAME:PST
DTSTART:20211107T090000
END:STANDARD
BEGIN:DAYLIGHT
TZOFFSETFROM:-0800
TZOFFSETTO:-0700
TZNAME:PDT
DTSTART:20220313T100000
END:DAYLIGHT
BEGIN:STANDARD
TZOFFSETFROM:-0700
TZOFFSETTO:-0800
TZNAME:PST
DTSTART:20221106T090000
END:STANDARD
BEGIN:DAYLIGHT
TZOFFSETFROM:-0800
TZOFFSETTO:-0700
TZNAME:PDT
DTSTART:20230312T100000
END:DAYLIGHT
BEGIN:STANDARD
TZOFFSETFROM:-0700
TZOFFSETTO:-0800
TZNAME:PST
DTSTART:20231105T090000
END:STANDARD
END:VTIMEZONE
BEGIN:VEVENT
DTSTART;TZID=America/Los_Angeles:20220424T100000
DTEND;TZID=America/Los_Angeles:20220605T120000
DTSTAMP:20260422T032630
CREATED:20220211T031730Z
LAST-MODIFIED:20220929T193014Z
UID:6728-1650794400-1654430400@linggui.org
SUMMARY:Super Magic Square for Time and Space Healing with Master Liu He - Livestream
DESCRIPTION:Empower Your Inner Magic Square in this Water Tiger Year!\nSuper Magic Square (Luo Shu) Qi for Healing\nRegistration Full\nThe magic square is a magical numerical model of the universe. You will find it being used in Feng Shui\, Qigong\, Chinese Medicine\, and astrology. The diagram shows a way to interpret harmonization between humans and the universe. It combines time\, space\, directions\, eight trigrams\, and Qi flow cycle. The square uses the numbers 1 to 9. The sum of each line\, column\, and diagonal line is 15\, the exact super magic number. \nIn the Year of the Water Tiger 2022\, the magic square depicts the original diagram.\nJoin Master Liu He as she discusses the Magic Square Qi of this life-changing year. The 2022 Water Tiger presents an opportunity for healing deeper wounds found in the physical\, emotional\, and mental bodies.  \nIn this six-class series\, you will learn:\n\nSuper Magic Square Acu-pressure for the Head and Abdomen \nGreat Wheel Medical Qigong for the Heart\n\nFREE BONUS class: Summer Begins! Lift Up Your Heart in the Great Yang Season\, read more here…(value $49)\n\nDates: April 24\, May 1\, 8\, 15\, 22\, June 5\, 2022\nTime: 10 am-12 pm Pacific\nNational Certification Commission for Acupuncture and Oriental Medicine: 12 PDAs are approved through NCCAOM  (PE-CW) for diplomats in acupuncture and oriental medicine. 2 PDAs are provided for each class. You will need to attend live to receive the PDAs. \nWhen enrolling\, you will receive\n\nRecorded links of the sessions\, available to view for 2 weeks.\nE- handouts for each form prior to class.\nQi transmission in your own home from Master Liu He\nFront row seat in your own home\n\nTuition: $ 269\nEnroll online below or mail in a check (details below):\nTuition $269 Enroll Here\nClick Here If Paying by Check: Download Registration Form and enclose with a check.\nThis class is suited to: Acupuncturists\, Massage Therapists\, Chiropractors\, Qigong Instructors\, Yoga Instructors\, Martial Arts Instructors\, Reiki Practitioners\, and other professionals. No prerequisites are needed.\nWhereas when Qigong is properly practiced\, it is extremely beneficial and presents minimal risk to one’s health\, please consult your physician if you are in doubt of your capabilities or have special health concerns.
URL:https://linggui.org/course/super-magic-square-for-time-and-space-healing-with-master-liu-he-livestream-2/
CATEGORIES:Online,Qigong
END:VEVENT
BEGIN:VEVENT
DTSTART;TZID=America/Los_Angeles:20220507T100000
DTEND;TZID=America/Los_Angeles:20220507T123000
DTSTAMP:20260422T032630
CREATED:20220210T234600Z
LAST-MODIFIED:20220929T193003Z
UID:6729-1651917600-1651926600@linggui.org
SUMMARY:Summer Begins! Lift Up Your Heart in the ‘Great Yang’ Season with Master Liu He Livestream
DESCRIPTION:At this time\, Summer Begins and the Great Yang season arrives!\nYang energy is bright\, strong\, and hot like the midday sun. Yang and Yin harmonize together. Yin is expressed as cooling\, calming\, and darkness. Together\, Yin & Yang\, like night & day\, represent the always moving energies that make up all of existence. These energies consistently mingle together within the life cycles. The cycle of the seasons is a perfect demonstration of this motion.  As we move into summer\, we reach a crucial point in the yearly cycle\, the summer solstice. Summer is known as the “Great Yang” season because of this high yang energy: the sun (ultimate yang energy) is closest to the earth and the day (yang time) is the longest at this time of year.\nMaster Liu He teaches us that to fully enjoy the powers of the season is to surrender and learn what it has to offer. Following the Summer cycle of Taoist life suggestions allows our Hearts to lift up in sync with nature. \nReset your mind\, body\, and spirit to the Summer season! \nDate: May 7\, 2022\nTime: 10 am – 12:30 pm\, PT\n  \nWhen enrolling\, you will receive\n\n7 day summer food plan to be used the first 7-days of summer\, created by Master Liu He\nRecorded links of the sessions\, available to view for 2 weeks\nQi transmission in your own home from Master Liu He\nFront row seat in your own home\n\nLecture slide presentation post class\n\nTuition $49\nEnroll below online Or mail in check (instructions below)\n$49 Tuition Enroll Here\n\nClick here – If Paying by Check: Download Registration Form and enclose with check.\nAll tuition fees once paid are non-refundable\, transferable to another workshop/class/retreat for $25 fee.\nNo prerequisites needed.Whereas when Qigong is properly practiced\, it is extremely beneficial and presents minimal risk to one’s health\, please consult your physician if you are in doubt of your capabilities or have special health concerns.
URL:https://linggui.org/course/summer-begins-lift-up-your-heart-in-the-great-yang-season-with-master-liu-he-livestream-2/
CATEGORIES:Qigong
END:VEVENT
END:VCALENDAR