BEGIN:VCALENDAR
VERSION:2.0
PRODID:-//Ling Gui International Healing Qigong School - ECPv6.15.20//NONSGML v1.0//EN
CALSCALE:GREGORIAN
METHOD:PUBLISH
X-ORIGINAL-URL:https://linggui.org
X-WR-CALDESC:Events for Ling Gui International Healing Qigong School
REFRESH-INTERVAL;VALUE=DURATION:PT1H
X-Robots-Tag:noindex
X-PUBLISHED-TTL:PT1H
BEGIN:VTIMEZONE
TZID:America/Los_Angeles
BEGIN:DAYLIGHT
TZOFFSETFROM:-0800
TZOFFSETTO:-0700
TZNAME:PDT
DTSTART:20250309T100000
END:DAYLIGHT
BEGIN:STANDARD
TZOFFSETFROM:-0700
TZOFFSETTO:-0800
TZNAME:PST
DTSTART:20251102T090000
END:STANDARD
BEGIN:DAYLIGHT
TZOFFSETFROM:-0800
TZOFFSETTO:-0700
TZNAME:PDT
DTSTART:20260308T100000
END:DAYLIGHT
BEGIN:STANDARD
TZOFFSETFROM:-0700
TZOFFSETTO:-0800
TZNAME:PST
DTSTART:20261101T090000
END:STANDARD
BEGIN:DAYLIGHT
TZOFFSETFROM:-0800
TZOFFSETTO:-0700
TZNAME:PDT
DTSTART:20270314T100000
END:DAYLIGHT
BEGIN:STANDARD
TZOFFSETFROM:-0700
TZOFFSETTO:-0800
TZNAME:PST
DTSTART:20271107T090000
END:STANDARD
END:VTIMEZONE
BEGIN:VEVENT
DTSTART;TZID=America/Los_Angeles:20260721T073000
DTEND;TZID=America/Los_Angeles:20260721T090000
DTSTAMP:20260420T000842
CREATED:20260223T012445Z
LAST-MODIFIED:20260327T004851Z
UID:9332-1784619000-1784624400@linggui.org
SUMMARY:2026 The Grand Energy Return (Small Intestine Channel Class) with Master Liu He – Livestream
DESCRIPTION:2026 The Grand Energy Return \nThe Twelve Peak-Yin Full Moons Amplifying Celestial Qi Through the Twelve Meridians \nThis class will focus on the Small Intestine Channel \nJuly 21\, 2026\nTime: 7:30 am to 9:00 am Pacific (class will be recorded and will be sent out for viewing as soon as possible the same day) \nThis course is taught in English. \nIn nature\, the Full Moon reveals its power most visibly through the oceans. As lunar gravity draws the salty waters of the sea into high tide\, the waters rise\, move\, and redistribute. This is not force\, but resonance — the Moon calling forth what is already fluid. Human beings\, too\, are born of water. Our blood carries salt\, minerals\, and electrical potential\, mirroring the oceans of the Earth. When the Full Moon reaches its peak Yin\, this same lunar influence subtly invites our internal waters to rise into a natural “high tide” within the body. \nAt these times\, the movement of blood and Qi becomes more accessible. Stagnation softens\, blockages loosen\, and what has been held can be released with greater ease. When guided with awareness\, this rising tide does not only clear — it also recharges\, allowing Qi to circulate more fully through the meridians\, like a river restored to its natural course. \nThe year 2026 carries an especially strong Fire influence\, amplifying heat\, movement\, and upward force within the body. Fire at its peak could instigate Qi and blood to rush upward. Without balance\, this excess may manifest as irritability\, emotional volatility\, overexcitement\, insomnia\, or the rapid consumption of blood and vitality. When Fire dominates without sufficient Yin anchoring\, the spirit becomes restless and the heart unsettled. \nThe Full Moon\, as the height of Yin\, offers a crucial counterbalance. By consciously aligning with lunar cycles\, the rising blood tide can be guided rather than scattered — releasing excess heat\, nourishing circulation\, and transforming agitation into clarity. In this way\, the Twelve Peak-Yin Full Moons of 2026 become not moments of overwhelm\, but gateways for harmonizing Fire with Water\, blood with Qi\, and Celestial realms with the human body. \nCourse intention: \nOver 12 months\, this course invites you into an intentional\, sacred journey through the meridian system. By harmonizing each meridian in turn\, the practice supports holistic balance and the gentle awakening of the internal organs\, allowing the body’s innate intelligence to reorganize itself in a more unified way. \nAligned with the waxing and waning of the moon\, the training encourages you to attune your inner rhythms to the greater cycles of nature. This celestial synchronization can quiet the mind\, deepen presence\, and strengthen the sense of oneness between body\, breath\, and spirit—supporting the regulation of the inner clock and cultivating more restorative rest and sleep. \nJoin Master Liu He in navigating the Twelve Peak-Yin Full Moons of the Grand Energy Return\, 2026. \nInfo for the full series: \n 7:30 am to 9:00 am Pacific (all classes recorded and will be sent out for viewing as soon as possible the same day) \nLunar Month 1: Tuesday March 3\, 2026 – Lung channel (free class) \nLunar Month 2: Wednesday April 1\, 2026 – Large Intestine channel \nLunar Month 3: Friday May 1\, 2026 – Stomach channel \nLunar Month 4: Sunday May 31\, 2026 – Spleen channel \nLunar Month 5: Monday June 29\, 2026 – Heart channel \nLunar Month 6: Tuesday July 21\, 2026 – Small Intestine channel (not full moon day) \nLunar Month 7: Friday August 28\, 2026 – Bladder channel \nLunar Month 8: Saturday September 26\, 2026 – Kidney channel \nLunar Month 9: Monday October 26\, 2026 – Master Heart Pericardium channel \nLunar Month 10: Tuesday November 24\, 2026 – Triple Burner channel \nLunar Month 11: Wednesday December 23\, 2026 – Gallbladder channel \nLunar Month 12: Friday January 22\, 2027 – Liver channel \nWhen enrolling\, you will receive: \n\nZoom Class Link for the real-time (live) online class\nClass recording link to view for 4 weeks\nLecture Slide presentation link to download post-class\nFront-row seat in your own home\nQi Transmission in your own home from Master Liu He\n\nENROLL HERE FOR CLASS #6 Small Intestine- $39 \nTuition for the full 12 class series: $375 (individual courses $39 per session) If interested in the Full Course\, contact us.  \nIf Paying by Check: Download the Registration Form (with this link) and enclose it with a check.\nPlease email to advise us that you are mailing a check. Thank you. \nAll tuition fees\, once paid\, are non-refundable; they are transferable to another workshop/class/retreat with a $35 transfer fee.  \n\n\n\nNational Certification Board for Acupuncture and Herbal Medicine: 1.5 PDAs  are pending through NCBAHM (formerly NCCAOM) for licensed acupuncturists in the PE-CW category for each class. Others who need CEUs may receive the certificates; however\, you will need to check with your licensing board if they will accept them. You must attend live (in real-time online) to receive the PDAs. \n\nWhen Qigong is properly practiced\, it is extremely beneficial and presents minimal risk to one’s health\, please consult your physician if you are in doubt of your capabilities or have special health concerns. \nThis class suited to: Acupuncturists\, Massage Therapists\, Chiropractors\, Qigong Instructors\, Yoga Instructors\, Martial Arts Instructors\, Reiki Practitioners\, and other professionals. No prerequisites are needed.
URL:https://linggui.org/course/2026-the-grand-energy-return-small-intestine-channel-class-with-master-liu-he-livestream/
CATEGORIES:Astrology,Feng Shui,Online,Qigong
END:VEVENT
BEGIN:VEVENT
DTSTART;VALUE=DATE:20260725
DTEND;VALUE=DATE:20260730
DTSTAMP:20260420T000842
CREATED:20260226T193823Z
LAST-MODIFIED:20260327T005126Z
UID:9370-1784937600-1785369599@linggui.org
SUMMARY:30-Hour Qigong Summer Retreat with Dr. Liu Dong & Master Liu He In-Person
DESCRIPTION:Immerse yourself in 5-days of Qigong and Meditation led by Dr. Liu Dong and Master Liu He!\nIN-PERSON Retreat for our July sessions!\nWe plan to gather in person this summer at the Alton L. Collins Retreat Center! We look forward to connecting with you!\nThe facilities provide a lodge-type feel with many outdoor spaces\, a large lobby\, a library\, and more! Magnificent western red cedars grace the grounds. The natural forest setting has been preserved. Trails take you through the woods and along the streams that meander around the grounds. Their  chef and culinary team make sure your meals nourish your mind and body so you can focus on retreat. \nThe Alton L. Collins Retreat Center is dedicated to offering a safe\, quality environment for growth and reflection for service worldwide. The center is nestled in a Pacific northwestern forest surrounded by majestic\, moss-covered cedar\, spruce\, fir\, hemlock\, and big-leaf maple. The natural environment supports ferns\, trillium\, and salmonberry bushes covering the forest floor. \nWhat you will learn: \n\n\nFORM:  qigong form for your personal practice; this allows for self-healing and the ability to connect with qi and transmit\nTHEORY:  Chinese Medicine\, Daoist Medicine (pertaining to the season\, form\, meridians\, acupoints)\nPHILOSOPHY:  Qigong philosophy\, lifestyle practices – what is most beneficial for the season in regard to daily living\n\n\n\nDr. Liu Dong Session (Pearl of the Moon Qigong & Chan Meditation) Read more here…\nSaturday\, July 25\, 2026:  9am-12:00pm & 3-6pm\nSunday\, July 26\, 2026:  9am-12:00pm & 3-6pm\nMonday\, July 27\, 2026:  9am-12pm \nMaster Liu He Session (Emei Five Animal Qigong) Read more here…\nMonday\, July 27\, 2026: 3:00-6:00pm\nTuesday\, July 28\, 2026: 8:30am-12:30pm & 3:00pm-6:00pm\nWednesday\, July 29\, 2025: 8:30am-12:30pm\n90-minute Zoom Review/Class on Tuesday\, August 4\, 2026 at 8:00am-9:30am Pacific \n  \nLocation:\nAlton L. Collins Retreat Center\n32867 SE Highway 211\nEagle Creek\, Oregon\, 97022 \nTuition for the 30-hour retreat:\nEarly Registration $875 paid by June 24\, 2026\, or $950 paid after June 24. YOU WILL NEED TO ENROLL BY  June 24\, 2026 (the retreat center requires final notice by then to schedule staff/supplies). \nPay online here $875 Early Registration \nIf Paying by Check: Download Registration Form and enclose with check.  \nPlease advise us via email if you are mailing in payments. \nPlease contact us about availability!\nChoose one of the following required additional fees (these charges will need to be paid with a check or\, if using a credit card\, add a 3.5% fee): There are a limited amount of rooms\, and they are assigned on a first-paid basis.\nA) On-site lodging (Single Room\, 5-nights) and all meals (ARRIVE Friday\, July 24 after 4pm – first meal dinner at 6pm) – $985\nB) On-site lodging (Double Room 5-nights) and all meals (ARRIVE Friday\, July 24 after 4pm – first meal dinner at 6pm) – $780\nC) Day Use Fee with 5 Lunches (ARRIVE Saturday\, July 25 after 8am) – $290 \nOnce tuition payment is received\, you will be emailed about your options for the above list. Limited rooms are available. Rooms are assigned in the order that we receive payments. Each room has a private bathroom and balcony/deck! \nAll tuition fees\, once paid\, are non-refundable. It is transferable to another workshop/class/retreat for an $80 fee.\n \nCANCELLATION FOR LODGING/MEAL/DAY USE FEES\n \ncancel by 6/24 – 20% cancellation fee \ncancel after 6/24 – 7/15 50% cancellation fee \nno refunds after 7/15 (there is a possibility of exceptions if we have a waiting list with a 50% cancellation fee) \n\n\n  \n\nNational Certification Board for Acupuncture and Herbal Medicine: 29 PDAs  are pending through NCBAHM (formerly NCCAOM) for licensed acupuncturists in the PE-CW category. Others who request CEUs may receive the certificates; however\, you will need to check with your licensing board if they will accept them. \nWhen Qigong is properly practiced\, it is extremely beneficial and presents minimal risk to one’s health; please consult your physician if you are in doubt of your capabilities or have special health concerns. \nThis class is suited to: Acupuncturists\, Massage Therapists\, Chiropractors\, Qigong Instructors\, Yoga Instructors\, Martial Arts Instructors\, Reiki Practitioners\, and other professionals. No prerequisites are needed.
URL:https://linggui.org/course/30-hour-qigong-summer-retreat-with-dr-liu-dong-master-liu-he-in-person/
CATEGORIES:In-Person,Qigong
END:VEVENT
BEGIN:VEVENT
DTSTART;VALUE=DATE:20260725
DTEND;VALUE=DATE:20260728
DTSTAMP:20260420T000842
CREATED:20260226T193847Z
LAST-MODIFIED:20260327T005014Z
UID:9362-1784937600-1785196799@linggui.org
SUMMARY:Pearl of the Moon & Chan Meditation Summer Retreat In-Person with Dr. Liu Dong
DESCRIPTION:Immerse yourself in 3-days of Qigong and Meditation led by Dr. Liu Dong. In this retreat\, he will introduce you to the form Pearl of the Moon\, Chan Meditation\, and Guan Yin Mantra/Mudras.  \nPearl of the Moon is a powerful Qigong form that is specific for eye issues. Passed down from generations in the Liu family\,  it is a form for activating Liver blood\, waking up Kidney Jing\, and nourishing the eyes. Furthermore\, it helps to reset the signals of 12 cranial nerves\, especially the IInd\, IIIrd\, IVth\, and VIth cranial nerves. \nChan Meditation is a personal internal journey\, utilizing breath and visualization to renew your perspective! \nIN-PERSON Retreat for our July sessions!\nWe plan to gather in person this summer at the Alton L. Collins Retreat Center! We look forward to connecting with you! \nThe facilities provide a lodge-type feel with many outdoor spaces\, a large lobby\, a library\, and more! Magnificent western red cedars grace the grounds. The natural forest setting has been preserved. Trails take you through the woods and along the streams that meander around the grounds. Their chef and culinary team make sure your meals nourish your mind and body so you can focus on retreat. \nThe Alton L. Collins Retreat Center is dedicated to offering a safe\, quality environment for growth and reflection for service worldwide. The center is nestled in a Pacific northwestern forest surrounded by majestic\, moss-covered cedar\, spruce\, fir\, hemlock\, and big-leaf maple. The natural environment supports ferns\, trillium\, and salmonberry bushes covering the forest floor. \nWhat you will learn: \n\n\nFORM:  qigong form for your personal practice; this allows for self-healing and the ability to connect with qi and transmit\nTHEORY:  Chinese Medicine\, Daoist Medicine (pertaining to the season\, form\, meridians\, acupoints)\nPHILOSOPHY:  Qigong philosophy\, lifestyle practices – what is most beneficial for the season in regard to daily living\n\n\nWhen enrolling\, you will receive\n\nLectures & handouts\n\n15 hours of in-person classes\n\nThis is a 15-hour retreat.\nSaturday\, July 25\, 2026:  9am-12:00pm & 3-6pm\nSunday\, July 26\, 2026:  9am-12:00pm & 3-6pm\nMonday\, July 27\, 2026:  9am-12pm \nLocation:\nAlton L. Collins Retreat Center\n32867 SE Highway 211\nEagle Creek\, Oregon\, 97022 \nTuition for the 15-hour retreat:\nEarly Registration $485 paid by June 24\, 2026\, or $515 paid after June 24 (if allowed by the retreat center-please check with us first on availabilty). YOU WILL NEED TO ENROLL BY  June 25\, 2026 (the retreat center requires final notice by then to schedule staff ).\n \nPay Online Here – Early Tuition $485 \n\n\nIf Paying by Check: Download Registration Form and enclose with check. \nPlease advise us via email if you are mailing in payments.\nAll tuition fees\, once paid\, are non-refundable. It is transferable to another workshop/class/retreat for an $80 fee. \n\nCONTACT US ABOUT AVAILABILITY for on-site lodging rooms are limited.\nChoose one of the following required additional fees (these charges will need to be paid with a check or if using credit card add 3.5% fee): There are a limited amount of rooms and are assigned on a first paid basis.\nA) On-site lodging (Single Room\, 3-nights) and all meals (ARRIVE Friday\, July 24 after 4pm – first meal dinner at 6pm) – $650\nB) On-site lodging (Double Room 3-nights) and all meals (ARRIVE Friday\, July 24 after 4pm – first meal dinner at 6pm) – $525\nC) Day Use Fee with 3 Lunches (ARRIVE Saturday\, July 25 after 8am) – $160 \nPlease contact us about your additional choices to ensure an option is available.\nENROLL IN BOTH RETREATS AND RECEIVE discount. Read more here. \nOnce tuition payment is received\, you will be emailed about your options for the above list. Limited rooms are available. Rooms are assigned in the order that we receive payments. Each room has a private bathroom and balcony/deck!\n \n\nNational Certification Board for Acupuncture and Herbal Medicine: 15 PDAs  are pending through NCBAHM (formerly NCCAOM) for licensed acupuncturists in the PE-CW category. Others who need CEUs may receive the certificates; however\, you will need to check with your licensing board if they will accept them.  \n\n\n  \nCANCELLATION FOR LODGING/MEAL/DAY USE FEES\n\ncancel by 6/24 – 20% cancellation fee \ncancel after 6/24 – 7/15 50% cancellation fee \nno refunds after 7/15 (there is a possibility of exceptions if we have a waiting list with a 50% cancellation fee) \nWhen Qigong is properly practiced\, it is extremely beneficial and presents minimal risk to one’s health; please consult your physician if you are in doubt of your capabilities or have special health concerns. \nThis class is suited to: Acupuncturists\, Massage Therapists\, Chiropractors\, Qigong Instructors\, Yoga Instructors\, Martial Arts Instructors\, Reiki Practitioners\, and other professionals. No prerequisites are needed. \n\n 
URL:https://linggui.org/course/pearl-of-the-moon-chan-meditation-summer-retreat-in-person-with-dr-liu-dong/
CATEGORIES:In-Person,Qigong
END:VEVENT
BEGIN:VEVENT
DTSTART;VALUE=DATE:20260727
DTEND;VALUE=DATE:20260730
DTSTAMP:20260420T000842
CREATED:20260226T193951Z
LAST-MODIFIED:20260327T005223Z
UID:9367-1785110400-1785369599@linggui.org
SUMMARY:Emei Five Animal Qigong Summer Retreat with Master Liu He In-Person
DESCRIPTION:Emei Five Animal Qigong\nWhere Mindful Movement\, Medicine\, and Philosophy Converge\nHigh among the mist-veiled peaks of China’s sacred mountain\, Mount Emei preserves a living tradition guided by an ancient truth. \nHere\, intentional movement and healing have never been separate paths. Strength refines vitality. Movement restores balance. \n\nThree Dimensions\, One Shen (Spirit)\nEmei is not simply a place—it is an ecosystem of spirit\, movement\, and life. \n\nExperience the Five Animal Qigong in Living Nature\nThis summer\, you are invited to step into this living lineage. \nJoin Master Liu He for an immersive retreat surrounded by the ancient\, beautiful forests of Oregon. In this intimate natural setting\, the Emei Five-Animal Qigong reveals its true depth and subtlety. \nEach routine embodies the essence of the deer’s grace\, the tiger’s power\, the bear’s rooted strength\, the monkey’s agility\, and the crane’s serenity. Through guided visualization and embodied practice\, you will learn to: \n\nAwaken your natural instinct and sharpen sensory awareness—an invaluable skill in today’s fast-paced world\nCultivate strength without tension\nIncrease flexibility without strain\nHarmonize breath\, intention\, and movement\nNourish vitality while refining awareness\n\nRooted in Daoist subtlety and illuminated by Buddhist clarity\, this practice becomes more than movement—it becomes a path of integration. \nBody and mind. Effort and ease. Discipline and nourishment. \n  \nIN-PERSON Retreat for our July sessions! \nWe plan to gather in person this summer at the Alton L. Collins Retreat Center! We look forward to connecting with you!\nThe facilities provide a lodge-type feel with many outdoor spaces\, a large lobby\, a library\, and more! Magnificent western red cedars grace the grounds. The natural forest setting has been preserved. Trails take you through the woods and along the streams that meander around the grounds. Their chef and culinary team make sure your meals nourish your mind and body so you can focus on retreat. \nThe Alton L. Collins Retreat Center is dedicated to offering a safe\, quality environment for growth and reflection for service worldwide. The center is nestled in a Pacific northwestern forest surrounded by majestic\, moss-covered cedar\, spruce\, fir\, hemlock\, and big-leaf maple. The natural environment supports ferns\, trillium\, and salmonberry bushes covering the forest floor. \nWhat you will learn: \n\n\nFORM:  qigong form for your personal practice; this allows for self-healing and the ability to connect with qi and transmit\nTHEORY:  Chinese Medicine\, Daoist Medicine (pertaining to the season\, form\, meridians\, acupoints)\nPHILOSOPHY:  Qigong philosophy\, lifestyle practices – what is most beneficial for the season in regard to daily living\n\n\n\nWhen enrolling\, you will receive\n\nLecture \n\n14 hours of in-person classes\n90-minute Zoom session on Tuesday\, August 4\, 2026- 8:00am Pacific . The class will be recorded and available to view for 4 weeks.\nQi transmission from Master Liu He\n\nThis is a 14-hour in-person & 90 minute Zoom\nDates: \nMonday\, July 27\, 2026: 3:00-6:00pm\nTuesday\, July 28\, 2026: 8:30am-12:30pm & 3:00pm-6:00pm\nWednesday\, July 29\, 2025: 8:30am-12:30pm\n90-minute Zoom Review/Class on Tuesday\, August 4\, 2026 at 8:00am-9:30am Pacific \nLocation:\nAlton L. Collins Retreat Center\n32867 SE Highway 211\nEagle Creek\, Oregon\, 97022 \nTuition for the 15-hour retreat:\nEarly Registration $485 paid by June 24\, 2026\, or $515 paid after June 24. YOU WILL NEED TO ENROLL BY  June 24\, 2026 (the retreat center requires final notice by then to schedule staff and supplies).\n \nPay Here for Early Tuition $485 \nIf Paying by Check: Download Registration Form and enclose with check. \nPlease advise us via email if you are mailing in payments.\nAll tuition fees\, once paid\, are non-refundable. It is transferable to another workshop/class/retreat for an $80 fee.\nPlease contact us about availability for lodging & attendance. \nChoose one of the following required additional fees (these charges will need to be paid with a check or\, if using a credit card\, add a 3.5% fee): There are a limited amount of rooms\, and they are assigned on a first-paid basis.\nA) On-site lodging (Single Room\, 2 nights) and all meals (ARRIVE Monday\, July 27 after 2pm-first meal dinner) – $445\nB) On-site lodging (Double Room 2 nights) and all meals (ARRIVE Monday\, July 27 after 2pm-first meal dinner) – $355\nC) Day Use Fee with 2 Lunches (July 28 & 29) – $120 \nOnce tuition payment is received\, you will be emailed about your options for the above list. Limited rooms are available. Rooms are assigned in the order that we receive payments. Each room has a private bathroom and balcony/deck! \nENROLL IN BOTH RETREATS AND RECEIVE discount. Read more here. \nCANCELLATION FOR LODGING/MEAL/DAY USE FEES\ncancel by 6/24 – 20% cancellation fee \ncancel after 6/24 – 7/15 50% cancellation fee \nno refunds after 7/15 (there is a possibility of exceptions if we have a waiting list with a 50% cancellation fee) \n  \nNational Certification Board for Acupuncture and Herbal Medicine: 1.5 PDAs  are pending through NCBAHM (formerly NCCAOM) for licensed acupuncturists in the PE-CW category. Others who request CEUs may receive the certificates; however\, you will need to check with your licensing board if they will accept them.\n\n\n  \nWhen Qigong is properly practiced\, it is extremely beneficial and presents minimal risk to one’s health; please consult your physician if you are in doubt of your capabilities or have special health concerns. \nThis class is suited to: Acupuncturists\, Massage Therapists\, Chiropractors\, Qigong Instructors\, Yoga Instructors\, Martial Arts Instructors\, Reiki Practitioners\, and other professionals. No prerequisites are needed. \n 
URL:https://linggui.org/course/emei-five-animal-qigong-summer-retreat-with-master-liu-he-in-person/
CATEGORIES:In-Person,Qigong
END:VEVENT
END:VCALENDAR