BEGIN:VCALENDAR
VERSION:2.0
PRODID:-//Ling Gui International Healing Qigong School - ECPv6.15.20//NONSGML v1.0//EN
CALSCALE:GREGORIAN
METHOD:PUBLISH
X-WR-CALNAME:Ling Gui International Healing Qigong School
X-ORIGINAL-URL:https://linggui.org
X-WR-CALDESC:Events for Ling Gui International Healing Qigong School
REFRESH-INTERVAL;VALUE=DURATION:PT1H
X-Robots-Tag:noindex
X-PUBLISHED-TTL:PT1H
BEGIN:VTIMEZONE
TZID:America/Los_Angeles
BEGIN:DAYLIGHT
TZOFFSETFROM:-0800
TZOFFSETTO:-0700
TZNAME:PDT
DTSTART:20220313T100000
END:DAYLIGHT
BEGIN:STANDARD
TZOFFSETFROM:-0700
TZOFFSETTO:-0800
TZNAME:PST
DTSTART:20221106T090000
END:STANDARD
BEGIN:DAYLIGHT
TZOFFSETFROM:-0800
TZOFFSETTO:-0700
TZNAME:PDT
DTSTART:20230312T100000
END:DAYLIGHT
BEGIN:STANDARD
TZOFFSETFROM:-0700
TZOFFSETTO:-0800
TZNAME:PST
DTSTART:20231105T090000
END:STANDARD
BEGIN:DAYLIGHT
TZOFFSETFROM:-0800
TZOFFSETTO:-0700
TZNAME:PDT
DTSTART:20240310T100000
END:DAYLIGHT
BEGIN:STANDARD
TZOFFSETFROM:-0700
TZOFFSETTO:-0800
TZNAME:PST
DTSTART:20241103T090000
END:STANDARD
END:VTIMEZONE
BEGIN:VEVENT
DTSTART;VALUE=DATE:20230401
DTEND;VALUE=DATE:20230402
DTSTAMP:20260421T053047
CREATED:20221114T202825Z
LAST-MODIFIED:20230925T192656Z
UID:7252-1680307200-1680393599@linggui.org
SUMMARY:Mien Shiang – Lecture et auto-massage du visage pour la santé Via Zoom\, en français
DESCRIPTION:Horaires: de 16h00 – 20h00 \n\nMien Xiang est une pratique vieille de près de 5 000 ans. Le terme signifie lecture du visage (mien) (shiang). C’est l’une des cinq branches de la médecine taoïste. Cette forme d’art complète d’autres études métaphysiques telles que le Ba Zi (lecture du destin) et le Feng Shui (étude de la terre). La lecture faciale utilise plusieurs cartes et utilise le plus souvent une carte faciale de 100 ans. Chaque position représente une seule année de votre vie afin d’identifier les zones de disharmonie dans le corps ainsi que les événements physiques et émotionnels traumatisants qui ont eu un impact sur un flux d’énergie sain. En même temps\, cela peut être considéré comme un moyen de prédire votre avenir.\n\nVous recevrez une version enregistrée de ce cours\, accessible pendant deux semaines.\n\nPrix : 99 Euros
URL:https://linggui.org/course/mien-shiang-lecture-et-auto-massage-du-visage-pour-la-sante-via-zoom-en-francais/
CATEGORIES:Astrology,French,Online,Qigong
END:VEVENT
BEGIN:VEVENT
DTSTART;TZID=America/Los_Angeles:20230415T093000
DTEND;TZID=America/Los_Angeles:20230415T150000
DTSTAMP:20260421T053047
CREATED:20221118T044713Z
LAST-MODIFIED:20230327T190605Z
UID:7279-1681551000-1681570800@linggui.org
SUMMARY:Xiu Zhen Tu Diagram of the Cultivation of Reality and Qigong with Master Liu He - Livestream
DESCRIPTION:Diagram of the Cultivation of Reality (Xiu Zhen Tu) and Qigong\n\nXiu Zhen means “to practice and learn the way of the truth.” It is a Daoist diagram of the human body illustrating the principles of Neidan “Internal alchemy”\, Chinese astrology\, and cosmology.\n\n\nMany internal landscaping teachings including this map show: 24 Jie Qi\, 28 Constellations\, 30 Lunar phases\, Thunder Rites\, and Golden Elixir.\n\nIn this 5-hour class\, the focus will contain:  24 Jie Qi\, Solar Terms\, and 30 Lunar phases traveling in the body. You will learn a qigong form to sync with this system.\n\n\nWhen enrolling\, you will receive\n\nRecorded links of the sessions\, available to view for 3 weeks.\nE- handouts prior to class.\nQi transmission in your own home from Master Liu He.\nLecture slide presentation post class.\n\nNational Certification Commission for Acupuncture and Oriental Medicine: 5 PDAs are approved through NCCAOM for diplomats in PE-CW. You will need to attend live online to receive the PDAs.  \nDate and Times: \nSaturday\, April 15\, 2023\n9:30 am-1:00 pm and 1:30 pm-3:00 pm (5 hours) \n\nTuition:  $150 \nEnroll online below or mail in a check (details listed below). \nThis course is the final class of the Spring Retreat featuring Qi Men Dun Jia (no need to enroll if you were part of the Retreat).   \n\nEnroll Here – $150 Tuition \nIf Paying by Check: Download Registration Form and enclose with check. Please email us and advise you are mailing your registration. \n\nTuition payments are non-refundable\, however they may be applied toward another course/retreat.\n\nWhereas when Qigong is properly practiced\, it is extremely beneficial and presents minimal risk to one’s health\, please consult your physician if you doubt your capabilities or have special health concerns.\n\nThese classes are suited for:   Acupuncturists\, Massage Therapists\, Chiropractors\, Qigong Instructors\, Yoga Instructors\, Martial Arts Instructors\, Reiki Practitioners\,  and other professionals. No prerequisites are needed.\n 
URL:https://linggui.org/course/7279/
CATEGORIES:Astrology,Online,Qigong
END:VEVENT
BEGIN:VEVENT
DTSTART;TZID=America/Los_Angeles:20230423T093000
DTEND;TZID=America/Los_Angeles:20230618T113000
DTSTAMP:20260421T053047
CREATED:20230208T185911Z
LAST-MODIFIED:20230429T211038Z
UID:7513-1682242200-1687087800@linggui.org
SUMMARY:Spring/Summer Class Series: Second Spring Qigong with Master Liu He Livestream
DESCRIPTION:Join us for our Spring/Summer Class Series (8 classes) featuring an opportune topic:  Second Spring “Building Your Qi Egg or Golden Seeds”! Within the moon calendar\, there are two Springs in 2023!\n\nLearn how to maintain vitality by regulating hormones with Ancient Daoist Practices. When your ovarian/testicular system ages this leads to the body’s aging and other symptoms. Building your Qi egg/seeds can energize your ovarian/testicular and endocrine systems potentially slowing the aging process. Transform your physical-emotional-mental health and your quality of life!\n\nWhat you will learn: \n\n\nFORM:  qigong form for your personal practice\, this allows for self-healing and the ability to connect with qi and transmit\nTHEORY:  Chinese Medicine\, Daoist Medicine (pertaining to the season\, form\, meridians\, acupoints)\nPHILOSOPHY:  Qigong philosophy\, lifestyle practices – what is most beneficial for the season in regard to daily living\nEach class varies and may also contain:\nNutritional practices – what is most beneficial to align with the seasonal Qi\nFeng Shui/Astrology – utilizing the Qi associated with the year or season\, Master Liu He provides practices to work with the Qi at a specific time\n\n\nWhat you will receive:  \n\nE-Handout for the form prior to the class\nZoom Class Link for the real-time (live) online class\nClass recording link to view for 2 weeks\nLecture Slide presentation link to download post-class\nQi Transmission in your own home from Master Liu He\n\n\n\n\nClass Dates:  8 Class Series (16 hours)\nSundays: April 23\, 30\, May 7\, 14\, 21\, June 4\, 11\, 18\, 2023\n9:30 am – 11:30 am Pacific Time\n\n\nNational Certification Commission for Acupuncture and Oriental Medicine: 16 PDAs are approved through NCCAOM for diplomats in PE-CW. You will need to attend live online (in real-time) to receive the PDAs. There are 2 PDA’s awarded for each class date. \n\nTuition:\nEarly Registration $319 before April 16\n$349 after\n\nAll tuition fees once paid are non-refundable\, they are transferable to another workshop/class/retreat.\nEnroll below with the payment buttons or mail in a check (see below).\n\n$319 Early Registration by April 16 \n\n$349 Tuition Enroll Here\n\nPlease email to advise us that you are mailing a check. Thank you. \n\nIf Paying by Check: Download Registration Form and enclose with check. \n\n\nWhereas when Qigong is properly practiced\, it is extremely beneficial and presents minimal risk to one’s health\, please consult your physician if you are in doubt of your capabilities or have special health concerns. \nThis class suited to: Acupuncturists\, Massage Therapists\, Chiropractors\, Qigong Instructors\, Yoga Instructors\, Martial Arts Instructors\, Reiki Practitioners\, and other professionals. No prerequisites are needed. \n 
URL:https://linggui.org/course/spring-class-series-second-spring-qigong-with-master-liu-he-livestream/
CATEGORIES:Online,Qigong,Seasonal Class
END:VEVENT
END:VCALENDAR