BEGIN:VCALENDAR
VERSION:2.0
PRODID:-//Ling Gui International Healing Qigong School - ECPv6.15.20//NONSGML v1.0//EN
CALSCALE:GREGORIAN
METHOD:PUBLISH
X-ORIGINAL-URL:https://linggui.org
X-WR-CALDESC:Events for Ling Gui International Healing Qigong School
REFRESH-INTERVAL;VALUE=DURATION:PT1H
X-Robots-Tag:noindex
X-PUBLISHED-TTL:PT1H
BEGIN:VTIMEZONE
TZID:America/Los_Angeles
BEGIN:DAYLIGHT
TZOFFSETFROM:-0800
TZOFFSETTO:-0700
TZNAME:PDT
DTSTART:20250309T100000
END:DAYLIGHT
BEGIN:STANDARD
TZOFFSETFROM:-0700
TZOFFSETTO:-0800
TZNAME:PST
DTSTART:20251102T090000
END:STANDARD
BEGIN:DAYLIGHT
TZOFFSETFROM:-0800
TZOFFSETTO:-0700
TZNAME:PDT
DTSTART:20260308T100000
END:DAYLIGHT
BEGIN:STANDARD
TZOFFSETFROM:-0700
TZOFFSETTO:-0800
TZNAME:PST
DTSTART:20261101T090000
END:STANDARD
BEGIN:DAYLIGHT
TZOFFSETFROM:-0800
TZOFFSETTO:-0700
TZNAME:PDT
DTSTART:20270314T100000
END:DAYLIGHT
BEGIN:STANDARD
TZOFFSETFROM:-0700
TZOFFSETTO:-0800
TZNAME:PST
DTSTART:20271107T090000
END:STANDARD
END:VTIMEZONE
BEGIN:VEVENT
DTSTART;VALUE=DATE:20260321
DTEND;VALUE=DATE:20260323
DTSTAMP:20260421T052325
CREATED:20260107T012752Z
LAST-MODIFIED:20260317T234408Z
UID:9268-1774051200-1774223999@linggui.org
SUMMARY:Green Dragon Qigong and Internal Alchemy with Dr. Liu Dong - Livestream
DESCRIPTION:As nature awakens in spring\, it’s the perfect time to nurture and revitalize your Liver Qi. According to traditional Daoist practices\, Spring is associated with the Wood element and the Liver\, making it the time to focus on its health and harmony.\n \nThe Liver plays a crucial role in maintaining overall well-being. In Chinese Medicine (CM)\, the Liver is responsible for:\n \n\n\nSmooth Flow of Qi and Blood: Ensuring energy and nutrients circulate freely throughout the body.\n \n\n\nEmotional Balance: Regulating emotions like anger\, frustration\, and irritability.\n \n\n\nDetoxification: Filtering toxins from the blood.\n \n\n\nStoring Blood: Storing and releasing blood as needed.\n \n\n\nHousing the Hun: Supporting the Three Hun—the subtle spirits of the Liver related to intuition and creativity.\n \n\n\nAwaken and Smooth the Liver Qi: This practice involves gentle movements\, mindful breathing\, and focused intention to stimulate and harmonize Liver Qi. Regular practice can help:\n \n\n\nRelieve stagnation and promote the free flow of Qi and Blood.\n \n\n\nCalm the emotions and reduce stress.\n \n\n\nEnhance detoxification processes.\n \n\n\nNourish the Three Hun and foster a sense of clarity and purpose.\n \n\n\n\n\n\n\n\n\n\n\n\n\nFive Cranes Searching for Five Grains\n \n\n\n\n\n\n\n\n\n\n\nA key element of this workshop is the internal alchemy method Five Cranes Searching for Five Grains. This practice uses symbolic transformation to nourish the five organs:\n \n\n\nThe Crane: Represents lightness\, grace\, and longevity.\n \n\n\nThe Five Grains: Symbolize the essential nutrients needed for health.\n \n\n\nThrough visualization and gentle movement\, you’ll learn to guide the Crane to seek out and transform the Five Grains\, nourishing each of the five major organ systems (Liver\, Heart\, Spleen\, Lungs and Kidneys). \nDATES: March 21 & 22\, 2026\nTIMES: 7:00am-10:00am & 11am-1pm Pacific\nCLASS Held on Zoom \nTuition: $245 \nThis course is taught in English. \nIf Paying by Check: Download the Registration Form (with this link) and enclose it with a check.\n\nPlease email to advise us that you are mailing a check. Thank you. \nENROLL ONLINE – CLICK HERE TO PAY $245 \nAll tuition fees\, once paid\, are non-refundable; they are transferable to another workshop/class/retreat with a $35 transfer fee. \n\nNational Certification Commission for Acupuncture and Oriental Medicine: 10 PDAs  are approved through NCCAOM for licensed acupuncturists in the PE-CW category. Others who need CEUs may receive the certificates; however\, you will need to check with your licensing board if they will accept them. You must attend live (in real-time online) to receive the PDAs. \n\nWhen Qigong is properly practiced\, it is extremely beneficial and presents minimal risk to one’s health\, please consult your physician if you are in doubt of your capabilities or have special health concerns. \nThis class suited to: Acupuncturists\, Massage Therapists\, Chiropractors\, Qigong Instructors\, Yoga Instructors\, Martial Arts Instructors\, Reiki Practitioners\, and other professionals. No prerequisites are needed.
URL:https://linggui.org/course/alchemy-with-dr-liu-dong-livestream/
CATEGORIES:Online,Qigong,Seasonal Class
END:VEVENT
END:VCALENDAR