BEGIN:VCALENDAR
VERSION:2.0
PRODID:-//Ling Gui International Healing Qigong School - ECPv6.15.20//NONSGML v1.0//EN
CALSCALE:GREGORIAN
METHOD:PUBLISH
X-ORIGINAL-URL:https://linggui.org
X-WR-CALDESC:Events for Ling Gui International Healing Qigong School
REFRESH-INTERVAL;VALUE=DURATION:PT1H
X-Robots-Tag:noindex
X-PUBLISHED-TTL:PT1H
BEGIN:VTIMEZONE
TZID:America/Los_Angeles
BEGIN:DAYLIGHT
TZOFFSETFROM:-0800
TZOFFSETTO:-0700
TZNAME:PDT
DTSTART:20250309T100000
END:DAYLIGHT
BEGIN:STANDARD
TZOFFSETFROM:-0700
TZOFFSETTO:-0800
TZNAME:PST
DTSTART:20251102T090000
END:STANDARD
BEGIN:DAYLIGHT
TZOFFSETFROM:-0800
TZOFFSETTO:-0700
TZNAME:PDT
DTSTART:20260308T100000
END:DAYLIGHT
BEGIN:STANDARD
TZOFFSETFROM:-0700
TZOFFSETTO:-0800
TZNAME:PST
DTSTART:20261101T090000
END:STANDARD
BEGIN:DAYLIGHT
TZOFFSETFROM:-0800
TZOFFSETTO:-0700
TZNAME:PDT
DTSTART:20270314T100000
END:DAYLIGHT
BEGIN:STANDARD
TZOFFSETFROM:-0700
TZOFFSETTO:-0800
TZNAME:PST
DTSTART:20271107T090000
END:STANDARD
END:VTIMEZONE
BEGIN:VEVENT
DTSTART;VALUE=DATE:20260124
DTEND;VALUE=DATE:20260201
DTSTAMP:20260421T084411
CREATED:20251205T200843Z
LAST-MODIFIED:20251205T200843Z
UID:9176-1769212800-1769903999@linggui.org
SUMMARY:Le Cheval Rouge ardent arrive\, la Chèvre Rouge bénéfique rassemble le Qi Années de la Passerelle Feng Shui 2026-2027!
DESCRIPTION:Le Cheval Rouge ardent arrive\, la Chèvre Rouge bénéfique rassemble le Qi Années de la Passerelle Feng Shui 2026-2027!\nCours les 24 et 31 janvier de 18h30 à 21 h avec Maître Liu He via Zoomen français \n Une tradition millénaire de sagesse cosmique: cours publics et consultations privées de Feng Shui de Maître Liu He. Inscriptions et réservations possibles.\nMessage de Maître Liu He : \n« Les années du Cheval Rouge et de la Chèvre Rouge fusionnent le Feu et la Terre. L’année du Cheval s’élève\, comme des flammes ardentes\, brisant les limites passées ; l’année de la Chèvre nourrit comme la Terre chaleureuse\, nous guidant vers la racine du Cœur. Ce sont des tournants dans le destin et des moments forts pour l’alignement Feng Shui ». \n« Si vous vous sentez coincé dans des cycles\, avec un état qui monte et descend de manière imprévisible\, rappelez-vous ceci : ce n’est pas que vous n’avez pas travaillé dur\, c’est peut-être simplement que vous êtes dans la mauvaise direction» \nAnnées 2026-2027 du Cheval Rouge et de la Chèvre Rouge: Feng Shui Intensif – Étoile Volante \nDate : Samedi 24\, 31 janvier 2026 \nHoraire: de 18h30 à 21h (5 heures de cours\, au total) \nDans ce cours de Feng Shui\, Maître Liu He vous dira : \n\nComment les Étoiles Volantes évoluent sur la Grille Luo Shu en 2026-2027\nComment choisir des dates propices\, activer les « Portes de la Richesse » et éliminer le Qi stagnant.\nQuels sont les aménagements transformateurs pour votre maison\, votre bureau\, vos autels et votre chambre.\nComment utiliser les Cinq Éléments pour harmoniser votre énergie personnelle grâce aux couleurs\, aux directions et aux saisons\nCe cours est ouvert à tous les adeptes de la sagesse du Feng Shui ; aucune connaissance préalable n’est requise.\nPourquoi le Feng Shui est-il crucial pendant les années du Cheval Rouge et de la Chèvre Rouge ?\n\n2026 – Année du Cheval Rouge (Bing Wu) : L’énergie du Feu s’envole. C’est une période de changements rapides\, de percées et de volatilité. Stabiliser le Qi est essentiel pour éviter les perturbations inattendues. \n2027 – Année de la Chèvre Rouge (Ding Wei) : L’énergie de la Terre recèle une force cachée. Une année pour se nourrir\, cultiver des intentions et retrouver la plénitude. Rassembler le Qi apportera des bienfaits. \n Ces deux années apportent une instabilité Yin-Yang et des changements célestes. Un bon alignement peut transformer les obstacles en opportunités. \nFengshui 2026-2027: 199 Euros\n***Offre spéciale : 350 Euros : cours hebdomadaire: Puissance des Cinq Tonnerres+Fengshui 2026-2027\nSi vous êtes déjà inscrit au cours de Feng Shui (199 €) et que vous souhaitez rejoindre le cours hebdomadaire\, vous pouvez simplement régler la différence (176 €). Veuillez nous contacter et nous vous enverrons une facture via PayPal. \nCe que vous apprendrez :\n\nFORME : Une routine de qigong pour votre pratique personnelle\, favorisant l’auto-guérison et la connexion avec le Qi.\nTHÉORIE : Médecine chinoise et médecine taoïste (en lien avec la saison\, la forme\, les méridiens et les points d’acupuncture).\nPHILOSOPHIE : Philosophie du qigong et pratiques de vie – ce qui est le plus bénéfique selon la saison.\n\nEn vous inscrivant\, vous recevrez :\n\nUn lien Zoom pour participer au cours en direct.\nUn enregistrement du cours accessible pendant 2 semaines.\nUne place au premier rang depuis chez vous.\nUne transmission de Qi à distance par Maître Liu He.
URL:https://linggui.org/course/le-cheval-rouge-ardent-arrive-la-chevre-rouge-benefique-rassemble-le-qi-annees-de-la-passerelle-feng-shui-2026-2027/
CATEGORIES:Astrology,Feng Shui,French,Online,Qigong,Seasonal Class
END:VEVENT
END:VCALENDAR