BEGIN:VCALENDAR
VERSION:2.0
PRODID:-//Ling Gui International Healing Qigong School - ECPv6.15.20//NONSGML v1.0//EN
CALSCALE:GREGORIAN
METHOD:PUBLISH
X-WR-CALNAME:Ling Gui International Healing Qigong School
X-ORIGINAL-URL:https://linggui.org
X-WR-CALDESC:Events for Ling Gui International Healing Qigong School
REFRESH-INTERVAL;VALUE=DURATION:PT1H
X-Robots-Tag:noindex
X-PUBLISHED-TTL:PT1H
BEGIN:VTIMEZONE
TZID:America/Los_Angeles
BEGIN:DAYLIGHT
TZOFFSETFROM:-0800
TZOFFSETTO:-0700
TZNAME:PDT
DTSTART:20210314T100000
END:DAYLIGHT
BEGIN:STANDARD
TZOFFSETFROM:-0700
TZOFFSETTO:-0800
TZNAME:PST
DTSTART:20211107T090000
END:STANDARD
BEGIN:DAYLIGHT
TZOFFSETFROM:-0800
TZOFFSETTO:-0700
TZNAME:PDT
DTSTART:20220313T100000
END:DAYLIGHT
BEGIN:STANDARD
TZOFFSETFROM:-0700
TZOFFSETTO:-0800
TZNAME:PST
DTSTART:20221106T090000
END:STANDARD
BEGIN:DAYLIGHT
TZOFFSETFROM:-0800
TZOFFSETTO:-0700
TZNAME:PDT
DTSTART:20230312T100000
END:DAYLIGHT
BEGIN:STANDARD
TZOFFSETFROM:-0700
TZOFFSETTO:-0800
TZNAME:PST
DTSTART:20231105T090000
END:STANDARD
BEGIN:DAYLIGHT
TZOFFSETFROM:-0800
TZOFFSETTO:-0700
TZNAME:PDT
DTSTART:20240310T100000
END:DAYLIGHT
BEGIN:STANDARD
TZOFFSETFROM:-0700
TZOFFSETTO:-0800
TZNAME:PST
DTSTART:20241103T090000
END:STANDARD
END:VTIMEZONE
BEGIN:VEVENT
DTSTART;TZID=America/Los_Angeles:20230122T090000
DTEND;TZID=America/Los_Angeles:20230122T133000
DTSTAMP:20260421T114320
CREATED:20221103T225722Z
LAST-MODIFIED:20221207T180843Z
UID:7212-1674378000-1674394200@linggui.org
SUMMARY:Cherry Blossom Qigong & Daoist Wisdom for Liver Detoxification with Master Liu He-Livestream
DESCRIPTION:Special offering! 16.5 hour course featuring Cherry Blossom Qigong & Daoist Wisdom for Liver Detoxification!\n\n\nCherry Blossom Qigong  – January 22\, 2023 (Chinese New Year Day!) (9am-1:30pm Pacific)    \nWhat a special day to wake up your internal cherry blossom for the Rabbit year! In addition\, Master Liu He will teach how to write a Talisman for your own home!\n\nTied to Asian culture\, mindfulness\, and living in the present\, cherry blossoms are a timeless metaphor for human existence. Blooming season is powerful\, glorious\, and intoxicating. The cherry blossoms are spectacular to see\, to feel\, and to experience!\n\nEach flower has 5 petals representing: Peace\, two L’s (Love brings Luck)\, Smooth Transitions\, Eternal Life\, and Beauty. The blossoms begin around the middle of March and finish at the end of April or beginning of May.\n\n\nWe practice this form to bloom fully\, brighten and lift our thoughts for the rest of the year! \n\n\nDaoist Wisdom for Liver Detoxification\nSundays: February 5\, 12\, 19\, 26\, March 12\, 2023\nSaturday: February 18\, (6-Class Series)\n10am-12pm Pacific\nRabbit year 2023 will present a lot of wood Qi\, this means we are presented with great opportunities to explore and work with the Liver system.\n\nWith Winter being a time of preservation\, Spring is a time of cleansing and renewal. In ancient Chinese Medicine theory\, Spring\, the season associated with the Liver\, is the best and safest time of the year to implement a cleanse or a gentle detox. We need to clear out or reset our bodies and mind for the Qi to flow\, grow\, and prevent Qi blockages for the rest of year. Master Liu He will guide you in this ancient Daoist wisdom for a complete plan to cleanse/detoxify mind\, body\, and soul.\n\n\nWhen enrolling\, you will receive\n\n\nRecorded links of the sessions\, available to view for 4 weeks\nE- handouts for the form prior to class\nQi transmission in your own home from Master Liu He\nLecture slide presentation post class\n\nNational Certification Commission for Acupuncture and Oriental Medicine: 16 PDAs are pending through NCCAOM for diplomats in PE-CW. You will need to attend live online to receive the PDAs.  \n  \nEnroll online below or mail in a check (details listed below).\nTuition:  $385 \nEnroll Here – $385 \n\nIf Paying by Check: Download Registration Form and enclose with check. \n\n\nPlease email to advise us that you are mailing a check. Thank you.  \n\n\n\nWhereas when Qigong is properly practiced\, it is extremely beneficial and presents minimal risk to one’s health\, please consult your physician if you are in doubt of your capabilities or have special health concerns. \n\n\nThis class suited to: Acupuncturists\, Massage Therapists\, Chiropractors\, Qigong Instructors\, Yoga Instructors\, Martial Arts Instructors\, Reiki Practitioners\, and other professionals. No prerequisites are needed.
URL:https://linggui.org/course/cherry-blossom-qigong-daoist-wisdom-for-liver-detoxification-with-master-liu-he-livestream/
LOCATION:OR
CATEGORIES:Astrology,Daoist Nutrition,Online,Qigong,Seasonal Class
END:VEVENT
BEGIN:VEVENT
DTSTART;TZID=America/Los_Angeles:20230114T093000
DTEND;TZID=America/Los_Angeles:20230114T133000
DTSTAMP:20260421T114320
CREATED:20220819T010256Z
LAST-MODIFIED:20230127T194811Z
UID:7059-1673688600-1673703000@linggui.org
SUMMARY:Feng Shui 2023 Forecasting with Master Liu He - RECORDING Now Available
DESCRIPTION:Black Rabbit Walks into the Blue Dragon’s Cave-Class Recording Now Available for Purchase\nIN ENGLISH ONLY \nThe year of the Water Rabbit begins January 22\, 2023\, and ends February 9\, 2024.  What will the 2023 Water Rabbit Year bring us?\n\nMaster Liu He recently taught about the 2023 Nine Flying Stars influence for the Year of the Water Rabbit. She provided students with information on how to engage and highlight the positive energies and eliminate/harmonize the negative energies in a house or office. The recording of the 4 hour class is now available to purchase. \n\n\n\nWhen purchasing\, you will receive \n\n\n\n\nRecorded links of the sessions\, available to view for 4 weeks.\n\n\n\nE- handouts for the slide presentation\n\n\n\nQi transmission in your own home from Master Liu He\n\n\n\n\nWhereas when Qigong is properly practiced\, it is extremely beneficial and presents minimal risk to one’s health\, please consult your physician if you doubt your capabilities or have special health concerns. This material is for educational purposes. You choose what you implement. All fees once paid or non-refundable and non-transferable. All links and material are for your use only\, please do not share. Thank you for honoring the material. \nRecording Fee: $130 – Purchase Button Below \n\n\n\n\nPurchase Here\n\n\n\n  \n\n  \n\n  \n \n \nFOR THE LIVESTREAMED CLASS – Master Liu He presents the 2023 Nine Flying Stars influence for the Year of the Water Rabbit to fully take advantage of the positive energies and eliminate/harmonize the negative energies from a house or office. In this 4-hour class via Qi Zoom Livestream\, Master Liu He will discuss the best remedies and activators for health and wealth!\n \nSaturday\,  January 14\, 2023 (9:30am – 1:30 pm\, Pacific Time) \n \nTuition:  $125 Enroll online below or mail in a check (details listed below). This is a free bonus class when registering for the Zi Wu Course on December 10/11\, 2022. Read more here.\nWhen enrolling\, you will receive\n\n\nRecorded links of the session\, available to view for 3 weeks\nQi transmission in your own home from Master Liu He\nLecture slide presentation post class\n\n\n$125 Tuition If Paying by Check: Download Registration Form and enclose with check. Please email us to advise you are mailing a check. Whereas when Qigong is properly practiced\, it is extremely beneficial and presents minimal risk to one’s health\, please consult your physician if you doubt your capabilities or have special health concerns.
URL:https://linggui.org/course/feng-shui-2023-forecasting-with-master-liu-he-livestream/
LOCATION:OR
CATEGORIES:Astrology,Feng Shui,Homepage,Online
END:VEVENT
BEGIN:VEVENT
DTSTART;TZID=America/Los_Angeles:20221210T093000
DTEND;TZID=America/Los_Angeles:20221211T153000
DTSTAMP:20260421T114320
CREATED:20220818T213533Z
LAST-MODIFIED:20221201T194816Z
UID:7054-1670664600-1670772600@linggui.org
SUMMARY:Zi Wu Qigong with Master Liu He - Livestream
DESCRIPTION:Reset your Yin and Yang clock! Master Liu He states that all of our Yin and Yang Qi is misplaced due to our crazy modern life. This workshop will focus on Zi Wu Qigong in order to align with the Winter Solstice and begin the new year with in a state of harmony. \nZi Wu Qigong is a powerful Buddhist Qigong method that embodies the profound wisdom of the universe and has been traced back to the Tang Dynasty (618 – 907 AD). By practicing this method your Yin and Yang Qi becomes sturdier as well as restoring your lymphatic system’s power to defend your body against internal or external diseases. From this perspective Zi Wu Qigong is very effective for healing difficult health cases and chronic illness. This Qigong form is most effective when practiced in the Zi and Wu time. The Zi and Wu cycle is found on a yearly\, monthly\, and daily basis. From this we can see that Zi and Wu are at the transition points between Yin and Yang. Practicing at the Zi Wu time is known as “stealing the secret from the universe” because it puts you in alignment with nature’s cycles. Our lives are governed by nature’s cycles\, and when we practice this form we sync with nature\, allowing us to heal quicker and experience smooth transitions. In Chinese medicine\, time and timing are crucial to creating positive change. When you do something is as important as what you do. \nWhen enrolling\, you will receive\n\n\nRecorded links of the sessions\, available to view for 3 weeks\nE- handouts for the form prior to class\nQi transmission in your own home from Master Liu He\nLecture slide presentation post class\n4-Hour Bonus Class! January 14\, 2023 – Feng Shui for 2023\n\n\nHours:\nSaturday:  9:30am-1:00pm and 2:00-:3:30pm Pacific\nSunday: 9:30am-1:00pm and 2:00-:3:30pm Pacific\n\nThis is a LIVESTREAMED course via Zoom.\n\nNational Certification Commission for Acupuncture and Oriental Medicine: 10 PDAs are approved through NCCAOM for diplomats in PE-CW. You will need to attend live online to receive the PDAs. \n\nTuition:  EARLY REGISTRATION $335 before December 2\, after $360 \nEnroll online below or mail in a check (details listed below). \n$335 paying before December 2\, 2022 \n\n$360 after December 2 \nIf Paying by Check: Download Registration Form and enclose with check. Please email us and advise you are mailing your registration. \n\nWhereas when Qigong is properly practiced\, it is extremely beneficial and presents minimal risk to one’s health\, please consult your physician if you doubt your capabilities or have special health concerns.\n\nThese classes are suited for:   Acupuncturists\, Massage Therapists\, Chiropractors\, Qigong Instructors\, Yoga Instructors\, Martial Arts Instructors\, Reiki Practitioners\,  and other professionals. No prerequisites needed.
URL:https://linggui.org/course/zi-wu-qigong-with-master-liu-he-livestream/
LOCATION:OR
CATEGORIES:Astrology,Feng Shui,Homepage,Online,Qigong,Seasonal Class
END:VEVENT
BEGIN:VEVENT
DTSTART;TZID=America/Los_Angeles:20221015T093000
DTEND;TZID=America/Los_Angeles:20221015T133000
DTSTAMP:20260421T114320
CREATED:20220701T201601Z
LAST-MODIFIED:20220922T042222Z
UID:4850-1665826200-1665840600@linggui.org
SUMMARY:Bagua Xiangshu Therapy for Immunity with Master Liu He-Livestream
DESCRIPTION:Registration Full! Contact us to be placed on a wait list. \nBagua Xiangshu therapy is a type of therapy that involves reciting a number mantra (set of numbers) silently. These number mantras are derived from ancient theory and calculated for different symptoms. A simple and profound practice for resetting our vibrational bodies. \n The therapy is derived from: \n\n The Yi Jing (I-Ching) Book of Changes\n\nTraditional Chinese medicine: adhering to herbal formula principles of “monarch\, ministers\, and envoys\, dialectically administering treatment\, Yin-Yang theory\, and the Five Elements. \n\nChinese Astrology\n\nIn this 4-hour class\, you will learn the power of this therapeutic formula\, as well as receive the super number formula related to immune regulation (to defend against colds\, fevers\, coughs\, allergies\, breathing difficulties\, shortness of breath\, asthma\, lung stagnation). You may use this for yourself and for others.\nThis is a BONUS class when enrolling in the Zhu You Medical Qigong 3-day course! Click here for more info! \nWhen enrolling\, you will receive\n\n\nRecorded links of the session\, available to view for 3 weeks\nQi transmission in your own home from Master Liu He\nLecture slide presentation post class\n\n\nDate:  Saturday\, October 15\, 2022\nHours: 9:30 am -1:30 pm – Pacific\nTuition:  $99 prior to October 8\, $119 after  – Enroll online below or mail in a check (details listed below). \nEarly Registration $99 – Enroll Here\n$119 – Registration After October 8\nIf Paying by Check: Download Registration Form and enclose with check.\nWhereas when Qigong is properly practiced\, it is extremely beneficial and presents minimal risk to one’s health\, please consult your physician if you doubt your capabilities or have special health concerns.\nThese classes are suited for:   Acupuncturists\, Massage Therapists\, Chiropractors\, Qigong Instructors\, Yoga Instructors\, Martial Arts Instructors\, Reiki Practitioners\,  and other professionals. No prerequisites needed.
URL:https://linggui.org/course/bagua-xiangshu-therapy-for-immunity-with-master-liu-he-livestream/
LOCATION:OR
CATEGORIES:Astrology,Online,Qigong,Yi Jing
END:VEVENT
BEGIN:VEVENT
DTSTART;TZID=America/Los_Angeles:20220806T090000
DTEND;TZID=America/Los_Angeles:20220808T130000
DTSTAMP:20260421T114320
CREATED:20220128T202917Z
LAST-MODIFIED:20220929T192804Z
UID:6727-1659776400-1659963600@linggui.org
SUMMARY:Zhu You Shu 3-day Medical Qigong Course with Master Liu He Livestream
DESCRIPTION:Registration Full! \n3-Day Medical Qigong Course : Zhu You Shu\nEmbrace over 5000 years of powerful healing modalities! (This course covers techniques different from the February retreat)\n \n13 hour course + 4 hour bonus class \nComments from students on the Zhu You course in February 2022!\nI just want to say WOW. The Zhu You form is incredible\, I mean I love all of Master Liu’s classes but this is a different level. It feels very powerful. I love it. And I always feel so uplifted after a retreat. And this one in particular\, I was under a lot of stress and pressure from my company to get vaccinated and I was very resistant and I could feel this resistance in my body and weighing heavy on me. During the retreat after listening to Master Liu talk about the water\, adaptation\, flexibility\, it suddenly disappeared. Sandrine E.\, France. \nI feel so clear and at peace after doing the practices of Zhu You. The bone setting part cleared up a stiff knee and hip that I had aggravated by trying to do some tornado kicks and not being able to do them correctly. It was so great to have the stiffness and pain gone\, and I am pretty sure it was from that wonderful stretch we held with both hands pushing away and bending to the side. Virginia N\, Washington \nZhu You Shu is often forgotten in Chinese medicine.  Born in ancient times\, the  mysterious methods were founded in the traditional medicine of the homeland.\nZhu You’s treatment is an important part of  Chinese medicine. You will find reference to Zhu You’s 13 subjects/methods of treatment in the ancient text\, “Huang Di Nei Jing”.\nDue to historical reasons\, Zhu You’s treatments have always been secretly circulated in Taoism and mastered or applied by a very small number of people. Chinese medicine can be sorted into 13 sections including original applications:  praying/intention\, blessing\, soul retrieval\, music\, geomantic omen\, shamanic practices\, blood letting\, food therapy\, morality and culture\, season\, Chinese traditional medicine\, and observing\, listening\, asking\, and feeling. \nIn this 3-day exclusive course\, Master Liu He will guide you through the following 6 Modalities\, in order to connect with your higher self in order to receive the best reward. \n The Magic Healing\nThe Great Law of Eliminating Evil\nHypnosis\nMethod of Taking Medicine in the Universe\nShadowless Gold Needle Method\nTalisman and Mantras \nWhen enrolling\, you will receive\n\nAdmittance to a FREE 4 hours BONUS class October 15\nRecorded links of the sessions\, available to view for 3 weeks\nQi transmission in your own home from Master Liu He\nLecture slide presentation post class\n\nNational Certification Commission for Acupuncture and Oriental Medicine: 13 PDAs are pending through NCCAOM for diplomats in acupuncture and oriental medicine. You will need to attend live to receive the PDAs. \nDates/Times (Live Stream):\nAugust 6-8\, 2022\nSaturday 9:00am-1:30pm PT \nSunday 9:00am-1:30pm PT \nMonday 9:00am-1:00pm PT \nTuition: $399+ 4 hour free bonus class early registration by July 30\, 2022.\n$469  + 4 hour free bonus class after. \nAll tuition fees once paid are non-refundable\, transferable to another workshop/class/retreat for $80 fee.\nEnroll online below or mail in a check(details listed below)\nEarly Registration $399 Enroll Here\n$469 Full Registration Enroll Here\nIf Paying by Check: Download Registration Form and enclose with check. \nThis class suited to:  Acupuncturists\, Massage Therapists\, Chiropractors\, Qigong Instructors\, Yoga Instructors\, Martial Arts Instructors\, Reiki Practitioners\,  and other professionals. No prerequisites needed.\nWhereas when Qigong is properly practiced\, it is extremely beneficial and presents minimal risk to one’s health\, please consult your physician if you are in doubt of your capabilities or have special health concerns.
URL:https://linggui.org/course/zhu-you-shu-3-day-medical-qigong-course-with-master-liu-he-livestream-2/
LOCATION:OR
CATEGORIES:Astrology,Homepage,News,Online,Qigong,Yi Jing
END:VEVENT
BEGIN:VEVENT
DTSTART;TZID=America/Los_Angeles:20220212T093000
DTEND;TZID=America/Los_Angeles:20220212T130000
DTSTAMP:20260421T114320
CREATED:20211112T230120Z
LAST-MODIFIED:20240411T210507Z
UID:4367-1644658200-1644670800@linggui.org
SUMMARY:2022 Chinese Astrological Signs for Health\, Luck\, and Prosperity Forecast with Master Liu He
DESCRIPTION:RECORDING AVAILABLE TO PURCHASE AND VIEW FOR 4 WEEKS! \n  \nThe Lunar New Year 2022 begins  February 1\, 2022 and ends on January 21\, 2023. The Water Tiger will wake up at this time! \nThe 12 astrological animal signs are:  Rat\, Ox\, Tiger\, Rabbit\, Dragon\, Snake\, Horse\, Sheep\, Monkey\, Rooster\, Dog\, and Pig. \nJoin Master Liu He’s for this lively lecture to learn ways to enhance the luck and flow of the year for health\, professional life\, finances\, relationships\, education\, and well-being. \n  \nSaturday\, February 12\, 2022 -Livestream Qi-Zoom\n(9:30am-1:00pm Pacific) \n$89 before Februray 1\, after $109 \nBONUS CLASS WHEN ENROLLING IN JANUARY 29/30\, 2022! Click Here for more info! \nFor registration\, download the form below and mail in with your tuition \nIf Paying by Check: Download Registration Form and enclose with check. \nor pay on-line via Square below (no need to mail in registration form) \nAll tuition fees once paid are non-refundable\, transferable to another workshop/class/retreat. \nNo prerequisites needed.Whereas when Qigong is properly practiced\, it is extremely beneficial and presents minimal risk to one’s health\, please consult your physician if you are in doubt of your capabilities or have special health concerns. \nThe information contained in this lecture is not intended to diagnose\, treat\, or otherwise intervene in any medical condition. ALWAYS seek help from a licensed medical professional for any health condition. Individual results may vary. 
URL:https://linggui.org/course/2022-chinese-astrological-signs-for-health-luck-and-prosperity-forecast-with-master-liu-he/
LOCATION:OR
CATEGORIES:Astrology,Online
END:VEVENT
END:VCALENDAR