BEGIN:VCALENDAR
VERSION:2.0
PRODID:-//Ling Gui International Healing Qigong School - ECPv6.15.20//NONSGML v1.0//EN
CALSCALE:GREGORIAN
METHOD:PUBLISH
X-ORIGINAL-URL:https://linggui.org
X-WR-CALDESC:Events for Ling Gui International Healing Qigong School
REFRESH-INTERVAL;VALUE=DURATION:PT1H
X-Robots-Tag:noindex
X-PUBLISHED-TTL:PT1H
BEGIN:VTIMEZONE
TZID:America/Los_Angeles
BEGIN:DAYLIGHT
TZOFFSETFROM:-0800
TZOFFSETTO:-0700
TZNAME:PDT
DTSTART:20240310T100000
END:DAYLIGHT
BEGIN:STANDARD
TZOFFSETFROM:-0700
TZOFFSETTO:-0800
TZNAME:PST
DTSTART:20241103T090000
END:STANDARD
BEGIN:DAYLIGHT
TZOFFSETFROM:-0800
TZOFFSETTO:-0700
TZNAME:PDT
DTSTART:20250309T100000
END:DAYLIGHT
BEGIN:STANDARD
TZOFFSETFROM:-0700
TZOFFSETTO:-0800
TZNAME:PST
DTSTART:20251102T090000
END:STANDARD
BEGIN:DAYLIGHT
TZOFFSETFROM:-0800
TZOFFSETTO:-0700
TZNAME:PDT
DTSTART:20260308T100000
END:DAYLIGHT
BEGIN:STANDARD
TZOFFSETFROM:-0700
TZOFFSETTO:-0800
TZNAME:PST
DTSTART:20261101T090000
END:STANDARD
END:VTIMEZONE
BEGIN:VEVENT
DTSTART;TZID=America/Los_Angeles:20251221T080000
DTEND;TZID=America/Los_Angeles:20251221T090000
DTSTAMP:20260421T065158
CREATED:20251126T214956Z
LAST-MODIFIED:20251128T010929Z
UID:9170-1766304000-1766307600@linggui.org
SUMMARY:FREE Winter Solstice Class with Master Liu He - Livestream
DESCRIPTION:The Winter Solstice marks a sacred turning point in Daoist tradition\, illuminating a profound transition within the depth of the Yin cycle (in the Northern Hemisphere). Beginning on the Winter Solstice\, the following 27 days embody the ancient saying\, “Three nines make up one winter.” This period brings the coldest days of the year — a time when the body faces many tests\, especially within the seven organ systems. Supporting your inner balance and resetting your Yin–Yang clock now will strengthen vitality and guard against illness in the year ahead. \nJoin Master Liu He for this FREE Winter Solstice class to connect with the Qi of the season.  \nClick Here to enroll and receive the Zoom Link! \nDATE: Sunday\, December 21\, 2025\nTIME: 8:00am – 9:00am Pacific (adjust to your time zone) \nThere will be no recording of the class. \n 
URL:https://linggui.org/course/free-winter-solstice-class-with-master-liu-he-livestream-2/
CATEGORIES:Astrology,Free,Online,Qigong,Seasonal Class,Yi Jing
END:VEVENT
END:VCALENDAR