BEGIN:VCALENDAR
VERSION:2.0
PRODID:-//Ling Gui International Healing Qigong School - ECPv6.15.20//NONSGML v1.0//EN
CALSCALE:GREGORIAN
METHOD:PUBLISH
X-ORIGINAL-URL:https://linggui.org
X-WR-CALDESC:Events for Ling Gui International Healing Qigong School
REFRESH-INTERVAL;VALUE=DURATION:PT1H
X-Robots-Tag:noindex
X-PUBLISHED-TTL:PT1H
BEGIN:VTIMEZONE
TZID:America/Los_Angeles
BEGIN:DAYLIGHT
TZOFFSETFROM:-0800
TZOFFSETTO:-0700
TZNAME:PDT
DTSTART:20240310T100000
END:DAYLIGHT
BEGIN:STANDARD
TZOFFSETFROM:-0700
TZOFFSETTO:-0800
TZNAME:PST
DTSTART:20241103T090000
END:STANDARD
BEGIN:DAYLIGHT
TZOFFSETFROM:-0800
TZOFFSETTO:-0700
TZNAME:PDT
DTSTART:20250309T100000
END:DAYLIGHT
BEGIN:STANDARD
TZOFFSETFROM:-0700
TZOFFSETTO:-0800
TZNAME:PST
DTSTART:20251102T090000
END:STANDARD
BEGIN:DAYLIGHT
TZOFFSETFROM:-0800
TZOFFSETTO:-0700
TZNAME:PDT
DTSTART:20260308T100000
END:DAYLIGHT
BEGIN:STANDARD
TZOFFSETFROM:-0700
TZOFFSETTO:-0800
TZNAME:PST
DTSTART:20261101T090000
END:STANDARD
END:VTIMEZONE
BEGIN:VEVENT
DTSTART;VALUE=DATE:20251213
DTEND;VALUE=DATE:20251215
DTSTAMP:20260421T065156
CREATED:20250730T022755Z
LAST-MODIFIED:20251018T003314Z
UID:9004-1765584000-1765756799@linggui.org
SUMMARY:"North Mansions" Black Turtle & South Dipper – The Celestial Alchemy of Kidney Regulation with Master Liu He-Livestream
DESCRIPTION:“Where Black Turtle’s Water-Cooling Depths Meet the South Dipper’s Yang Fire…A cosmic dance of rebirth in the space of death\, where the Big Dipper’s transformative power melts icebergs of stagnation\, unlocking: \n\nLongevity  – Like the Black Turtle’s eternal wisdom\nUnshakable Willpower  – Steeled by the North’s unwavering resolve\nVital Creativity  – Fueled by the South Dipper’s spark\nCrystal-Clear Memory– Washed in astral Water Qi\n\nThe Bug of Death-Erased\nYour body’s hidden shadows—cold\, damp\, lurking pathogens—dissolve in Xuan Wu’s purifying tide\, while the South Dipper reignites your inner sun. \nThis is Astro-CM Alchemy: Where Stars make kidneys stronger. \n\n“Winter’s North Mansions guard your Kidney Jing; Summer’s South Dipper stokes your Ming Men fire. Balance them\, and you balance life itself.” \n\nWhat you will learn: \n\n\nFORM:  qigong form for your personal practice\, this allows for self-healing and the ability to connect with qi and transmit\nTHEORY:  Chinese Medicine\, Daoist Medicine (pertaining to the season\, form\, meridians\, acupoints)\nPHILOSOPHY:  Qigong philosophy\, lifestyle practices – what is most beneficial for the season in regard to daily living\nEach class varies and may also contain:\nNutritional practices – what is most beneficial to align with the seasonal Qi\nFeng Shui/Astrology – utilizing the Qi associated with the year or season\, Master Liu He provides practices to work with the Qi at a specific time\n\nWhen enrolling\, you will receive: \n\nZoom Class Link for the real-time (live) online class\nClass recording link to view for 4 weeks\nLecture Slide presentation link to download post-class\nFront-row seat in your own home\nQi Transmission in your own home from Master Liu He\n\nCourse Dates & Times:  \nSaturday\, December 13 & Sunday\, December 14\, 2025\nTime: 9am-12:30pm and 1-2:30pm Pacific (10 hours) \nTuition: $275 \nThis course is taught in English. \nIf Paying by Check: Download the Registration Form (with this link) and enclose it with a check.\nPlease email to advise us that you are mailing a check. Thank you. \nEnroll Here $275 FOR North Mansions Course ONLY \nAll tuition fees\, once paid\, are non-refundable; they are transferable to another workshop/class/retreat with a $35 transfer fee. \nENROLL IN BOTH CLASSES (this class and  FENG SHUI 2026) for $430  ($75 tuition savings). Read more here ABOUT FENG SHUI.\nEnroll Here $430 \n  \n\nNational Certification Commission for Acupuncture and Oriental Medicine: 10 PDAs are approved through NCCAOM for licensed acupuncturists in the PE-CW category. Others who need CEUs may receive the certificates; however\, you will need to check with your licensing board if they will accept them. You must attend live (in real-time online) to receive the PDAs. \n\nWhen Qigong is properly practiced\, it is extremely beneficial and presents minimal risk to one’s health\, please consult your physician if you are in doubt of your capabilities or have special health concerns. \nThis class suited to: Acupuncturists\, Massage Therapists\, Chiropractors\, Qigong Instructors\, Yoga Instructors\, Martial Arts Instructors\, Reiki Practitioners\, and other professionals. No prerequisites are needed.
URL:https://linggui.org/course/north-mansions-black-turtle-south-dipper-the-celestial-alchemy-of-kidney-regulation-with-master-liu-he-livestream/
CATEGORIES:Astrology,Feng Shui,Online,Qigong,Seasonal Class,Yi Jing
END:VEVENT
END:VCALENDAR