BEGIN:VCALENDAR
VERSION:2.0
PRODID:-//Ling Gui International Healing Qigong School - ECPv6.15.20//NONSGML v1.0//EN
CALSCALE:GREGORIAN
METHOD:PUBLISH
X-ORIGINAL-URL:https://linggui.org
X-WR-CALDESC:Events for Ling Gui International Healing Qigong School
REFRESH-INTERVAL;VALUE=DURATION:PT1H
X-Robots-Tag:noindex
X-PUBLISHED-TTL:PT1H
BEGIN:VTIMEZONE
TZID:America/Los_Angeles
BEGIN:DAYLIGHT
TZOFFSETFROM:-0800
TZOFFSETTO:-0700
TZNAME:PDT
DTSTART:20240310T100000
END:DAYLIGHT
BEGIN:STANDARD
TZOFFSETFROM:-0700
TZOFFSETTO:-0800
TZNAME:PST
DTSTART:20241103T090000
END:STANDARD
BEGIN:DAYLIGHT
TZOFFSETFROM:-0800
TZOFFSETTO:-0700
TZNAME:PDT
DTSTART:20250309T100000
END:DAYLIGHT
BEGIN:STANDARD
TZOFFSETFROM:-0700
TZOFFSETTO:-0800
TZNAME:PST
DTSTART:20251102T090000
END:STANDARD
BEGIN:DAYLIGHT
TZOFFSETFROM:-0800
TZOFFSETTO:-0700
TZNAME:PDT
DTSTART:20260308T100000
END:DAYLIGHT
BEGIN:STANDARD
TZOFFSETFROM:-0700
TZOFFSETTO:-0800
TZNAME:PST
DTSTART:20261101T090000
END:STANDARD
END:VTIMEZONE
BEGIN:VEVENT
DTSTART;TZID=America/Los_Angeles:20250126T100000
DTEND;TZID=America/Los_Angeles:20250309T120000
DTSTAMP:20260422T004959
CREATED:20241103T012018Z
LAST-MODIFIED:20241223T224715Z
UID:8579-1737885600-1741521600@linggui.org
SUMMARY:The Wisdom of Qian Kun in Times of Adversity with Master Liu He - Livestream
DESCRIPTION:Qian Kun “Infinite Cosmos” Qigong is a set of mudras\, mantras\, and movements of profoundly accelerated techniques that enhance self-awareness and self-healing for one‘s health and wealth on a multidimensional level. This Qigong form follows the philosophy of the best Yi Jing trigrams\, Earth (Kun) and Heaven (Qian)\, that create the hexagram: Tai Gua. By practicing this form\, you can navigate and stabilize your heart during stormy times. \nThis course is a unique opportunity to explore the ancient knowledge of the Yi Jing and attune your Qi to the Universal frequency\, which has helped countless individuals reconnect with their true potential. \nIn addition\, each class is also a healing session with Qi transmission from Master Liu He. She projects Qi during each class and provides timely practices for the week and season. \n  \nWhen enrolling\, you will receive\n\nRecorded links to the sessions are available to view for 4 weeks.\nQi transmission in your own home from Master Liu He.\nFront row seat in your own home.\nLecture slide presentation post class.\n\nCourse Dates & Times:  \nSundays: January 26\, Feb\, 2\, 9\, 23\, March 2\, 9\, 2025 (12 hours)\nTime: 10:00am – 12:00 pm\, Pacific \nTuition: $390 \nThis course is taught in English. \nIf Paying by Check: Download the Registration Form (with this link) and enclose it with a check.\nPlease email to advise us that you are mailing a check. Thank you. \nAll tuition fees\, once paid\, are non-refundable; they are transferable to another workshop/class/retreat with a $35 transfer fee. \nEnroll Here $390 \nSPECIAL TUITION $415: Enroll in both courses ($54 Savings)- Winter/Spring Class Series The Wisdom of Qian Kun in Times of Adversity & Yi Jing 2025. \nENROLL HERE $415 \nNational Certification Commission for Acupuncture and Oriental Medicine: 2 PDAs (for each class totaling 12) are approved through NCCAOM for licensed acupuncturists in the PE-CW category. Others who need CEUs may receive the certificates; however\, you will need to check with your licensing board if they will accept them. You must attend live (in real-time online) to receive the PDAs. \nWhen properly practiced\, Qigong is highly beneficial and presents minimal risk to one’s health; please consult your physician if you doubt your capabilities or have unique health concerns. \nThis class is suited to Acupuncturists\, Massage Therapists\, Chiropractors\, Qigong Instructors\, Yoga Instructors\, Martial Arts Instructors\, Reiki Practitioners\, and other professionals. No prerequisites are needed. \nClass content is for educational and general purposes only. The suggestions and information are to be used as you like. If you need medical advice\, you can contact a qualified physician or healthcare provider regarding any health and/or medical questions about your health condition. \n 
URL:https://linggui.org/course/the-wisdom-of-qian-kun-in-times-of-adversity-with-master-liu-he-livestream/
CATEGORIES:Astrology,Online,Qigong,Yi Jing
END:VEVENT
BEGIN:VEVENT
DTSTART;TZID=America/Los_Angeles:20250129T103000
DTEND;TZID=America/Los_Angeles:20250319T120000
DTSTAMP:20260422T004959
CREATED:20241112T155236Z
LAST-MODIFIED:20241113T004905Z
UID:8615-1738146600-1742385600@linggui.org
SUMMARY:Cours Hebdomadaires Le Fengshui Qigong de la Coloquinte d'Or via Zoom
DESCRIPTION:Le premier cours qui aura lieu le jour du Nouvel An chinois\, Maître Liu He enseignera le dessin\, la théorie et l’utilisation d’un Talisman pour l’année du Serpent. \nSelon la sagesse du Yijing\, l’année 2025 correspond à l’hexagramme n°49 (la révolution) ! Le changement révolutionnaire inaugure une période où le chaos émerge de l’ordre! \nL’hexagramme rappelle que même si le changement peut être un défi\, il constitue également une opportunité de croissance et de renouveau. \nPrêt à synchroniser avec l’Hexagramme #49 pour l’année 2025? \nRejoignez la série de cours: Le Fengshui Qigong de la Coloquinte d’Or avec Maître Liu He \nRedéfinissez et transformez l’énergie de votre corps grâce au programme unique de Qigong Feng Shui de la Courge d’Or. Pour de nombreux Maîtres du Feng Shui\, la coloquinte est un remède qui peut absorber l’énergie négative des étoiles 2 et 5 (Feng Shui des Neuf Étoiles Volantes). \nLes pouvoirs de la coloquinte sont fréquemment utilisés en Feng Shui pour  \n–        Repousser les Qi négatifs et contenir les Qi positifs.\n–        Favoriser la chance.\n–        Améliorer les relations.\n–        Stabiliser la santé et la richesse. \nCours Hebdomadaire: 29\, Janvier; 5\, 12\, 19\, 26 Février; 5\,12\,19 Mars 2025 \nHoraires: Mercredi de 19h30 à 21h00 (horaires de l’Europe) \nEn plus\, vous allez recevoir: \n\nUn livre électronique réalisé par Maître Liu He\, Vous pouvez donc vous concentrer sur l’écoute et pratiquer davantage.\nUne version enregistrée de chaque cours accessible pendant une semaine. Vous pourrez ainsi revoir le cours quand vous le souhaitez; si vous manquez un cours il n’y aura pas de problème.\n\nINSCRIPTION: 269 EURO\nPaypal Payment Link 269 Euro\n \n***Offre spéciale: 299 Euros: cours hebdomadaire+Fengshui du 8 Fevrier \nINSCRIPTION: 299 EURO\nPaypal Payment Link 299 Euro
URL:https://linggui.org/course/cours-hebdomadaires-le-fengshui-qigong-de-la-coloquinte-dor-via-zoom/
CATEGORIES:Astrology,Feng Shui,French,Online,Qigong,Yi Jing
END:VEVENT
END:VCALENDAR