BEGIN:VCALENDAR
VERSION:2.0
PRODID:-//Ling Gui International Healing Qigong School - ECPv6.15.20//NONSGML v1.0//EN
CALSCALE:GREGORIAN
METHOD:PUBLISH
X-WR-CALNAME:Ling Gui International Healing Qigong School
X-ORIGINAL-URL:https://linggui.org
X-WR-CALDESC:Events for Ling Gui International Healing Qigong School
REFRESH-INTERVAL;VALUE=DURATION:PT1H
X-Robots-Tag:noindex
X-PUBLISHED-TTL:PT1H
BEGIN:VTIMEZONE
TZID:America/Los_Angeles
BEGIN:DAYLIGHT
TZOFFSETFROM:-0800
TZOFFSETTO:-0700
TZNAME:PDT
DTSTART:20230312T100000
END:DAYLIGHT
BEGIN:STANDARD
TZOFFSETFROM:-0700
TZOFFSETTO:-0800
TZNAME:PST
DTSTART:20231105T090000
END:STANDARD
BEGIN:DAYLIGHT
TZOFFSETFROM:-0800
TZOFFSETTO:-0700
TZNAME:PDT
DTSTART:20240310T100000
END:DAYLIGHT
BEGIN:STANDARD
TZOFFSETFROM:-0700
TZOFFSETTO:-0800
TZNAME:PST
DTSTART:20241103T090000
END:STANDARD
BEGIN:DAYLIGHT
TZOFFSETFROM:-0800
TZOFFSETTO:-0700
TZNAME:PDT
DTSTART:20250309T100000
END:DAYLIGHT
BEGIN:STANDARD
TZOFFSETFROM:-0700
TZOFFSETTO:-0800
TZNAME:PST
DTSTART:20251102T090000
END:STANDARD
END:VTIMEZONE
BEGIN:VEVENT
DTSTART;TZID=America/Los_Angeles:20241221T093000
DTEND;TZID=America/Los_Angeles:20241221T103000
DTSTAMP:20260422T040640
CREATED:20241028T212645Z
LAST-MODIFIED:20241221T184658Z
UID:8570-1734773400-1734777000@linggui.org
SUMMARY:FREE Winter Solstice Class with Master Liu He - Livestream
DESCRIPTION:Join Master Liu He for this FREE 60-minute Winter Solstice class. This session aims to ignit our inner light and provide guidance during times of darkness. \nThis will be a 60-minute class starting at 9:30am Pacific and will be taught in English. \nNo need to register\, click on the link at the class time. This will not be recorded. \nJoin Zoom Meeting \nhttps://us02web.zoom.us/j/89356086331?pwd=Efz8Bto7cjKpj30Ib3q9ayaj1ooaUM.1 \nMeeting ID: 893 5608 6331 \nPasscode: WinterSun \n  \n  \n  \nYouTube Video Discussed in class for Mantra \n 
URL:https://linggui.org/course/free-winter-solstice-class-with-master-liu-he-livestream/
CATEGORIES:Free,Online,Qigong,Seasonal Class
END:VEVENT
END:VCALENDAR