BEGIN:VCALENDAR
VERSION:2.0
PRODID:-//Ling Gui International Healing Qigong School - ECPv6.15.20//NONSGML v1.0//EN
CALSCALE:GREGORIAN
METHOD:PUBLISH
X-ORIGINAL-URL:https://linggui.org
X-WR-CALDESC:Events for Ling Gui International Healing Qigong School
REFRESH-INTERVAL;VALUE=DURATION:PT1H
X-Robots-Tag:noindex
X-PUBLISHED-TTL:PT1H
BEGIN:VTIMEZONE
TZID:America/Los_Angeles
BEGIN:DAYLIGHT
TZOFFSETFROM:-0800
TZOFFSETTO:-0700
TZNAME:PDT
DTSTART:20230312T100000
END:DAYLIGHT
BEGIN:STANDARD
TZOFFSETFROM:-0700
TZOFFSETTO:-0800
TZNAME:PST
DTSTART:20231105T090000
END:STANDARD
BEGIN:DAYLIGHT
TZOFFSETFROM:-0800
TZOFFSETTO:-0700
TZNAME:PDT
DTSTART:20240310T100000
END:DAYLIGHT
BEGIN:STANDARD
TZOFFSETFROM:-0700
TZOFFSETTO:-0800
TZNAME:PST
DTSTART:20241103T090000
END:STANDARD
BEGIN:DAYLIGHT
TZOFFSETFROM:-0800
TZOFFSETTO:-0700
TZNAME:PDT
DTSTART:20250309T100000
END:DAYLIGHT
BEGIN:STANDARD
TZOFFSETFROM:-0700
TZOFFSETTO:-0800
TZNAME:PST
DTSTART:20251102T090000
END:STANDARD
END:VTIMEZONE
BEGIN:VEVENT
DTSTART;VALUE=DATE:20241123
DTEND;VALUE=DATE:20241125
DTSTAMP:20260422T072109
CREATED:20240628T023321Z
LAST-MODIFIED:20240923T200345Z
UID:8430-1732320000-1732492799@linggui.org
SUMMARY:Five Cranes Alchemy Qigong & Theory with Dr. Liu Dong - Livestream
DESCRIPTION:Join Dr. Liu Dong for this step into internal alchemy and self-hypnosis! \nThe Five Cranes Alchemy Qigong is a self-hypnosis practice. By practicing this form\, the three souls (Hun) in the Liver awaken the Five kinds of Qi in the Kidneys. The five Qi are transformed into five-colored smoke clouds\, which attract five white cranes to enter the human body and fly. The mind flies with the cranes\, enhancing the vitality of the brain. \n\nWhen enrolling\, you will receive:  \n  \n\nZoom Class Link for the real-time (live) online class\nClass recording link to view for 4 weeks\nFront-row seat in your own home\n\n\n\nCourse Dates: \nSaturday\, November 23 & Sunday\, November 24\,  2024\n\nTimes: \n7:00am-10:00am & 11:00am-1:00pm Pacific\nNational Certification Commission for Acupuncture and Oriental Medicine: 10 PDAs are approved through NCCAOM for licensed acupuncturists in the PE-CW category. Others who need CEUs may receive the certificates; however\, you will need to check with your licensing board if they will accept them. You must attend live (in real-time online) to receive the PDAs. \nTuition: $245 \n\nEnroll below with the payment buttons or mail in a check (see below).\nAll tuition fees once paid are non-refundable\, they are transferable to another workshop/class/retreat with a $35 transfer fee. \n\nIf Paying by Check: Download the Registration Form and enclose it with a check.  \nPlease email to advise us that you are mailing a check. Thank you. \n\n\nEnroll Here $245 \n\n\n\nWhen properly practiced Qigong\, it is extremely beneficial and presents minimal risk to one’s health; please consult your physician if you doubt your capabilities or have particular health concerns. \nThis class is suited to:  Acupuncturists\, Massage Therapists\, Chiropractors\, Qigong Instructors\, Yoga Instructors\, Martial Arts Instructors\, Reiki Practitioners\,  and other professionals. No prerequisites are needed. \n\nCourse Participant Attestation\nI understand that the information in this course presented by the Provider and/or Instructor(s) is for educational purposes only and should only be applied with appropriate clinical judgment and used by a trained and licensed practitioner. Governmental laws and regulations vary from region to region and the contents of this course vary in permissible usage. The participant is required to check their local\, state\, and federal laws and regulations regarding the practice requirements and scope of practice issues and the use of the information of this course including\, but not limited to\, theory\, herbal medicine\, and acupuncture. I acknowledge that NCCAOM does not endorse any specific treatment regimens of any kind. Furthermore\, if I use any modalities or treatments taught in this course\, I agree to waive\, release\, indemnify\, discharge\, and covenant not to sue NCCAOM from and against any liability\, claims\, demands\, or causes of action whatsoever\, arising out of any injury\, loss\, or damage that a person may sustain related to the use of the information in this course. I understand that this Release is governed by the laws of District of Columbia\, U.S.A. and shall survive the termination or expiration of this course.
URL:https://linggui.org/course/five-cranes-alchemy-qigong-theory-with-dr-liu-dong-livestream/
CATEGORIES:Online,Qigong
END:VEVENT
END:VCALENDAR