BEGIN:VCALENDAR
VERSION:2.0
PRODID:-//Ling Gui International Healing Qigong School - ECPv6.15.20//NONSGML v1.0//EN
CALSCALE:GREGORIAN
METHOD:PUBLISH
X-ORIGINAL-URL:https://linggui.org
X-WR-CALDESC:Events for Ling Gui International Healing Qigong School
REFRESH-INTERVAL;VALUE=DURATION:PT1H
X-Robots-Tag:noindex
X-PUBLISHED-TTL:PT1H
BEGIN:VTIMEZONE
TZID:America/Los_Angeles
BEGIN:DAYLIGHT
TZOFFSETFROM:-0800
TZOFFSETTO:-0700
TZNAME:PDT
DTSTART:20230312T100000
END:DAYLIGHT
BEGIN:STANDARD
TZOFFSETFROM:-0700
TZOFFSETTO:-0800
TZNAME:PST
DTSTART:20231105T090000
END:STANDARD
BEGIN:DAYLIGHT
TZOFFSETFROM:-0800
TZOFFSETTO:-0700
TZNAME:PDT
DTSTART:20240310T100000
END:DAYLIGHT
BEGIN:STANDARD
TZOFFSETFROM:-0700
TZOFFSETTO:-0800
TZNAME:PST
DTSTART:20241103T090000
END:STANDARD
BEGIN:DAYLIGHT
TZOFFSETFROM:-0800
TZOFFSETTO:-0700
TZNAME:PDT
DTSTART:20250309T100000
END:DAYLIGHT
BEGIN:STANDARD
TZOFFSETFROM:-0700
TZOFFSETTO:-0800
TZNAME:PST
DTSTART:20251102T090000
END:STANDARD
END:VTIMEZONE
BEGIN:VEVENT
DTSTART;TZID=America/Los_Angeles:20240925T113000
DTEND;TZID=America/Los_Angeles:20241113T120000
DTSTAMP:20260422T054025
CREATED:20240303T020948Z
LAST-MODIFIED:20240515T004336Z
UID:8231-1727263800-1731499200@linggui.org
SUMMARY:Cours Hebdomadaires: QIGONG de L'ASTROLOGIE des 9 Etoiles Volantes de la Grande Ourse
DESCRIPTION:QIGONG de L’ASTROLOGIE des 9 Etoiles Volantes de la Grande Ourse\nCours Hebdomadaires: 25 Septembre; 2\,9\, 16\, 23\, 30 October; 6\,13 Novembre 2024\nHoraires: Mercredi de 19h30 à 21h00 (horaires de l’Europe)\nCette année\, comme c’est une année de transition pour les prochains 20 ans\, beaucoup des gens sont perdu dans le noir et ne retrouvent pas leurs directions\, on dit “Les étoiles polaires peuvent être vues à midi”. « Faire confiance aux étoiles de la Grande Ourse. \nQIGONG de L’ASTROLOGIE des 9 Etoiles Volantes de la Grande Ourse crée par Maître Liu He fait appel aux grands concepts de la culture chinoise : Yin-Yang\, 5 éléments (ou 5 agents en mouvement)\, BaGua\, les trigrammes et hexagrammes du Yijing\, les « 9 étoiles volantes » et l’astrologie. \nC’est le moment de laisser entrer l’amour. Enlevez votre coquille de doute et faites confiance à votre désirabilité. Même lorsque la lumière du soleil est bloquée par les nuages\, le sage sait qu’il y a toujours des étoiles qui brillent dans le ciel. \nSommaire du cours de Qigong \n\n Entrée dans le Métavers\nYin Yang\, ZiWu Mudra\nMudra des 5 Eléments\nMudra des 8 Trigrammes\nLa Coupe d’eau\, la Mudra de l’Epée\nFormation des 7 lampes sur le corps\, connexion à l’étoile 8 – Terre & l’étoile 9 violette\nAstrologie: étoile correspondant à la date de naissance et à chaque animal\, influence sur le caractère/la vie de la personne\nMantra Zi Wei – étoile dominante pour chaque animal\nMarcher vers chaque étoile de la Grande Ourse\nRetour au Métavers\n\nEn plus\, vous allez recevoir: \n\nUn livre électronique réalisé par Maître Liu He\, Vous pouvez donc vous concentrer sur l’écoute et pratiquer davantage.\nUne version enregistrée de chaque cours accessible pendant une semaine. Vous pourrez ainsi revoir le cours quand vous le souhaitez; si vous manquez un cours il n’y aura pas de problème.\n\nPrix: 269 Euros\n\n \n\n***Offre spéciale: Cours hebdomadaire+Yijing du 21 Septembre \n\nPrix: 299 Euros
URL:https://linggui.org/course/cours-hebdomadaires-qigong-de-lastrologie-des-9-etoiles-volantes-de-la-grande-ourse/
CATEGORIES:Astrology,French,Online
END:VEVENT
END:VCALENDAR